| Back to Multiple platform build/check report for BioC 3.8 experimental data |
This page was generated on 2018-04-29 12:59:52 -0400 (Sun, 29 Apr 2018).
| Package 272/342 | Hostname | OS / Arch | INSTALL | BUILD | CHECK | BUILD BIN | ||||||
Nicolas Delhomme
| malbec1 | Linux (Ubuntu 16.04.1 LTS) / x86_64 | [ OK ] | ERROR | skipped |
| Package: RnaSeqTutorial |
| Version: 0.17.1 |
| Command: /home/biocbuild/bbs-3.8-bioc/R/bin/R CMD INSTALL RnaSeqTutorial |
| StartedAt: 2018-04-29 09:11:23 -0400 (Sun, 29 Apr 2018) |
| EndedAt: 2018-04-29 09:11:52 -0400 (Sun, 29 Apr 2018) |
| EllapsedTime: 29.7 seconds |
| RetCode: 0 |
| Status: OK |
############################################################################## ############################################################################## ### ### Running command: ### ### /home/biocbuild/bbs-3.8-bioc/R/bin/R CMD INSTALL RnaSeqTutorial ### ############################################################################## ############################################################################## * installing to library ‘/home/biocbuild/bbs-3.8-bioc/R/library’ * installing *source* package ‘RnaSeqTutorial’ ... ** R ** data ** inst ** byte-compile and prepare package for lazy loading ** help *** installing help indices ** building package indices ** installing vignettes ** testing if installed package can be loaded Warning: Package 'RnaSeqTutorial' is deprecated and will be removed from Bioconductor version 3.8 * DONE (RnaSeqTutorial)