| Back to Multiple platform build/check report for BioC 3.8 experimental data |
This page was generated on 2019-04-16 15:26:11 -0400 (Tue, 16 Apr 2019).
| Package 138/360 | Hostname | OS / Arch | INSTALL | BUILD | CHECK | BUILD BIN | ||||||
| GSBenchMark 1.2.0 Bahman Afsari
| malbec1 | Linux (Ubuntu 16.04.6 LTS) / x86_64 | OK | OK | [ OK ] |
| Package: GSBenchMark |
| Version: 1.2.0 |
| Command: /home/biocbuild/bbs-3.8-bioc/R/bin/R CMD check --install=check:GSBenchMark.install-out.txt --library=/home/biocbuild/bbs-3.8-bioc/R/library --no-vignettes --timings GSBenchMark_1.2.0.tar.gz |
| StartedAt: 2019-04-16 13:44:41 -0400 (Tue, 16 Apr 2019) |
| EndedAt: 2019-04-16 13:45:00 -0400 (Tue, 16 Apr 2019) |
| EllapsedTime: 18.8 seconds |
| RetCode: 0 |
| Status: OK |
| CheckDir: GSBenchMark.Rcheck |
| Warnings: 0 |
##############################################################################
##############################################################################
###
### Running command:
###
### /home/biocbuild/bbs-3.8-bioc/R/bin/R CMD check --install=check:GSBenchMark.install-out.txt --library=/home/biocbuild/bbs-3.8-bioc/R/library --no-vignettes --timings GSBenchMark_1.2.0.tar.gz
###
##############################################################################
##############################################################################
* using log directory ‘/home/biocbuild/bbs-3.8-data-experiment/meat/GSBenchMark.Rcheck’
* using R version 3.5.3 (2019-03-11)
* using platform: x86_64-pc-linux-gnu (64-bit)
* using session charset: UTF-8
* using option ‘--no-vignettes’
* checking for file ‘GSBenchMark/DESCRIPTION’ ... OK
* this is package ‘GSBenchMark’ version ‘1.2.0’
* checking package namespace information ... OK
* checking package dependencies ... OK
* checking if this is a source package ... OK
* checking if there is a namespace ... OK
* checking for hidden files and directories ... OK
* checking for portable file names ... OK
* checking for sufficient/correct file permissions ... OK
* checking whether package ‘GSBenchMark’ can be installed ... OK
* checking installed package size ... NOTE
installed size is 41.9Mb
sub-directories of 1Mb or more:
data 41.8Mb
* checking package directory ... OK
* checking ‘build’ directory ... OK
* checking DESCRIPTION meta-information ... OK
* checking top-level files ... OK
* checking for left-over files ... OK
* checking index information ... OK
* checking package subdirectories ... OK
* checking whether the package can be loaded ... OK
* checking whether the package can be loaded with stated dependencies ... OK
* checking whether the package can be unloaded cleanly ... OK
* checking whether the namespace can be loaded with stated dependencies ... OK
* checking whether the namespace can be unloaded cleanly ... OK
* checking Rd files ... OK
* checking Rd metadata ... OK
* checking Rd cross-references ... OK
* checking for missing documentation entries ... OK
* checking for code/documentation mismatches ... OK
* checking Rd \usage sections ... OK
* checking Rd contents ... OK
* checking for unstated dependencies in examples ... OK
* checking contents of ‘data’ directory ... OK
* checking data for non-ASCII characters ... OK
* checking data for ASCII and uncompressed saves ... OK
* checking files in ‘vignettes’ ... OK
* checking examples ... OK
* checking for unstated dependencies in vignettes ... OK
* checking package vignettes in ‘inst/doc’ ... OK
* checking running R code from vignettes ... SKIPPED
* checking re-building of vignette outputs ... SKIPPED
* checking PDF version of manual ... OK
* DONE
Status: 1 NOTE
See
‘/home/biocbuild/bbs-3.8-data-experiment/meat/GSBenchMark.Rcheck/00check.log’
for details.
GSBenchMark.Rcheck/00install.out
############################################################################## ############################################################################## ### ### Running command: ### ### /home/biocbuild/bbs-3.8-bioc/R/bin/R CMD INSTALL GSBenchMark ### ############################################################################## ############################################################################## * installing to library ‘/home/biocbuild/bbs-3.8-bioc/R/library’ * installing *source* package ‘GSBenchMark’ ... ** data ** help *** installing help indices ** building package indices ** installing vignettes ** testing if installed package can be loaded * DONE (GSBenchMark)
GSBenchMark.Rcheck/GSBenchMark-Ex.timings
| name | user | system | elapsed | |
| GSBenchMarkDatasets | 0.232 | 0.012 | 0.270 | |
| bipolar_GDS2190 | 0.280 | 0.016 | 0.297 | |
| breast_GDS807 | 0.252 | 0.000 | 0.254 | |
| diracpathways | 0.008 | 0.012 | 0.026 | |
| exprsdata | 0.420 | 0.016 | 0.446 | |
| leukemia_GSEA | 0.24 | 0.00 | 0.24 | |
| logexprsdata | 0.452 | 0.024 | 0.478 | |
| marfan_GDS2960 | 0.116 | 0.012 | 0.173 | |
| melanoma_GDS2735 | 0.292 | 0.008 | 0.305 | |
| parkinsons_GDS2519 | 0.540 | 0.032 | 0.577 | |
| phenotypes | 0.352 | 0.000 | 0.354 | |
| prostate_GDS2545_m_nf | 0.204 | 0.008 | 0.249 | |
| prostate_GDS2545_m_p | 0.416 | 0.020 | 0.445 | |
| prostate_GDS2545_p_nf | 0.356 | 0.004 | 0.361 | |
| sarcoma_data | 0.628 | 0.048 | 0.675 | |
| squamous_GDS2520 | 0.224 | 0.008 | 0.234 | |