| Back to Multiple platform build/check report for BioC 3.8 experimental data |
This page was generated on 2019-04-16 15:26:07 -0400 (Tue, 16 Apr 2019).
| Package 67/360 | Hostname | OS / Arch | INSTALL | BUILD | CHECK | BUILD BIN | ||||||
| ConnectivityMap 1.18.0 Paul Shannon
| malbec1 | Linux (Ubuntu 16.04.6 LTS) / x86_64 | OK | OK | [ OK ] |
| Package: ConnectivityMap |
| Version: 1.18.0 |
| Command: /home/biocbuild/bbs-3.8-bioc/R/bin/R CMD check --install=check:ConnectivityMap.install-out.txt --library=/home/biocbuild/bbs-3.8-bioc/R/library --no-vignettes --timings ConnectivityMap_1.18.0.tar.gz |
| StartedAt: 2019-04-16 13:34:33 -0400 (Tue, 16 Apr 2019) |
| EndedAt: 2019-04-16 13:37:35 -0400 (Tue, 16 Apr 2019) |
| EllapsedTime: 181.9 seconds |
| RetCode: 0 |
| Status: OK |
| CheckDir: ConnectivityMap.Rcheck |
| Warnings: 0 |
##############################################################################
##############################################################################
###
### Running command:
###
### /home/biocbuild/bbs-3.8-bioc/R/bin/R CMD check --install=check:ConnectivityMap.install-out.txt --library=/home/biocbuild/bbs-3.8-bioc/R/library --no-vignettes --timings ConnectivityMap_1.18.0.tar.gz
###
##############################################################################
##############################################################################
* using log directory ‘/home/biocbuild/bbs-3.8-data-experiment/meat/ConnectivityMap.Rcheck’
* using R version 3.5.3 (2019-03-11)
* using platform: x86_64-pc-linux-gnu (64-bit)
* using session charset: UTF-8
* using option ‘--no-vignettes’
* checking for file ‘ConnectivityMap/DESCRIPTION’ ... OK
* checking extension type ... Package
* this is package ‘ConnectivityMap’ version ‘1.18.0’
* checking package namespace information ... OK
* checking package dependencies ... OK
* checking if this is a source package ... OK
* checking if there is a namespace ... OK
* checking for hidden files and directories ... OK
* checking for portable file names ... OK
* checking for sufficient/correct file permissions ... OK
* checking whether package ‘ConnectivityMap’ can be installed ... OK
* checking installed package size ... NOTE
installed size is 236.8Mb
sub-directories of 1Mb or more:
data 236.7Mb
* checking package directory ... OK
* checking DESCRIPTION meta-information ... OK
* checking top-level files ... OK
* checking for left-over files ... OK
* checking index information ... OK
* checking package subdirectories ... OK
* checking whether the package can be loaded ... OK
* checking whether the package can be loaded with stated dependencies ... OK
* checking whether the package can be unloaded cleanly ... OK
* checking whether the namespace can be loaded with stated dependencies ... OK
* checking whether the namespace can be unloaded cleanly ... OK
* checking Rd files ... OK
* checking Rd metadata ... OK
* checking Rd cross-references ... OK
* checking for missing documentation entries ... OK
* checking for code/documentation mismatches ... OK
* checking Rd \usage sections ... OK
* checking Rd contents ... OK
* checking for unstated dependencies in examples ... OK
* checking contents of ‘data’ directory ... OK
* checking data for non-ASCII characters ... OK
* checking data for ASCII and uncompressed saves ... OK
* checking examples ... OK
Examples with CPU or elapsed time > 5s
user system elapsed
ConnectivityMap 42.36 0.404 47.767
* checking for unstated dependencies in ‘tests’ ... OK
* checking tests ...
Running ‘runTests.R’
OK
* checking PDF version of manual ... OK
* DONE
Status: 1 NOTE
See
‘/home/biocbuild/bbs-3.8-data-experiment/meat/ConnectivityMap.Rcheck/00check.log’
for details.
ConnectivityMap.Rcheck/00install.out
############################################################################## ############################################################################## ### ### Running command: ### ### /home/biocbuild/bbs-3.8-bioc/R/bin/R CMD INSTALL ConnectivityMap ### ############################################################################## ############################################################################## * installing to library ‘/home/biocbuild/bbs-3.8-bioc/R/library’ * installing *source* package ‘ConnectivityMap’ ... ** data ** inst ** help *** installing help indices ** building package indices ** testing if installed package can be loaded * DONE (ConnectivityMap)
ConnectivityMap.Rcheck/tests/runTests.Rout
R version 3.5.3 (2019-03-11) -- "Great Truth"
Copyright (C) 2019 The R Foundation for Statistical Computing
Platform: x86_64-pc-linux-gnu (64-bit)
R is free software and comes with ABSOLUTELY NO WARRANTY.
You are welcome to redistribute it under certain conditions.
Type 'license()' or 'licence()' for distribution details.
R is a collaborative project with many contributors.
Type 'contributors()' for more information and
'citation()' on how to cite R or R packages in publications.
Type 'demo()' for some demos, 'help()' for on-line help, or
'help.start()' for an HTML browser interface to help.
Type 'q()' to quit R.
> require(ConnectivityMap) || stop("unable to load ConnectivityMap")
Loading required package: ConnectivityMap
[1] TRUE
> BiocGenerics:::testPackage('ConnectivityMap')
[1] "--- test_instances"
[1] "--- test_rankMatrix"
RUNIT TEST PROTOCOL -- Tue Apr 16 13:37:32 2019
***********************************************
Number of test functions: 2
Number of errors: 0
Number of failures: 0
1 Test Suite :
ConnectivityMap RUnit Tests - 2 test functions, 0 errors, 0 failures
Number of test functions: 2
Number of errors: 0
Number of failures: 0
>
> proc.time()
user system elapsed
76.052 0.652 77.456
ConnectivityMap.Rcheck/ConnectivityMap-Ex.timings
| name | user | system | elapsed | |
| ConnectivityMap | 42.360 | 0.404 | 47.767 | |