| Back to Multiple platform build/check report for BioC 3.8 experimental data | 
This page was generated on 2019-04-16 15:26:01 -0400 (Tue, 16 Apr 2019).
| Package 149/360 | Hostname | OS / Arch | INSTALL | BUILD | CHECK | BUILD BIN | ||||||
| hapmapsnp6 1.24.0 Benilton Carvalho 
 | malbec1 | Linux (Ubuntu 16.04.6 LTS) / x86_64 | [ OK ] | OK | OK |  | 
| Package: hapmapsnp6 | 
| Version: 1.24.0 | 
| Command: /home/biocbuild/bbs-3.8-bioc/R/bin/R CMD INSTALL hapmapsnp6 | 
| StartedAt: 2019-04-16 12:01:01 -0400 (Tue, 16 Apr 2019) | 
| EndedAt: 2019-04-16 12:01:30 -0400 (Tue, 16 Apr 2019) | 
| EllapsedTime: 28.6 seconds | 
| RetCode: 0 | 
| Status: OK | 
############################################################################## ############################################################################## ### ### Running command: ### ### /home/biocbuild/bbs-3.8-bioc/R/bin/R CMD INSTALL hapmapsnp6 ### ############################################################################## ############################################################################## * installing to library ‘/home/biocbuild/bbs-3.8-bioc/R/library’ * installing *source* package ‘hapmapsnp6’ ... ** R ** data ** inst ** byte-compile and prepare package for lazy loading ** help *** installing help indices ** building package indices ** testing if installed package can be loaded * DONE (hapmapsnp6)