| Back to Multiple platform build/check report for BioC 3.8 experimental data | 
This page was generated on 2019-04-16 15:26:13 -0400 (Tue, 16 Apr 2019).
| Package 84/360 | Hostname | OS / Arch | INSTALL | BUILD | CHECK | BUILD BIN | ||||||
| diggitdata 1.14.0 Mariano Javier Alvarez 
 | malbec1 | Linux (Ubuntu 16.04.6 LTS) / x86_64 | OK | [ OK ] | OK |  | 
| Package: diggitdata | 
| Version: 1.14.0 | 
| Command: /home/biocbuild/bbs-3.8-bioc/R/bin/R CMD build --keep-empty-dirs --no-resave-data diggitdata | 
| StartedAt: 2019-04-16 12:36:41 -0400 (Tue, 16 Apr 2019) | 
| EndedAt: 2019-04-16 12:37:01 -0400 (Tue, 16 Apr 2019) | 
| EllapsedTime: 20.0 seconds | 
| RetCode: 0 | 
| Status: OK | 
| PackageFile: diggitdata_1.14.0.tar.gz | 
| PackageFileSize: 47.34 MiB | 
############################################################################## ############################################################################## ### ### Running command: ### ### /home/biocbuild/bbs-3.8-bioc/R/bin/R CMD build --keep-empty-dirs --no-resave-data diggitdata ### ############################################################################## ############################################################################## * checking for file ‘diggitdata/DESCRIPTION’ ... OK * preparing ‘diggitdata’: * checking DESCRIPTION meta-information ... OK * installing the package to build vignettes * creating vignettes ... OK * checking for LF line-endings in source and make files and shell scripts * checking for empty or unneeded directories * looking to see if a ‘data/datalist’ file should be added * building ‘diggitdata_1.14.0.tar.gz’