| Back to Multiple platform build/check report for BioC 3.8 experimental data |
This page was generated on 2019-04-16 15:26:15 -0400 (Tue, 16 Apr 2019).
| Package 118/360 | Hostname | OS / Arch | INSTALL | BUILD | CHECK | BUILD BIN | ||||||
| FlowSorted.CordBlood.450k 1.10.0 Shan V. Andrews
| malbec1 | Linux (Ubuntu 16.04.6 LTS) / x86_64 | OK | OK | [ OK ] |
| Package: FlowSorted.CordBlood.450k |
| Version: 1.10.0 |
| Command: /home/biocbuild/bbs-3.8-bioc/R/bin/R CMD check --install=check:FlowSorted.CordBlood.450k.install-out.txt --library=/home/biocbuild/bbs-3.8-bioc/R/library --no-vignettes --timings FlowSorted.CordBlood.450k_1.10.0.tar.gz |
| StartedAt: 2019-04-16 13:41:52 -0400 (Tue, 16 Apr 2019) |
| EndedAt: 2019-04-16 13:44:36 -0400 (Tue, 16 Apr 2019) |
| EllapsedTime: 163.9 seconds |
| RetCode: 0 |
| Status: OK |
| CheckDir: FlowSorted.CordBlood.450k.Rcheck |
| Warnings: 0 |
##############################################################################
##############################################################################
###
### Running command:
###
### /home/biocbuild/bbs-3.8-bioc/R/bin/R CMD check --install=check:FlowSorted.CordBlood.450k.install-out.txt --library=/home/biocbuild/bbs-3.8-bioc/R/library --no-vignettes --timings FlowSorted.CordBlood.450k_1.10.0.tar.gz
###
##############################################################################
##############################################################################
* using log directory ‘/home/biocbuild/bbs-3.8-data-experiment/meat/FlowSorted.CordBlood.450k.Rcheck’
* using R version 3.5.3 (2019-03-11)
* using platform: x86_64-pc-linux-gnu (64-bit)
* using session charset: UTF-8
* using option ‘--no-vignettes’
* checking for file ‘FlowSorted.CordBlood.450k/DESCRIPTION’ ... OK
* checking extension type ... Package
* this is package ‘FlowSorted.CordBlood.450k’ version ‘1.10.0’
* checking package namespace information ... OK
* checking package dependencies ... OK
* checking if this is a source package ... OK
* checking if there is a namespace ... OK
* checking for hidden files and directories ... OK
* checking for portable file names ... OK
* checking for sufficient/correct file permissions ... OK
* checking whether package ‘FlowSorted.CordBlood.450k’ can be installed ... OK
* checking installed package size ... NOTE
installed size is 624.7Mb
sub-directories of 1Mb or more:
data 624.6Mb
* checking package directory ... OK
* checking ‘build’ directory ... OK
* checking DESCRIPTION meta-information ... OK
* checking top-level files ... OK
* checking for left-over files ... OK
* checking index information ... OK
* checking package subdirectories ... OK
* checking whether the package can be loaded ... OK
* checking whether the package can be loaded with stated dependencies ... OK
* checking whether the package can be unloaded cleanly ... OK
* checking whether the namespace can be loaded with stated dependencies ... OK
* checking whether the namespace can be unloaded cleanly ... OK
* checking Rd files ... OK
* checking Rd metadata ... OK
* checking Rd cross-references ... OK
* checking for missing documentation entries ... OK
* checking for code/documentation mismatches ... OK
* checking Rd \usage sections ... OK
* checking Rd contents ... OK
* checking for unstated dependencies in examples ... OK
* checking contents of ‘data’ directory ... OK
* checking data for non-ASCII characters ... OK
* checking data for ASCII and uncompressed saves ... OK
* checking files in ‘vignettes’ ... OK
* checking examples ... OK
* checking for unstated dependencies in vignettes ... OK
* checking package vignettes in ‘inst/doc’ ... OK
* checking running R code from vignettes ... SKIPPED
* checking re-building of vignette outputs ... SKIPPED
* checking PDF version of manual ... OK
* DONE
Status: 1 NOTE
See
‘/home/biocbuild/bbs-3.8-data-experiment/meat/FlowSorted.CordBlood.450k.Rcheck/00check.log’
for details.
FlowSorted.CordBlood.450k.Rcheck/00install.out
############################################################################## ############################################################################## ### ### Running command: ### ### /home/biocbuild/bbs-3.8-bioc/R/bin/R CMD INSTALL FlowSorted.CordBlood.450k ### ############################################################################## ############################################################################## * installing to library ‘/home/biocbuild/bbs-3.8-bioc/R/library’ * installing *source* package ‘FlowSorted.CordBlood.450k’ ... ** data *** moving datasets to lazyload DB ** inst ** help *** installing help indices ** building package indices ** installing vignettes ** testing if installed package can be loaded * DONE (FlowSorted.CordBlood.450k)
FlowSorted.CordBlood.450k.Rcheck/FlowSorted.CordBlood.450k-Ex.timings
| name | user | system | elapsed | |
| FlowSorted.CordBlood.450k.ModelPars | 0.000 | 0.000 | 0.003 | |
| FlowSorted.CordBlood.450k | 0.000 | 0.000 | 0.002 | |
| FlowSorted.CordBlood.450k.compTable | 0.004 | 0.000 | 0.002 | |