| Back to Long tests report for BioC 3.8 |
This page was generated on 2019-04-13 19:55:02 -0400 (Sat, 13 Apr 2019).
| Package 4/4 | Hostname | OS / Arch | CHECK | |||||
| HDF5Array 1.10.1 Hervé Pagès
| malbec1 | Linux (Ubuntu 16.04.6 LTS) / x86_64 | [ ERROR ] |
| Package: HDF5Array |
| Version: 1.10.1 |
| Command: /home/biocbuild/bbs-3.8-bioc/R/bin/R CMD check --test-dir=longtests --no-stop-on-test-error --no-codoc --no-examples --no-manual --ignore-vignettes --check-subdirs=no HDF5Array_1.10.1.tar.gz |
| StartedAt: 2019-04-13 11:55:21 -0400 (Sat, 13 Apr 2019) |
| EndedAt: 2019-04-13 12:02:27 -0400 (Sat, 13 Apr 2019) |
| EllapsedTime: 425.9 seconds |
| RetCode: 1 |
| Status: ERROR |
| CheckDir: HDF5Array.Rcheck |
| Warnings: NA |
HDF5Array.Rcheck/tests/fake_test1.Rout.fail
R version 3.5.3 (2019-03-11) -- "Great Truth"
Copyright (C) 2019 The R Foundation for Statistical Computing
Platform: x86_64-pc-linux-gnu (64-bit)
R is free software and comes with ABSOLUTELY NO WARRANTY.
You are welcome to redistribute it under certain conditions.
Type 'license()' or 'licence()' for distribution details.
R is a collaborative project with many contributors.
Type 'contributors()' for more information and
'citation()' on how to cite R or R packages in publications.
Type 'demo()' for some demos, 'help()' for on-line help, or
'help.start()' for an HTML browser interface to help.
Type 'q()' to quit R.
> cat("This fake test doesn't test anything...\n")
This fake test doesn't test anything...
>
> stop("... and FAILS!\n")
Error: ... and FAILS!
Execution halted
HDF5Array.Rcheck/tests/fake_test2.Rout
R version 3.5.3 (2019-03-11) -- "Great Truth"
Copyright (C) 2019 The R Foundation for Statistical Computing
Platform: x86_64-pc-linux-gnu (64-bit)
R is free software and comes with ABSOLUTELY NO WARRANTY.
You are welcome to redistribute it under certain conditions.
Type 'license()' or 'licence()' for distribution details.
R is a collaborative project with many contributors.
Type 'contributors()' for more information and
'citation()' on how to cite R or R packages in publications.
Type 'demo()' for some demos, 'help()' for on-line help, or
'help.start()' for an HTML browser interface to help.
Type 'q()' to quit R.
> cat("This fake test doesn't test anything...\n")
This fake test doesn't test anything...
>
> cat("... and succeeds.\n")
... and succeeds.
>
>
> proc.time()
user system elapsed
0.152 0.008 0.154
HDF5Array.Rcheck/tests/fake_test3.Rout.fail
R version 3.5.3 (2019-03-11) -- "Great Truth"
Copyright (C) 2019 The R Foundation for Statistical Computing
Platform: x86_64-pc-linux-gnu (64-bit)
R is free software and comes with ABSOLUTELY NO WARRANTY.
You are welcome to redistribute it under certain conditions.
Type 'license()' or 'licence()' for distribution details.
R is a collaborative project with many contributors.
Type 'contributors()' for more information and
'citation()' on how to cite R or R packages in publications.
Type 'demo()' for some demos, 'help()' for on-line help, or
'help.start()' for an HTML browser interface to help.
Type 'q()' to quit R.
> cat("This fake test doesn't test anything...\n")
This fake test doesn't test anything...
>
> stop("... and FAILS!\n")
Error: ... and FAILS!
Execution halted
##############################################################################
##############################################################################
###
### Running command:
###
### /home/biocbuild/bbs-3.8-bioc/R/bin/R CMD check --test-dir=longtests --no-stop-on-test-error --no-codoc --no-examples --no-manual --ignore-vignettes --check-subdirs=no HDF5Array_1.10.1.tar.gz
###
##############################################################################
##############################################################################
* using log directory ‘/home/biocbuild/bbs-3.8-bioc-longtests/meat/HDF5Array.Rcheck’
* using R version 3.5.3 (2019-03-11)
* using platform: x86_64-pc-linux-gnu (64-bit)
* using session charset: UTF-8
* using options ‘--no-codoc --no-examples --no-manual --ignore-vignettes --no-stop-on-test-error’
* checking for file ‘HDF5Array/DESCRIPTION’ ... OK
* this is package ‘HDF5Array’ version ‘1.10.1’
* package encoding: UTF-8
* checking package namespace information ... OK
* checking package dependencies ...Warning: unable to access index for repository https://CRAN.R-project.org/src/contrib:
cannot open URL 'https://CRAN.R-project.org/src/contrib/PACKAGES'
OK
* checking if this is a source package ... OK
* checking if there is a namespace ... OK
* checking for hidden files and directories ... NOTE
Found the following hidden files and directories:
.BBSoptions
These were most likely included in error. See section ‘Package
structure’ in the ‘Writing R Extensions’ manual.
* checking for portable file names ... OK
* checking for sufficient/correct file permissions ... OK
* checking whether package ‘HDF5Array’ can be installed ... OK
* checking installed package size ... NOTE
installed size is 8.2Mb
sub-directories of 1Mb or more:
extdata 7.7Mb
* checking package directory ... OK
* checking DESCRIPTION meta-information ... OK
* checking top-level files ... OK
* checking for left-over files ... OK
* checking index information ... OK
* checking package subdirectories ... OK
* checking R files for non-ASCII characters ... OK
* checking R files for syntax errors ... OK
* checking whether the package can be loaded ... OK
* checking whether the package can be loaded with stated dependencies ... OK
* checking whether the package can be unloaded cleanly ... OK
* checking whether the namespace can be loaded with stated dependencies ... OK
* checking whether the namespace can be unloaded cleanly ... OK
* checking dependencies in R code ... NOTE
'library' or 'require' call to ‘SummarizedExperiment’ in package code.
Please use :: or requireNamespace() instead.
See section 'Suggested packages' in the 'Writing R Extensions' manual.
Unexported objects imported by ':::' calls:
‘BiocGenerics:::testPackage’ ‘S4Vectors:::anyMissingOrOutside’
‘S4Vectors:::extract_data_frame_rows’ ‘S4Vectors:::sapply_isNULL’
See the note in ?`:::` about the use of this operator.
* checking S3 generic/method consistency ... OK
* checking replacement functions ... OK
* checking foreign function calls ... OK
* checking R code for possible problems ... OK
* checking Rd files ... OK
* checking Rd metadata ... OK
* checking Rd cross-references ... OK
* checking for missing documentation entries ... OK
* checking for code/documentation mismatches ... SKIPPED
* checking Rd \usage sections ... OK
* checking Rd contents ... OK
* checking for unstated dependencies in examples ... OK
* checking examples ... SKIPPED
* checking for unstated dependencies in ‘longtests’ ... OK
* checking tests in ‘longtests’ ...
Running ‘fake_test1.R’
Running ‘fake_test2.R’
Running ‘fake_test3.R’
ERROR
Running the tests in ‘longtests/fake_test1.R’ failed.
Complete output:
> cat("This fake test doesn't test anything...\n")
This fake test doesn't test anything...
>
> stop("... and FAILS!\n")
Error: ... and FAILS!
Execution halted
Running the tests in ‘longtests/fake_test3.R’ failed.
Complete output:
> cat("This fake test doesn't test anything...\n")
This fake test doesn't test anything...
>
> stop("... and FAILS!\n")
Error: ... and FAILS!
Execution halted
* DONE
Status: 1 ERROR, 3 NOTEs
See
‘/home/biocbuild/bbs-3.8-bioc-longtests/meat/HDF5Array.Rcheck/00check.log’
for details.
HDF5Array.Rcheck/00install.out
* installing *source* package ‘HDF5Array’ ... ** R ** inst ** byte-compile and prepare package for lazy loading ** help *** installing help indices ** building package indices ** testing if installed package can be loaded * DONE (HDF5Array)