| Back to Multiple platform build/check report for BioC 3.7 experimental data |
This page was generated on 2018-10-16 14:18:52 -0400 (Tue, 16 Oct 2018).
| Package 271/342 | Hostname | OS / Arch | INSTALL | BUILD | CHECK | BUILD BIN | ||||||
| RnaSeqSampleSizeData 1.12.0 Shilin Zhao
| malbec2 | Linux (Ubuntu 16.04.1 LTS) / x86_64 | OK | [ OK ] | OK |
| Package: RnaSeqSampleSizeData |
| Version: 1.12.0 |
| Command: /home/biocbuild/bbs-3.7-bioc/R/bin/R CMD build --keep-empty-dirs --no-resave-data RnaSeqSampleSizeData |
| StartedAt: 2018-10-16 09:46:33 -0400 (Tue, 16 Oct 2018) |
| EndedAt: 2018-10-16 09:46:47 -0400 (Tue, 16 Oct 2018) |
| EllapsedTime: 14.4 seconds |
| RetCode: 0 |
| Status: OK |
| PackageFile: RnaSeqSampleSizeData_1.12.0.tar.gz |
| PackageFileSize: 6.03 MiB |
############################################################################## ############################################################################## ### ### Running command: ### ### /home/biocbuild/bbs-3.7-bioc/R/bin/R CMD build --keep-empty-dirs --no-resave-data RnaSeqSampleSizeData ### ############################################################################## ############################################################################## * checking for file ‘RnaSeqSampleSizeData/DESCRIPTION’ ... OK * preparing ‘RnaSeqSampleSizeData’: * checking DESCRIPTION meta-information ... OK * installing the package to build vignettes * creating vignettes ... OK * checking for LF line-endings in source and make files and shell scripts * checking for empty or unneeded directories * looking to see if a ‘data/datalist’ file should be added * building ‘RnaSeqSampleSizeData_1.12.0.tar.gz’