| Back to Multiple platform build/check report for BioC 3.7 experimental data | 
This page was generated on 2018-10-16 14:19:05 -0400 (Tue, 16 Oct 2018).
| Package 280/342 | Hostname | OS / Arch | INSTALL | BUILD | CHECK | BUILD BIN | ||||||
| RTCGA.clinical 20151101.10.0 Marcin Kosinski 
 | malbec2 | Linux (Ubuntu 16.04.1 LTS) / x86_64 | OK | [ OK ] | OK |  | 
| Package: RTCGA.clinical | 
| Version: 20151101.10.0 | 
| Command: /home/biocbuild/bbs-3.7-bioc/R/bin/R CMD build --keep-empty-dirs --no-resave-data RTCGA.clinical | 
| StartedAt: 2018-10-16 09:50:48 -0400 (Tue, 16 Oct 2018) | 
| EndedAt: 2018-10-16 09:51:53 -0400 (Tue, 16 Oct 2018) | 
| EllapsedTime: 65.6 seconds | 
| RetCode: 0 | 
| Status: OK | 
| PackageFile: RTCGA.clinical_20151101.10.0.tar.gz | 
| PackageFileSize: 13.97 MiB | 
############################################################################## ############################################################################## ### ### Running command: ### ### /home/biocbuild/bbs-3.7-bioc/R/bin/R CMD build --keep-empty-dirs --no-resave-data RTCGA.clinical ### ############################################################################## ############################################################################## * checking for file ‘RTCGA.clinical/DESCRIPTION’ ... OK * preparing ‘RTCGA.clinical’: * checking DESCRIPTION meta-information ... OK * installing the package to build vignettes * creating vignettes ... OK * checking for LF line-endings in source and make files and shell scripts * checking for empty or unneeded directories * looking to see if a ‘data/datalist’ file should be added * building ‘RTCGA.clinical_20151101.10.0.tar.gz’