| Back to Multiple platform build/check report for BioC 3.7 experimental data | 
This page was generated on 2018-10-16 14:19:37 -0400 (Tue, 16 Oct 2018).
| Package 185/342 | Hostname | OS / Arch | INSTALL | BUILD | CHECK | BUILD BIN | ||||||
| M3DExampleData 1.6.0 Tallulah Andrews 
  | malbec2 | Linux (Ubuntu 16.04.1 LTS) / x86_64 | OK | [ OK ] | WARNINGS | 
| Package: M3DExampleData | 
| Version: 1.6.0 | 
| Command: /home/biocbuild/bbs-3.7-bioc/R/bin/R CMD build --keep-empty-dirs --no-resave-data M3DExampleData | 
| StartedAt: 2018-10-16 10:02:18 -0400 (Tue, 16 Oct 2018) | 
| EndedAt: 2018-10-16 10:02:22 -0400 (Tue, 16 Oct 2018) | 
| EllapsedTime: 4.5 seconds | 
| RetCode: 0 | 
| Status: OK | 
| PackageFile: M3DExampleData_1.6.0.tar.gz | 
| PackageFileSize: 2.05 MiB | 
############################################################################## ############################################################################## ### ### Running command: ### ### /home/biocbuild/bbs-3.7-bioc/R/bin/R CMD build --keep-empty-dirs --no-resave-data M3DExampleData ### ############################################################################## ############################################################################## * checking for file ‘M3DExampleData/DESCRIPTION’ ... OK * preparing ‘M3DExampleData’: * checking DESCRIPTION meta-information ... OK * checking for LF line-endings in source and make files and shell scripts * checking for empty or unneeded directories * looking to see if a ‘data/datalist’ file should be added * building ‘M3DExampleData_1.6.0.tar.gz’