| Back to Multiple platform build/check report for BioC 3.7 experimental data | 
This page was generated on 2018-10-16 14:18:29 -0400 (Tue, 16 Oct 2018).
| Package 106/342 | Hostname | OS / Arch | INSTALL | BUILD | CHECK | BUILD BIN | ||||||
| Fletcher2013b 1.16.0 Mauro Castro 
 | malbec2 | Linux (Ubuntu 16.04.1 LTS) / x86_64 | OK | [ OK ] | OK |  | 
| Package: Fletcher2013b | 
| Version: 1.16.0 | 
| Command: /home/biocbuild/bbs-3.7-bioc/R/bin/R CMD build --keep-empty-dirs --no-resave-data Fletcher2013b | 
| StartedAt: 2018-10-16 09:37:59 -0400 (Tue, 16 Oct 2018) | 
| EndedAt: 2018-10-16 09:38:34 -0400 (Tue, 16 Oct 2018) | 
| EllapsedTime: 35.5 seconds | 
| RetCode: 0 | 
| Status: OK | 
| PackageFile: Fletcher2013b_1.16.0.tar.gz | 
| PackageFileSize: 266.5 MiB | 
############################################################################## ############################################################################## ### ### Running command: ### ### /home/biocbuild/bbs-3.7-bioc/R/bin/R CMD build --keep-empty-dirs --no-resave-data Fletcher2013b ### ############################################################################## ############################################################################## * checking for file ‘Fletcher2013b/DESCRIPTION’ ... OK * preparing ‘Fletcher2013b’: * checking DESCRIPTION meta-information ... OK * installing the package to build vignettes * creating vignettes ... OK * checking for LF line-endings in source and make files and shell scripts * checking for empty or unneeded directories * looking to see if a ‘data/datalist’ file should be added * building ‘Fletcher2013b_1.16.0.tar.gz’