| Back to Multiple platform build/check report for BioC 3.6 experimental data | 
This page was generated on 2018-04-12 12:48:59 -0400 (Thu, 12 Apr 2018).
| Package 231/326 | Hostname | OS / Arch | INSTALL | BUILD | CHECK | BUILD BIN | ||||||
| ppiData 0.16.0 Bioconductor Package Maintainer 
  | malbec1 | Linux (Ubuntu 16.04.1 LTS) / x86_64 | [ OK ] | OK | WARNINGS | 
| Package: ppiData | 
| Version: 0.16.0 | 
| Command: /home/biocbuild/bbs-3.6-bioc/R/bin/R CMD INSTALL ppiData | 
| StartedAt: 2018-04-12 08:56:13 -0400 (Thu, 12 Apr 2018) | 
| EndedAt: 2018-04-12 08:56:24 -0400 (Thu, 12 Apr 2018) | 
| EllapsedTime: 10.8 seconds | 
| RetCode: 0 | 
| Status: OK | 
############################################################################## ############################################################################## ### ### Running command: ### ### /home/biocbuild/bbs-3.6-bioc/R/bin/R CMD INSTALL ppiData ### ############################################################################## ############################################################################## * installing to library ‘/home/biocbuild/bbs-3.6-bioc/R/library’ * installing *source* package ‘ppiData’ ... ** R ** data *** moving datasets to lazyload DB ** inst ** preparing package for lazy loading ** help *** installing help indices ** building package indices ** installing vignettes ** testing if installed package can be loaded * DONE (ppiData)