| ncdfFlow 2.22.2 Mike Jiang
 
 | Snapshot Date: 2017-10-17 17:00:52 -0400 (Tue, 17 Oct 2017) |  | URL: https://git.bioconductor.org/packages/ncdfFlow |  | Branch: RELEASE_3_5 |  | Last Commit: e959176 |  | Last Changed Date: 2017-09-12 14:28:30 -0400 (Tue, 12 Sep 2017) | 
 | malbec2 | Linux (Ubuntu 16.04.1 LTS) / x86_64 | OK | [ OK ] | OK |  |  | 
| tokay2 | Windows Server 2012 R2 Standard / x64 | OK | OK | OK | OK |  | 
| veracruz2 | OS X 10.11.6 El Capitan / x86_64 | OK | OK | OK | OK |  | 
##############################################################################
##############################################################################
###
### Running command:
###
###   /home/biocbuild/bbs-3.5-bioc/R/bin/R CMD build --keep-empty-dirs --no-resave-data ncdfFlow
###
##############################################################################
##############################################################################
* checking for file ‘ncdfFlow/DESCRIPTION’ ... OK
* preparing ‘ncdfFlow’:
* checking DESCRIPTION meta-information ... OK
* cleaning src
* running ‘cleanup’
* installing the package to build vignettes
* creating vignettes ... OK
* cleaning src
* running ‘cleanup’
* checking for LF line-endings in source and make files and shell scripts
* checking for empty or unneeded directories
* building ‘ncdfFlow_2.22.2.tar.gz’