flowCore 1.42.3 M.Jiang
 | Snapshot Date: 2017-10-17 17:00:52 -0400 (Tue, 17 Oct 2017) |  | URL: https://git.bioconductor.org/packages/flowCore |  | Branch: RELEASE_3_5 |  | Last Commit: 3d8a9ce |  | Last Changed Date: 2017-09-11 14:33:07 -0400 (Mon, 11 Sep 2017) |  
  | malbec2  | Linux (Ubuntu 16.04.1 LTS) / x86_64  |  OK  |  OK  |  WARNINGS  |  |   | 
| tokay2  | Windows Server 2012 R2 Standard / x64  |  OK  |  OK  |  WARNINGS  | [ OK ] |   | 
| veracruz2  | OS X 10.11.6 El Capitan / x86_64  |  OK  |  OK  |  WARNINGS  |  OK  |   | 
##############################################################################
##############################################################################
###
### Running command:
###
###   cd flowCore.buildbin-libdir/flowCore && zip -r ../../flowCore_1.42.3.zip . & cd ../..
###
##############################################################################
##############################################################################
  adding: data/ (304 bytes security) (stored 0%)
  adding: data/datalist (264 bytes security) (stored 0%)
  adding: data/GvHD.rda (264 bytes security) (deflated 0%)
  adding: DESCRIPTION (264 bytes security) (deflated 51%)
  adding: doc/ (304 bytes security) (stored 0%)
  adding: doc/HowTo-flowCore.pdf (264 bytes security) (deflated 19%)
  adding: doc/HowTo-flowCore.R (264 bytes security) (deflated 76%)
  adding: doc/HowTo-flowCore.Rnw (264 bytes security) (deflated 66%)
  adding: doc/index.html (264 bytes security) (deflated 58%)
  adding: extdata/ (304 bytes security) (stored 0%)
  adding: extdata/0877408774.B08 (264 bytes security) (deflated 30%)
  adding: extdata/0877408774.E07 (264 bytes security) (deflated 29%)
  adding: extdata/0877408774.F06 (264 bytes security) (deflated 33%)
  adding: extdata/compdata/ (304 bytes security) (stored 0%)
  adding: extdata/compdata/compmatrix (264 bytes security) (deflated 22%)
  adding: extdata/compdata/data/ (304 bytes security) (stored 0%)
  adding: extdata/compdata/data/060909.001 (264 bytes security) (deflated 39%)
  adding: extdata/compdata/data/060909.002 (264 bytes security) (deflated 32%)
  adding: extdata/compdata/data/060909.003 (264 bytes security) (deflated 37%)
  adding: extdata/compdata/data/060909.004 (264 bytes security) (deflated 39%)
  adding: extdata/compdata/data/060909.005 (264 bytes security) (deflated 36%)
  adding: help/ (304 bytes security) (stored 0%)
  adding: help/aliases.rds (264 bytes security) (stored 0%)
  adding: help/AnIndex (264 bytes security) (deflated 87%)
  adding: help/flowCore.rdb (264 bytes security) (deflated 1%)
  adding: help/flowCore.rdx (264 bytes security) (deflated 1%)
  adding: help/paths.rds (264 bytes security) (stored 0%)
  adding: html/ (304 bytes security) (stored 0%)
  adding: html/00Index.html (264 bytes security) (deflated 92%)
  adding: html/R.css (264 bytes security) (deflated 75%)
  adding: INDEX (264 bytes security) (deflated 75%)
  adding: lib/ (412 bytes security) (stored 0%)
  adding: lib/i386/ (412 bytes security) (stored 0%)
  adding: lib/i386/libboost_regex.a (264 bytes security) (deflated 79%)
  adding: lib/x64/ (412 bytes security) (stored 0%)
  adding: lib/x64/libboost_regex.a (264 bytes security) (deflated 80%)
  adding: libs/ (304 bytes security) (stored 0%)
  adding: libs/i386/ (304 bytes security) (stored 0%)
  adding: libs/i386/flowCore.dll (264 bytes security) (deflated 66%)
  adding: libs/x64/ (304 bytes security) (stored 0%)
  adding: libs/x64/flowCore.dll (264 bytes security) (deflated 67%)
  adding: MD5 (264 bytes security) (deflated 49%)
  adding: Meta/ (304 bytes security) (stored 0%)
  adding: Meta/data.rds (264 bytes security) (stored 0%)
  adding: Meta/features.rds (264 bytes security) (stored 0%)
  adding: Meta/hsearch.rds (264 bytes security) (deflated 2%)
  adding: Meta/links.rds (264 bytes security) (stored 0%)
  adding: Meta/nsInfo.rds (264 bytes security) (stored 0%)
  adding: Meta/package.rds (264 bytes security) (stored 0%)
  adding: Meta/Rd.rds (264 bytes security) (stored 0%)
  adding: Meta/vignette.rds (264 bytes security) (stored 0%)
  adding: NAMESPACE (264 bytes security) (deflated 79%)
  adding: NEWS (264 bytes security) (deflated 54%)
  adding: R/ (304 bytes security) (stored 0%)
  adding: R/flowCore (264 bytes security) (deflated 41%)
  adding: R/flowCore.rdb (264 bytes security) (deflated 28%)
  adding: R/flowCore.rdx (264 bytes security) (deflated 3%)
  adding: scripts/ (304 bytes security) (stored 0%)
  adding: scripts/smoothScatter/ (304 bytes security) (stored 0%)
  adding: scripts/smoothScatter/backcol.jpg (264 bytes security) (deflated 2%)
  adding: scripts/smoothScatter/backgray.jpg (264 bytes security) (deflated 72%)
  adding: scripts/smoothScatter/backhue.jpg (264 bytes security) (deflated 1%)
  adding: scripts/smoothScatter/backsat.jpg (264 bytes security) (deflated 0%)
  adding: scripts/smoothScatter/backval.jpg (264 bytes security) (deflated 0%)
  adding: scripts/smoothScatter/blendFuns.R (264 bytes security) (deflated 68%)
  adding: scripts/smoothScatter/examples.R (264 bytes security) (deflated 74%)
  adding: scripts/smoothScatter/foreground.jpg (264 bytes security) (deflated 0%)
  adding: scripts/smoothScatter/smoothScatterMult.R (264 bytes security) (deflated 65%)
  adding: scripts/smoothScatter/testBlendEBImage.R (264 bytes security) (deflated 67%)