chipseq 1.26.1 Bioconductor Package Maintainer
 | Snapshot Date: 2017-10-17 17:00:52 -0400 (Tue, 17 Oct 2017) |  | URL: https://git.bioconductor.org/packages/chipseq |  | Branch: RELEASE_3_5 |  | Last Commit: a661c6a |  | Last Changed Date: 2017-09-01 00:49:49 -0400 (Fri, 01 Sep 2017) |  
  | malbec2  | Linux (Ubuntu 16.04.1 LTS) / x86_64  |  OK  |  OK  |  WARNINGS  |  |   | 
| tokay2  | Windows Server 2012 R2 Standard / x64  |  OK  | [ OK ] |  WARNINGS  |  OK  |   | 
| veracruz2  | OS X 10.11.6 El Capitan / x86_64  |  OK  |  OK  |  WARNINGS  |  OK  |   | 
##############################################################################
##############################################################################
###
### Running command:
###
###   chmod a+r chipseq -R && C:\Users\biocbuild\bbs-3.5-bioc\R\bin\R.exe CMD build --keep-empty-dirs --no-resave-data chipseq
###
##############################################################################
##############################################################################
* checking for file 'chipseq/DESCRIPTION' ... OK
* preparing 'chipseq':
* checking DESCRIPTION meta-information ... OK
* cleaning src
* installing the package to build vignettes
* creating vignettes ... OK
* cleaning src
* checking for LF line-endings in source and make files and shell scripts
* checking for empty or unneeded directories
WARNING: directory 'chipseq/inst/Scripts/figs' is empty
* looking to see if a 'data/datalist' file should be added
* building 'chipseq_1.26.1.tar.gz'