annotate 1.54.0 Bioconductor Package Maintainer
 | Snapshot Date: 2017-10-17 17:00:52 -0400 (Tue, 17 Oct 2017) |  | URL: https://git.bioconductor.org/packages/annotate |  | Branch: RELEASE_3_5 |  | Last Commit: 860cc5b |  | Last Changed Date: 2017-04-24 15:45:44 -0400 (Mon, 24 Apr 2017) |  
  | malbec2  | Linux (Ubuntu 16.04.1 LTS) / x86_64  |  OK  |  OK  |  OK  |  |   | 
| tokay2  | Windows Server 2012 R2 Standard / x64  |  OK  |  OK  |  OK  | [ OK ] |   | 
| veracruz2  | OS X 10.11.6 El Capitan / x86_64  |  OK  |  OK  |  OK  |  OK  |   | 
##############################################################################
##############################################################################
###
### Running command:
###
###   cd annotate.buildbin-libdir/annotate && zip -r ../../annotate_1.54.0.zip . & cd ../..
###
##############################################################################
##############################################################################
  adding: data/ (304 bytes security) (stored 0%)
  adding: data/hgByChroms.rda (264 bytes security) (deflated 0%)
  adding: data/hgCLengths.rda (264 bytes security) (stored 0%)
  adding: data/hgu95Achroloc.rda (264 bytes security) (deflated 0%)
  adding: data/hgu95Achrom.rda (264 bytes security) (deflated 0%)
  adding: data/hgu95All.rda (264 bytes security) (deflated 0%)
  adding: data/hgu95AProbLocs.rda (264 bytes security) (deflated 0%)
  adding: data/hgu95Asym.rda (264 bytes security) (deflated 0%)
  adding: DESCRIPTION (264 bytes security) (deflated 40%)
  adding: doc/ (304 bytes security) (stored 0%)
  adding: doc/annotate.pdf (264 bytes security) (deflated 8%)
  adding: doc/annotate.R (264 bytes security) (deflated 77%)
  adding: doc/annotate.Rnw (264 bytes security) (deflated 59%)
  adding: doc/chromLoc.pdf (264 bytes security) (deflated 11%)
  adding: doc/chromLoc.R (264 bytes security) (deflated 63%)
  adding: doc/chromLoc.Rnw (264 bytes security) (deflated 59%)
  adding: doc/GOusage.pdf (264 bytes security) (deflated 9%)
  adding: doc/GOusage.R (264 bytes security) (deflated 76%)
  adding: doc/GOusage.Rnw (264 bytes security) (deflated 61%)
  adding: doc/index.html (264 bytes security) (deflated 81%)
  adding: doc/prettyOutput.pdf (264 bytes security) (deflated 8%)
  adding: doc/prettyOutput.R (264 bytes security) (deflated 68%)
  adding: doc/prettyOutput.Rnw (264 bytes security) (deflated 57%)
  adding: doc/query.pdf (264 bytes security) (deflated 8%)
  adding: doc/query.R (264 bytes security) (deflated 71%)
  adding: doc/query.Rnw (264 bytes security) (deflated 60%)
  adding: doc/useDataPkgs.pdf (264 bytes security) (deflated 8%)
  adding: doc/useDataPkgs.R (264 bytes security) (deflated 76%)
  adding: doc/useDataPkgs.Rnw (264 bytes security) (deflated 62%)
  adding: doc/useHomology.pdf (264 bytes security) (deflated 7%)
  adding: doc/useHomology.R (264 bytes security) (deflated 70%)
  adding: doc/useHomology.Rnw (264 bytes security) (deflated 61%)
  adding: doc/useProbeInfo.pdf (264 bytes security) (deflated 6%)
  adding: doc/useProbeInfo.R (264 bytes security) (deflated 72%)
  adding: doc/useProbeInfo.Rnw (264 bytes security) (deflated 56%)
  adding: help/ (304 bytes security) (stored 0%)
  adding: help/aliases.rds (264 bytes security) (stored 0%)
  adding: help/AnIndex (264 bytes security) (deflated 77%)
  adding: help/annotate.rdb (264 bytes security) (deflated 2%)
  adding: help/annotate.rdx (264 bytes security) (stored 0%)
  adding: help/paths.rds (264 bytes security) (stored 0%)
  adding: html/ (304 bytes security) (stored 0%)
  adding: html/00Index.html (264 bytes security) (deflated 87%)
  adding: html/R.css (264 bytes security) (deflated 75%)
  adding: INDEX (264 bytes security) (deflated 68%)
  adding: MD5 (264 bytes security) (deflated 46%)
  adding: Meta/ (304 bytes security) (stored 0%)
  adding: Meta/data.rds (264 bytes security) (stored 0%)
  adding: Meta/features.rds (264 bytes security) (stored 0%)
  adding: Meta/hsearch.rds (264 bytes security) (stored 0%)
  adding: Meta/links.rds (264 bytes security) (stored 0%)
  adding: Meta/nsInfo.rds (264 bytes security) (stored 0%)
  adding: Meta/package.rds (264 bytes security) (stored 0%)
  adding: Meta/Rd.rds (264 bytes security) (stored 0%)
  adding: Meta/vignette.rds (264 bytes security) (stored 0%)
  adding: misc/ (304 bytes security) (stored 0%)
  adding: misc/demowrite.html (264 bytes security) (deflated 85%)
  adding: misc/pmLinkGen.pdf (264 bytes security) (deflated 11%)
  adding: misc/pmLinkGen.Rnw (264 bytes security) (deflated 59%)
  adding: NAMESPACE (264 bytes security) (deflated 72%)
  adding: NEWS.Rd (264 bytes security) (deflated 51%)
  adding: R/ (304 bytes security) (stored 0%)
  adding: R/annotate (264 bytes security) (deflated 41%)
  adding: R/annotate.rdb (264 bytes security) (deflated 23%)
  adding: R/annotate.rdx (264 bytes security) (deflated 1%)
  adding: unitTests/ (304 bytes security) (stored 0%)
  adding: unitTests/test_getAnnMap.R (264 bytes security) (deflated 40%)