| h5vcData 1.107.0 Paul Theodor Pyl
 
 | Snapshot Date: 2016-09-17 09:20:18 -0700 (Sat, 17 Sep 2016) |  | URL: https://hedgehog.fhcrc.org/bioc-data/trunk/experiment/pkgs/h5vcData |  | Last Changed Rev: 3763 / Revision: 3889 |  | Last Changed Date: 2016-05-03 14:48:02 -0700 (Tue, 03 May 2016) | 
 | zin1 | Linux (Ubuntu 16.04 LTS) / x86_64 | [ OK ] | OK | OK |  |  | 
##############################################################################
##############################################################################
###
### Running command:
###
###   /home/biocbuild/bbs-3.4-bioc/R/bin/R CMD INSTALL h5vcData
###
##############################################################################
##############################################################################
* installing to library ‘/home/biocbuild/bbs-3.4-bioc/R/library’
* installing *source* package ‘h5vcData’ ...
** R
** data
** inst
** preparing package for lazy loading
** help
*** installing help indices
** building package indices
** testing if installed package can be loaded
* DONE (h5vcData)