GGdata 1.9.0 VJ Carey
 | Snapshot Date: 2015-10-24 10:15:05 -0400 (Sat, 24 Oct 2015) |  | URL: https://hedgehog.fhcrc.org/bioc-data/trunk/experiment/pkgs/GGdata |  | Last Changed Rev: 3462 / Revision: 3473 |  | Last Changed Date: 2015-10-13 16:20:35 -0400 (Tue, 13 Oct 2015) |  
  | linux2.bioconductor.org  | Linux (Ubuntu 14.04.2 LTS) / x86_64  |  OK  |  OK  |  OK  |  |   | 
| windows2.bioconductor.org  | Windows Server 2012 R2 Enterprise SP1 (64-bit) / x64  | [ OK ] |  OK  |  OK  |  OK  |  | 
| morelia  | Mac OS X Mavericks (10.9.5) / x86_64  |  OK  |  OK  |  OK  |  OK  |  | 
##############################################################################
##############################################################################
###
### Running command:
###
###   c:\biocbld\bbs-3.3-bioc\R\bin\R.exe --arch i386 CMD INSTALL --no-multiarch GGdata
###
##############################################################################
##############################################################################
* installing to library 'c:/biocbld/bbs-3.3-bioc/R/library'
* installing *source* package 'GGdata' ...
** R
** data
** inst
** preparing package for lazy loading
** help
*** installing help indices
** building package indices
** testing if installed package can be loaded
* DONE (GGdata)