AnnotationHub 2.3.2 Bioconductor Package Maintainer
 | Snapshot Date: 2015-10-26 20:20:04 -0400 (Mon, 26 Oct 2015) |  | URL: https://hedgehog.fhcrc.org/bioconductor/trunk/madman/Rpacks/AnnotationHub |  | Last Changed Rev: 109689 / Revision: 109948 |  | Last Changed Date: 2015-10-16 10:50:27 -0400 (Fri, 16 Oct 2015) |  
  | linux2.bioconductor.org  | Linux (Ubuntu 14.04.2 LTS) / x86_64  |  OK  |  OK  |  OK  |  |   | 
| windows2.bioconductor.org  | Windows Server 2012 R2 Enterprise SP1 (64-bit) / x64  |  OK  |  OK  |  OK  | [ OK ] |   | 
##############################################################################
##############################################################################
###
### Running command:
###
###   cd AnnotationHub.buildbin-libdir/AnnotationHub && zip -r ../../AnnotationHub_2.3.2.zip . & cd ../..
###
##############################################################################
##############################################################################
  adding: DESCRIPTION (188 bytes security) (deflated 50%)
  adding: doc/ (208 bytes security) (stored 0%)
  adding: doc/AnnotationHub-HOWTO.html (188 bytes security) (deflated 75%)
  adding: doc/AnnotationHub-HOWTO.Rmd (188 bytes security) (deflated 60%)
  adding: doc/AnnotationHub.html (188 bytes security) (deflated 33%)
  adding: doc/AnnotationHub.Rmd (188 bytes security) (deflated 59%)
  adding: doc/AnnotationHubRecipes.html (188 bytes security) (deflated 63%)
  adding: doc/AnnotationHubRecipes.Rmd (188 bytes security) (deflated 62%)
  adding: doc/index.html (188 bytes security) (deflated 73%)
  adding: help/ (208 bytes security) (stored 0%)
  adding: help/aliases.rds (188 bytes security) (stored 0%)
  adding: help/AnIndex (188 bytes security) (deflated 84%)
  adding: help/AnnotationHub.rdb (188 bytes security) (deflated 0%)
  adding: help/AnnotationHub.rdx (188 bytes security) (stored 0%)
  adding: help/paths.rds (188 bytes security) (stored 0%)
  adding: html/ (208 bytes security) (stored 0%)
  adding: html/00Index.html (188 bytes security) (deflated 87%)
  adding: html/R.css (188 bytes security) (deflated 75%)
  adding: INDEX (188 bytes security) (deflated 41%)
  adding: MD5 (188 bytes security) (deflated 46%)
  adding: Meta/ (208 bytes security) (stored 0%)
  adding: Meta/hsearch.rds (188 bytes security) (stored 0%)
  adding: Meta/links.rds (188 bytes security) (stored 0%)
  adding: Meta/nsInfo.rds (188 bytes security) (stored 0%)
  adding: Meta/package.rds (188 bytes security) (stored 0%)
  adding: Meta/Rd.rds (188 bytes security) (stored 0%)
  adding: Meta/vignette.rds (188 bytes security) (stored 0%)
  adding: NAMESPACE (188 bytes security) (deflated 51%)
  adding: NEWS (188 bytes security) (deflated 54%)
  adding: R/ (208 bytes security) (stored 0%)
  adding: R/AnnotationHub (188 bytes security) (deflated 41%)
  adding: R/AnnotationHub.rdb (188 bytes security) (deflated 28%)
  adding: R/AnnotationHub.rdx (188 bytes security) (stored 0%)
  adding: scripts/ (208 bytes security) (stored 0%)
  adding: scripts/shinyTest.R (188 bytes security) (deflated 81%)
  adding: scripts/test.R (188 bytes security) (deflated 63%)
  adding: unitTests/ (208 bytes security) (stored 0%)
  adding: unitTests/test_AnnotationHub-class.R (188 bytes security) (deflated 60%)
  adding: unitTests/test_cache.R (188 bytes security) (deflated 56%)
  adding: unitTests/test_tidyGRanges.R (188 bytes security) (deflated 72%)
  adding: unitTests/test_utilities.R (188 bytes security) (deflated 11%)