Back to Build/check report for BioC 3.23 experimental data
ABCDEFGHIJKLMNOPQR[S]TUVWXYZ

This page was generated on 2025-11-04 15:01 -0500 (Tue, 04 Nov 2025).

HostnameOSArch (*)R versionInstalled pkgs
nebbiolo1Linux (Ubuntu 24.04.3 LTS)x86_64R Under development (unstable) (2025-10-20 r88955) -- "Unsuffered Consequences" 4809
Click on any hostname to see more info about the system (e.g. compilers)      (*) as reported by 'uname -p', except on Windows and Mac OS X

Package 356/431HostnameOS / ArchINSTALLBUILDCHECK
scRNAseq 2.25.0  (landing page)
Aaron Lun
Snapshot Date: 2025-11-04 07:00 -0500 (Tue, 04 Nov 2025)
git_url: https://git.bioconductor.org/packages/scRNAseq
git_branch: devel
git_last_commit: 2fad4dd
git_last_commit_date: 2025-10-29 09:58:50 -0500 (Wed, 29 Oct 2025)
nebbiolo1Linux (Ubuntu 24.04.3 LTS) / x86_64  OK    OK    OK  NO, package depends on 'ensembldb' which is not available


CHECK results for scRNAseq on nebbiolo1

To the developers/maintainers of the scRNAseq package:
- Use the following Renviron settings to reproduce errors and warnings.
- If 'R CMD check' started to fail recently on the Linux builder(s) over a missing dependency, add the missing dependency to 'Suggests:' in your DESCRIPTION file. See Renviron.bioc for more information.

raw results


Summary

Package: scRNAseq
Version: 2.25.0
Command: /home/biocbuild/bbs-3.23-bioc/R/bin/R CMD check --install=check:scRNAseq.install-out.txt --library=/home/biocbuild/bbs-3.23-bioc/R/site-library --timings scRNAseq_2.25.0.tar.gz
StartedAt: 2025-11-04 12:54:31 -0500 (Tue, 04 Nov 2025)
EndedAt: 2025-11-04 13:11:13 -0500 (Tue, 04 Nov 2025)
EllapsedTime: 1002.1 seconds
RetCode: 0
Status:   OK  
CheckDir: scRNAseq.Rcheck
Warnings: 0

Command output

##############################################################################
##############################################################################
###
### Running command:
###
###   /home/biocbuild/bbs-3.23-bioc/R/bin/R CMD check --install=check:scRNAseq.install-out.txt --library=/home/biocbuild/bbs-3.23-bioc/R/site-library --timings scRNAseq_2.25.0.tar.gz
###
##############################################################################
##############################################################################


* using log directory ‘/home/biocbuild/bbs-3.23-data-experiment/meat/scRNAseq.Rcheck’
* using R Under development (unstable) (2025-10-20 r88955)
* using platform: x86_64-pc-linux-gnu
* R was compiled by
    gcc (Ubuntu 13.3.0-6ubuntu2~24.04) 13.3.0
    GNU Fortran (Ubuntu 13.3.0-6ubuntu2~24.04) 13.3.0
* running under: Ubuntu 24.04.3 LTS
* using session charset: UTF-8
* checking for file ‘scRNAseq/DESCRIPTION’ ... OK
* this is package ‘scRNAseq’ version ‘2.25.0’
* package encoding: UTF-8
* checking package namespace information ... OK
* checking package dependencies ... OK
* checking if this is a source package ... OK
* checking if there is a namespace ... OK
* checking for hidden files and directories ... NOTE
Found the following hidden files and directories:
  .BBSoptions
These were most likely included in error. See section ‘Package
structure’ in the ‘Writing R Extensions’ manual.
* checking for portable file names ... OK
* checking for sufficient/correct file permissions ... OK
* checking whether package ‘scRNAseq’ can be installed ... OK
* checking installed package size ... OK
* checking package directory ... OK
* checking ‘build’ directory ... OK
* checking DESCRIPTION meta-information ... OK
* checking top-level files ... OK
* checking for left-over files ... OK
* checking index information ... OK
* checking package subdirectories ... OK
* checking code files for non-ASCII characters ... OK
* checking R files for syntax errors ... OK
* checking whether the package can be loaded ... OK
* checking whether the package can be loaded with stated dependencies ... OK
* checking whether the package can be unloaded cleanly ... OK
* checking whether the namespace can be loaded with stated dependencies ... OK
* checking whether the namespace can be unloaded cleanly ... OK
* checking loading without being on the library search path ... OK
* checking dependencies in R code ... OK
* checking S3 generic/method consistency ... OK
* checking replacement functions ... OK
* checking foreign function calls ... OK
* checking R code for possible problems ... OK
* checking Rd files ... OK
* checking Rd metadata ... OK
* checking Rd cross-references ... OK
* checking for missing documentation entries ... OK
* checking for code/documentation mismatches ... OK
* checking Rd \usage sections ... OK
* checking Rd contents ... OK
* checking for unstated dependencies in examples ... OK
* checking files in ‘vignettes’ ... OK
* checking examples ... OK
Examples with CPU (user + system) or elapsed time > 5s
                           user system elapsed
BhaduriOrganoidData      24.115  9.469  33.913
BacherTCellData          17.274  5.658  23.947
ZeiselNervousData        14.710  6.108  22.266
HeOrganAtlasData         13.041  7.256  20.840
ErnstSpermatogenesisData 11.315  5.028  17.643
JessaBrainData           10.247  4.550  16.430
StoeckiusHashingData      9.024  2.395  12.347
ZhaoImmuneLiverData       6.524  3.399  10.637
GiladiHSCData             5.739  2.600   9.364
BachMammaryData           6.973  1.246   9.159
LunSpikeInData            6.024  1.399   8.105
AztekinTailData           6.348  0.746   7.306
KolodziejczykESCData      4.427  1.266   6.005
NestorowaHSCData          4.321  1.098   5.815
MessmerESCData            4.150  0.965   5.368
ZilionisLungData          4.045  0.897   5.358
BuettnerESCData           3.441  0.919   5.025
* checking for unstated dependencies in ‘tests’ ... OK
* checking tests ...
  Running ‘testthat.R’
 OK
* checking for unstated dependencies in vignettes ... OK
* checking package vignettes ... OK
* checking re-building of vignette outputs ... OK
* checking PDF version of manual ... OK
* DONE

Status: 1 NOTE
See
  ‘/home/biocbuild/bbs-3.23-data-experiment/meat/scRNAseq.Rcheck/00check.log’
for details.


Installation output

scRNAseq.Rcheck/00install.out

##############################################################################
##############################################################################
###
### Running command:
###
###   /home/biocbuild/bbs-3.23-bioc/R/bin/R CMD INSTALL scRNAseq
###
##############################################################################
##############################################################################


* installing to library ‘/home/biocbuild/bbs-3.23-bioc/R/site-library’
* installing *source* package ‘scRNAseq’ ...
** this is package ‘scRNAseq’ version ‘2.25.0’
** using staged installation
** R
** inst
** byte-compile and prepare package for lazy loading
** help
*** installing help indices
** building package indices
** installing vignettes
** testing if installed package can be loaded from temporary location
** testing if installed package can be loaded from final location
** testing if installed package keeps a record of temporary installation path
* DONE (scRNAseq)

Tests output

scRNAseq.Rcheck/tests/testthat.Rout


R Under development (unstable) (2025-10-20 r88955) -- "Unsuffered Consequences"
Copyright (C) 2025 The R Foundation for Statistical Computing
Platform: x86_64-pc-linux-gnu

R is free software and comes with ABSOLUTELY NO WARRANTY.
You are welcome to redistribute it under certain conditions.
Type 'license()' or 'licence()' for distribution details.

R is a collaborative project with many contributors.
Type 'contributors()' for more information and
'citation()' on how to cite R or R packages in publications.

Type 'demo()' for some demos, 'help()' for on-line help, or
'help.start()' for an HTML browser interface to help.
Type 'q()' to quit R.

> library(testthat)
> library(scRNAseq)
Loading required package: SingleCellExperiment
Loading required package: SummarizedExperiment
Loading required package: MatrixGenerics
Loading required package: matrixStats

Attaching package: 'MatrixGenerics'

The following objects are masked from 'package:matrixStats':

    colAlls, colAnyNAs, colAnys, colAvgsPerRowSet, colCollapse,
    colCounts, colCummaxs, colCummins, colCumprods, colCumsums,
    colDiffs, colIQRDiffs, colIQRs, colLogSumExps, colMadDiffs,
    colMads, colMaxs, colMeans2, colMedians, colMins, colOrderStats,
    colProds, colQuantiles, colRanges, colRanks, colSdDiffs, colSds,
    colSums2, colTabulates, colVarDiffs, colVars, colWeightedMads,
    colWeightedMeans, colWeightedMedians, colWeightedSds,
    colWeightedVars, rowAlls, rowAnyNAs, rowAnys, rowAvgsPerColSet,
    rowCollapse, rowCounts, rowCummaxs, rowCummins, rowCumprods,
    rowCumsums, rowDiffs, rowIQRDiffs, rowIQRs, rowLogSumExps,
    rowMadDiffs, rowMads, rowMaxs, rowMeans2, rowMedians, rowMins,
    rowOrderStats, rowProds, rowQuantiles, rowRanges, rowRanks,
    rowSdDiffs, rowSds, rowSums2, rowTabulates, rowVarDiffs, rowVars,
    rowWeightedMads, rowWeightedMeans, rowWeightedMedians,
    rowWeightedSds, rowWeightedVars

Loading required package: GenomicRanges
Loading required package: stats4
Loading required package: BiocGenerics
Loading required package: generics

Attaching package: 'generics'

The following objects are masked from 'package:base':

    as.difftime, as.factor, as.ordered, intersect, is.element, setdiff,
    setequal, union


Attaching package: 'BiocGenerics'

The following objects are masked from 'package:stats':

    IQR, mad, sd, var, xtabs

The following objects are masked from 'package:base':

    Filter, Find, Map, Position, Reduce, anyDuplicated, aperm, append,
    as.data.frame, basename, cbind, colnames, dirname, do.call,
    duplicated, eval, evalq, get, grep, grepl, is.unsorted, lapply,
    mapply, match, mget, order, paste, pmax, pmax.int, pmin, pmin.int,
    rank, rbind, rownames, sapply, saveRDS, table, tapply, unique,
    unsplit, which.max, which.min

Loading required package: S4Vectors

Attaching package: 'S4Vectors'

The following object is masked from 'package:utils':

    findMatches

The following objects are masked from 'package:base':

    I, expand.grid, unname

Loading required package: IRanges
Loading required package: Seqinfo
Loading required package: Biobase
Welcome to Bioconductor

    Vignettes contain introductory material; view with
    'browseVignettes()'. To cite Bioconductor, see
    'citation("Biobase")', and for packages 'citation("pkgname")'.


Attaching package: 'Biobase'

The following object is masked from 'package:MatrixGenerics':

    rowMedians

The following objects are masked from 'package:matrixStats':

    anyMissing, rowMedians

> test_check("scRNAseq")
[ FAIL 0 | WARN 35 | SKIP 1 | PASS 186 ]

══ Skipped tests (1) ═══════════════════════════════════════════════════════════
• is.null(gh_token) is TRUE (1): 'test-uploadDirectory.R:59:5'

[ FAIL 0 | WARN 35 | SKIP 1 | PASS 186 ]
Warning message:
call dbDisconnect() when finished working with a connection 
> 
> proc.time()
   user  system elapsed 
313.040  77.153 413.513 

Example timings

scRNAseq.Rcheck/scRNAseq-Ex.timings

nameusersystemelapsed
AztekinTailData6.3480.7467.306
BachMammaryData6.9731.2469.159
BacherTCellData17.274 5.65823.947
BaronPancreasData1.0180.1681.222
BhaduriOrganoidData24.115 9.46933.913
BuettnerESCData3.4410.9195.025
BunisHSPCData1.0900.4531.670
CampbellBrainData1.9561.0233.251
ChenBrainData1.0280.4291.597
DarmanisBrainData0.2640.0520.322
ERCCSpikeInConcentrations0.0200.0010.021
ErnstSpermatogenesisData11.315 5.02817.643
FletcherOlfactoryData0.8930.3151.219
GiladiHSCData5.7392.6009.364
GrunHSCData0.2420.0450.294
GrunPancreasData0.5390.0930.644
HeOrganAtlasData13.041 7.25620.840
HermannSpermatogenesisData0.8260.2941.146
HuCortexData0.5520.2210.911
JessaBrainData10.247 4.55016.430
KolodziejczykESCData4.4271.2666.005
KotliarovPBMCData2.3610.5153.163
LaMannoBrainData1.5790.3862.011
LawlorPancreasData0.7900.1250.917
LedergorMyelomaData1.4190.1781.797
LengESCData0.4960.0930.592
LunSpikeInData6.0241.3998.105
MacoskoRetinaData1.7240.4492.410
MairPBMCData0.5050.0990.611
MarquesBrainData0.7810.1240.980
MessmerESCData4.1500.9655.368
MuraroPancreasData0.9210.2411.183
NestorowaHSCData4.3211.0985.815
NowakowskiCortexData1.5590.3221.905
PaulHSCData2.8980.4613.426
PollenGliaData0.2200.0390.262
ReprocessedData2.0110.3412.361
RichardTCellData2.9420.6153.790
RomanovBrainData0.4880.1290.635
SegerstolpePancreasData1.3370.2501.674
ShekharRetinaData2.1030.6592.985
StoeckiusHashingData 9.024 2.39512.347
TasicBrainData1.9100.5002.421
UsoskinBrainData0.9000.1261.039
WuKidneyData0.3770.0770.470
XinPancreasData0.8150.2491.082
ZeiselBrainData1.0760.2901.390
ZeiselNervousData14.710 6.10822.266
ZhaoImmuneLiverData 6.524 3.39910.637
ZhongPrefrontalData0.6200.1270.817
ZilionisLungData4.0450.8975.358
countErccMolecules0.0340.0020.035
fetchDataset0.4390.0330.472
listDatasets0.1770.0530.231
listPaths0.5150.0361.899
listVersions0.0140.0030.478
polishDataset0.1110.0270.138
saveDataset0.8120.0910.810
searchDatasets1.6860.1381.961
surveyDatasets0.8930.0250.918