| Back to Build/check report for BioC 3.23 experimental data | 
  | 
This page was generated on 2025-10-30 15:01 -0400 (Thu, 30 Oct 2025).
| Hostname | OS | Arch (*) | R version | Installed pkgs | 
|---|---|---|---|---|
| nebbiolo1 | Linux (Ubuntu 24.04.3 LTS) | x86_64 | R Under development (unstable) (2025-10-20 r88955) -- "Unsuffered Consequences" | 4428 | 
| Click on any hostname to see more info about the system (e.g. compilers) (*) as reported by 'uname -p', except on Windows and Mac OS X | ||||
| Package 247/430 | Hostname | OS / Arch | INSTALL | BUILD | CHECK | ||||||||
| minfiDataEPIC 1.37.0  (landing page) Kasper Daniel Hansen 
  | nebbiolo1 | Linux (Ubuntu 24.04.3 LTS) / x86_64 | ERROR | OK | ERROR | ||||||||
| 
To the developers/maintainers of the minfiDataEPIC package: - Use the following Renviron settings to reproduce errors and warnings. - If 'R CMD check' started to fail recently on the Linux builder(s) over a missing dependency, add the missing dependency to 'Suggests:' in your DESCRIPTION file. See Renviron.bioc for more information.  | 
| Package: minfiDataEPIC | 
| Version: 1.37.0 | 
| Command: /home/biocbuild/bbs-3.23-bioc/R/bin/R CMD build --keep-empty-dirs --no-resave-data minfiDataEPIC | 
| StartedAt: 2025-10-30 11:27:37 -0400 (Thu, 30 Oct 2025) | 
| EndedAt: 2025-10-30 11:27:49 -0400 (Thu, 30 Oct 2025) | 
| EllapsedTime: 11.8 seconds | 
| RetCode: 0 | 
| Status: OK | 
| PackageFile: minfiDataEPIC_1.37.0.tar.gz | 
| PackageFileSize: 69.26 MiB | 
##############################################################################
##############################################################################
###
### Running command:
###
###   /home/biocbuild/bbs-3.23-bioc/R/bin/R CMD build --keep-empty-dirs --no-resave-data minfiDataEPIC
###
##############################################################################
##############################################################################
* checking for file ‘minfiDataEPIC/DESCRIPTION’ ... OK
* preparing ‘minfiDataEPIC’:
* checking DESCRIPTION meta-information ... OK
* checking for LF line-endings in source and make files and shell scripts
* checking for empty or unneeded directories
  NB: this package now depends on R (>= 3.5.0)
  WARNING: Added dependency on R >= 3.5.0 because serialized objects in
  serialize/load version 3 cannot be read in older versions of R.
  File(s) containing such objects:
    ‘minfiDataEPIC/data/MsetEPIC.rda’ ‘minfiDataEPIC/data/RGsetEPIC.rda’
* building ‘minfiDataEPIC_1.37.0.tar.gz’