Back to Build/check report for BioC 3.23 experimental data
ABCDEF[G]HIJKLMNOPQRSTUVWXYZ

This page was generated on 2025-11-04 15:01 -0500 (Tue, 04 Nov 2025).

HostnameOSArch (*)R versionInstalled pkgs
nebbiolo1Linux (Ubuntu 24.04.3 LTS)x86_64R Under development (unstable) (2025-10-20 r88955) -- "Unsuffered Consequences" 4809
Click on any hostname to see more info about the system (e.g. compilers)      (*) as reported by 'uname -p', except on Windows and Mac OS X

Package 148/431HostnameOS / ArchINSTALLBUILDCHECK
geneLenDataBase 1.47.0  (landing page)
Federico Marini
Snapshot Date: 2025-11-04 07:00 -0500 (Tue, 04 Nov 2025)
git_url: https://git.bioconductor.org/packages/geneLenDataBase
git_branch: devel
git_last_commit: 8b3da6c
git_last_commit_date: 2025-10-29 09:31:54 -0500 (Wed, 29 Oct 2025)
nebbiolo1Linux (Ubuntu 24.04.3 LTS) / x86_64  OK    OK    OK  NO, package depends on 'rtracklayer' which is not available


CHECK results for geneLenDataBase on nebbiolo1

To the developers/maintainers of the geneLenDataBase package:
- Use the following Renviron settings to reproduce errors and warnings.
- If 'R CMD check' started to fail recently on the Linux builder(s) over a missing dependency, add the missing dependency to 'Suggests:' in your DESCRIPTION file. See Renviron.bioc for more information.

raw results


Summary

Package: geneLenDataBase
Version: 1.47.0
Command: /home/biocbuild/bbs-3.23-bioc/R/bin/R CMD check --install=check:geneLenDataBase.install-out.txt --library=/home/biocbuild/bbs-3.23-bioc/R/site-library --timings geneLenDataBase_1.47.0.tar.gz
StartedAt: 2025-11-04 12:21:10 -0500 (Tue, 04 Nov 2025)
EndedAt: 2025-11-04 12:30:27 -0500 (Tue, 04 Nov 2025)
EllapsedTime: 557.0 seconds
RetCode: 0
Status:   OK  
CheckDir: geneLenDataBase.Rcheck
Warnings: 0

Command output

##############################################################################
##############################################################################
###
### Running command:
###
###   /home/biocbuild/bbs-3.23-bioc/R/bin/R CMD check --install=check:geneLenDataBase.install-out.txt --library=/home/biocbuild/bbs-3.23-bioc/R/site-library --timings geneLenDataBase_1.47.0.tar.gz
###
##############################################################################
##############################################################################


* using log directory ‘/home/biocbuild/bbs-3.23-data-experiment/meat/geneLenDataBase.Rcheck’
* using R Under development (unstable) (2025-10-20 r88955)
* using platform: x86_64-pc-linux-gnu
* R was compiled by
    gcc (Ubuntu 13.3.0-6ubuntu2~24.04) 13.3.0
    GNU Fortran (Ubuntu 13.3.0-6ubuntu2~24.04) 13.3.0
* running under: Ubuntu 24.04.3 LTS
* using session charset: UTF-8
* checking for file ‘geneLenDataBase/DESCRIPTION’ ... OK
* this is package ‘geneLenDataBase’ version ‘1.47.0’
* package encoding: UTF-8
* checking package namespace information ... OK
* checking package dependencies ... OK
* checking if this is a source package ... OK
* checking if there is a namespace ... OK
* checking for hidden files and directories ... OK
* checking for portable file names ... OK
* checking for sufficient/correct file permissions ... OK
* checking whether package ‘geneLenDataBase’ can be installed ... OK
* checking installed package size ... INFO
  installed size is 100.0Mb
  sub-directories of 1Mb or more:
    data  99.5Mb
* checking package directory ... OK
* checking DESCRIPTION meta-information ... OK
* checking top-level files ... OK
* checking for left-over files ... OK
* checking index information ... OK
* checking package subdirectories ... OK
* checking code files for non-ASCII characters ... OK
* checking R files for syntax errors ... OK
* checking whether the package can be loaded ... OK
* checking whether the package can be loaded with stated dependencies ... OK
* checking whether the package can be unloaded cleanly ... OK
* checking whether the namespace can be loaded with stated dependencies ... OK
* checking whether the namespace can be unloaded cleanly ... OK
* checking loading without being on the library search path ... OK
* checking dependencies in R code ... NOTE
Unexported object imported by a ':::' call: ‘txdbmaker:::.UCSC_TXNAME2GENEID_MAPDEFS’
  See the note in ?`:::` about the use of this operator.
* checking S3 generic/method consistency ... OK
* checking replacement functions ... OK
* checking foreign function calls ... OK
* checking R code for possible problems ... OK
* checking Rd files ... OK
* checking Rd metadata ... OK
* checking Rd cross-references ... OK
* checking for missing documentation entries ... OK
* checking for code/documentation mismatches ... OK
* checking Rd \usage sections ... OK
* checking Rd contents ... OK
* checking for unstated dependencies in examples ... OK
* checking contents of ‘data’ directory ... OK
* checking data for non-ASCII characters ... OK
* checking data for ASCII and uncompressed saves ... OK
* checking examples ... OK
* checking PDF version of manual ... OK
* DONE

Status: 1 NOTE
See
  ‘/home/biocbuild/bbs-3.23-data-experiment/meat/geneLenDataBase.Rcheck/00check.log’
for details.


Installation output

geneLenDataBase.Rcheck/00install.out

##############################################################################
##############################################################################
###
### Running command:
###
###   /home/biocbuild/bbs-3.23-bioc/R/bin/R CMD INSTALL geneLenDataBase
###
##############################################################################
##############################################################################


* installing to library ‘/home/biocbuild/bbs-3.23-bioc/R/site-library’
* installing *source* package ‘geneLenDataBase’ ...
** this is package ‘geneLenDataBase’ version ‘1.47.0’
** using staged installation
** R
** data
** byte-compile and prepare package for lazy loading
** help
*** installing help indices
** building package indices
** testing if installed package can be loaded from temporary location
** testing if installed package can be loaded from final location
** testing if installed package keeps a record of temporary installation path
* DONE (geneLenDataBase)

Tests output


Example timings

geneLenDataBase.Rcheck/geneLenDataBase-Ex.timings

nameusersystemelapsed
anoCar1.ensGene.LENGTH0.0660.0100.075
anoCar1.genscan.LENGTH0.0430.0040.047
anoCar1.xenoRefGene.LENGTH0.7960.0140.810
anoGam1.ensGene.LENGTH0.0570.0010.059
anoGam1.geneid.LENGTH0.0410.0020.044
anoGam1.genscan.LENGTH0.0380.0010.039
apiMel1.genscan.LENGTH0.0350.0010.035
apiMel2.ensGene.LENGTH0.0840.0000.083
apiMel2.geneid.LENGTH0.0440.0010.045
apiMel2.genscan.LENGTH0.0990.0050.104
aplCal1.xenoRefGene.LENGTH0.4030.0030.406
bosTau2.geneSymbol.LENGTH0.0380.0010.039
bosTau2.geneid.LENGTH0.2480.0020.251
bosTau2.genscan.LENGTH0.0880.0040.091
bosTau2.refGene.LENGTH0.0400.0030.043
bosTau2.sgpGene.LENGTH0.1060.0010.107
bosTau3.ensGene.LENGTH0.1160.0010.117
bosTau3.geneSymbol.LENGTH0.0370.0010.037
bosTau3.geneid.LENGTH0.1190.0020.121
bosTau3.genscan.LENGTH0.1290.0060.135
bosTau3.refGene.LENGTH0.0330.0000.033
bosTau3.sgpGene.LENGTH0.0930.0020.095
bosTau4.ensGene.LENGTH0.0970.0010.098
bosTau4.geneSymbol.LENGTH0.0320.0020.034
bosTau4.genscan.LENGTH0.0640.0020.066
bosTau4.nscanGene.LENGTH0.0280.0010.028
bosTau4.refGene.LENGTH0.0320.0010.032
braFlo1.xenoRefGene.LENGTH0.3770.0010.378
caeJap1.xenoRefGene.LENGTH0.3470.0110.358
caePb1.xenoRefGene.LENGTH0.4490.0030.452
caePb2.xenoRefGene.LENGTH0.4770.0050.481
caeRem2.xenoRefGene.LENGTH0.4190.0040.422
caeRem3.xenoRefGene.LENGTH0.3760.0020.379
calJac1.genscan.LENGTH0.2470.0020.249
calJac1.nscanGene.LENGTH0.1020.0010.104
calJac1.xenoRefGene.LENGTH0.7430.0130.756
canFam1.ensGene.LENGTH0.1170.0020.120
canFam1.geneSymbol.LENGTH0.0050.0010.006
canFam1.genscan.LENGTH0.0640.0010.065
canFam1.nscanGene.LENGTH0.0670.0000.066
canFam1.refGene.LENGTH0.0050.0010.006
canFam1.xenoRefGene.LENGTH0.6510.0010.652
canFam2.ensGene.LENGTH0.1030.0010.103
canFam2.geneSymbol.LENGTH0.0050.0000.006
canFam2.genscan.LENGTH0.0570.0020.059
canFam2.nscanGene.LENGTH0.0630.0010.063
canFam2.refGene.LENGTH0.0060.0000.005
canFam2.xenoRefGene.LENGTH0.6340.0000.634
cavPor3.ensGene.LENGTH0.0910.0020.092
cavPor3.genscan.LENGTH0.1040.0000.104
cavPor3.nscanGene.LENGTH0.070.000.07
cavPor3.xenoRefGene.LENGTH0.7600.0230.782
cb1.xenoRefGene.LENGTH0.4430.0080.451
cb3.xenoRefGene.LENGTH0.3660.0020.367
ce2.geneSymbol.LENGTH0.0700.0010.070
ce2.geneid.LENGTH0.0630.0010.064
ce2.refGene.LENGTH0.0670.0020.068
ce4.geneSymbol.LENGTH0.0680.0020.069
ce4.refGene.LENGTH0.0620.0010.062
ce4.xenoRefGene.LENGTH0.0850.0000.085
ce6.ensGene.LENGTH0.0960.0030.098
ce6.geneSymbol.LENGTH0.0710.0000.070
ce6.refGene.LENGTH0.0620.0020.065
ce6.xenoRefGene.LENGTH0.0830.0020.086
ci1.geneSymbol.LENGTH0.0050.0010.006
ci1.refGene.LENGTH0.0050.0000.005
ci1.xenoRefGene.LENGTH0.1780.0020.180
ci2.ensGene.LENGTH0.0690.0010.069
ci2.geneSymbol.LENGTH0.0050.0010.005
ci2.refGene.LENGTH0.0050.0000.004
ci2.xenoRefGene.LENGTH0.2830.0010.283
danRer3.ensGene.LENGTH0.3720.0060.378
danRer3.geneSymbol.LENGTH0.0570.0010.057
danRer3.refGene.LENGTH0.0500.0010.052
danRer4.ensGene.LENGTH0.1420.0000.144
danRer4.geneSymbol.LENGTH0.0530.0010.054
danRer4.genscan.LENGTH0.0610.0010.063
danRer4.nscanGene.LENGTH0.0910.0030.094
danRer4.refGene.LENGTH0.0520.0000.051
danRer5.ensGene.LENGTH0.1350.0010.135
danRer5.geneSymbol.LENGTH0.0490.0020.051
danRer5.refGene.LENGTH0.0450.0000.047
danRer5.vegaGene.LENGTH0.0500.0000.051
danRer5.vegaPseudoGene.LENGTH0.0020.0010.003
danRer6.ensGene.LENGTH0.1160.0000.117
danRer6.geneSymbol.LENGTH0.0510.0010.052
danRer6.refGene.LENGTH0.0470.0010.048
danRer6.xenoRefGene.LENGTH0.5750.0010.576
dm1.geneSymbol.LENGTH0.0650.0010.066
dm1.genscan.LENGTH0.0220.0020.025
dm1.refGene.LENGTH0.0600.0000.061
dm2.geneSymbol.LENGTH0.0620.0010.065
dm2.geneid.LENGTH0.0360.0010.037
dm2.genscan.LENGTH0.9510.1211.073
dm2.nscanGene.LENGTH0.0430.0020.047
dm2.refGene.LENGTH0.0570.0000.059
dm3.geneSymbol.LENGTH0.0670.0000.068
dm3.nscanPasaGene.LENGTH0.0480.0000.049
dm3.refGene.LENGTH0.0650.0000.066
downloadLengthFromUCSC000
dp2.genscan.LENGTH0.0290.0020.032
dp2.xenoRefGene.LENGTH0.2260.0010.227
dp3.geneid.LENGTH0.0360.0000.036
dp3.genscan.LENGTH0.0240.0000.024
dp3.xenoRefGene.LENGTH0.1060.0010.107
droAna1.geneid.LENGTH0.0640.0010.065
droAna1.genscan.LENGTH0.0210.0020.022
droAna1.xenoRefGene.LENGTH0.2170.0030.220
droAna2.genscan.LENGTH0.0470.0000.046
droAna2.xenoRefGene.LENGTH0.2570.0000.257
droEre1.genscan.LENGTH0.0250.0010.026
droEre1.xenoRefGene.LENGTH0.2520.0030.254
droGri1.genscan.LENGTH0.0380.0000.037
droGri1.xenoRefGene.LENGTH0.2860.0010.288
droMoj1.geneid.LENGTH0.1280.0000.128
droMoj1.genscan.LENGTH0.0560.0010.058
droMoj1.xenoRefGene.LENGTH0.2230.0020.226
droMoj2.genscan.LENGTH0.0340.0010.037
droMoj2.xenoRefGene.LENGTH0.3300.0020.334
droPer1.genscan.LENGTH0.0370.0010.039
droPer1.xenoRefGene.LENGTH0.3180.0080.326
droSec1.genscan.LENGTH0.0280.0010.029
droSec1.xenoRefGene.LENGTH0.2730.0030.278
droSim1.geneid.LENGTH0.0360.0000.037
droSim1.genscan.LENGTH0.0230.0010.024
droSim1.xenoRefGene.LENGTH0.2240.0010.226
droVir1.geneid.LENGTH0.1020.0010.104
droVir1.genscan.LENGTH0.0410.0010.042
droVir1.xenoRefGene.LENGTH0.2450.0020.246
droVir2.genscan.LENGTH0.0340.0000.036
droVir2.xenoRefGene.LENGTH0.2850.0020.286
droYak1.geneid.LENGTH0.0400.0000.039
droYak1.genscan.LENGTH0.0270.0000.028
droYak1.xenoRefGene.LENGTH0.2410.0010.241
droYak2.genscan.LENGTH0.0270.0000.027
droYak2.xenoRefGene.LENGTH0.2830.0010.285
equCab1.geneSymbol.LENGTH0.0030.0010.005
equCab1.geneid.LENGTH0.0830.0030.088
equCab1.nscanGene.LENGTH0.0390.0030.041
equCab1.refGene.LENGTH0.0040.0000.005
equCab1.sgpGene.LENGTH0.0650.0030.069
equCab2.ensGene.LENGTH0.0970.0030.101
equCab2.geneSymbol.LENGTH0.0060.0000.007
equCab2.nscanGene.LENGTH0.0520.0020.054
equCab2.refGene.LENGTH0.0070.0000.006
equCab2.xenoRefGene.LENGTH0.7270.0080.735
felCat3.ensGene.LENGTH0.1050.0000.106
felCat3.geneSymbol.LENGTH0.0040.0000.003
felCat3.geneid.LENGTH0.5250.0120.537
felCat3.genscan.LENGTH0.1170.0020.121
felCat3.nscanGene.LENGTH0.0940.0030.096
felCat3.refGene.LENGTH0.0030.0000.004
felCat3.sgpGene.LENGTH0.1460.0000.146
felCat3.xenoRefGene.LENGTH1.1780.0071.186
fr1.ensGene.LENGTH0.0810.0010.081
fr1.genscan.LENGTH0.0580.0000.059
fr2.ensGene.LENGTH0.1370.0040.143
galGal2.ensGene.LENGTH0.0580.0000.059
galGal2.geneSymbol.LENGTH0.0160.0010.017
galGal2.geneid.LENGTH0.0400.0000.039
galGal2.genscan.LENGTH0.0520.0020.053
galGal2.refGene.LENGTH0.0150.0000.016
galGal2.sgpGene.LENGTH0.0460.0010.046
galGal3.ensGene.LENGTH0.0780.0010.080
galGal3.geneSymbol.LENGTH0.0170.0000.017
galGal3.genscan.LENGTH0.0470.0020.049
galGal3.nscanGene.LENGTH0.0730.0000.074
galGal3.refGene.LENGTH0.0150.0000.014
galGal3.xenoRefGene.LENGTH0.5380.0010.538
gasAcu1.ensGene.LENGTH0.2930.0010.295
gasAcu1.nscanGene.LENGTH0.0960.0030.099
hg16.acembly.LENGTH0.5750.0250.601
hg16.ensGene.LENGTH0.0690.0020.071
hg16.exoniphy.LENGTH0.2320.0060.239
hg16.geneSymbol.LENGTH0.1020.0020.104
hg16.geneid.LENGTH0.2900.0040.295
hg16.genscan.LENGTH0.0580.0010.060
hg16.knownGene.LENGTH0.1050.0000.106
hg16.refGene.LENGTH0.0880.0020.091
hg16.sgpGene.LENGTH0.0540.0010.055
hg17.acembly.LENGTH0.3910.0010.391
hg17.acescan.LENGTH0.0080.0010.010
hg17.ccdsGene.LENGTH0.0200.0010.022
hg17.ensGene.LENGTH0.1040.0000.104
hg17.exoniphy.LENGTH0.4140.0010.414
hg17.geneSymbol.LENGTH0.0930.0030.096
hg17.geneid.LENGTH0.0680.0030.071
hg17.genscan.LENGTH0.0590.0010.059
hg17.knownGene.LENGTH0.1030.0010.105
hg17.refGene.LENGTH0.0930.0000.095
hg17.sgpGene.LENGTH0.0690.0010.069
hg17.vegaGene.LENGTH0.0400.0000.039
hg17.vegaPseudoGene.LENGTH0.0170.0000.017
hg17.xenoRefGene.LENGTH0.1760.0020.180
hg18.acembly.LENGTH0.420.000.42
hg18.acescan.LENGTH0.0090.0000.010
hg18.ccdsGene.LENGTH0.0320.0070.041
hg18.ensGene.LENGTH0.1920.0200.211
hg18.exoniphy.LENGTH0.4590.0100.469
hg18.geneSymbol.LENGTH0.0970.0040.102
hg18.geneid.LENGTH0.0740.0020.076
hg18.genscan.LENGTH0.0600.0020.063
hg18.knownGene.LENGTH0.1480.0010.150
hg18.knownGeneOld3.LENGTH0.0660.0010.067
hg18.refGene.LENGTH0.1000.0010.100
hg18.sgpGene.LENGTH0.0780.0020.081
hg18.sibGene.LENGTH0.6070.0060.615
hg18.xenoRefGene.LENGTH0.3380.0030.342
hg19.ccdsGene.LENGTH0.0390.0000.040
hg19.ensGene.LENGTH0.2970.0020.300
hg19.exoniphy.LENGTH0.4380.0050.442
hg19.geneSymbol.LENGTH0.1000.0030.104
hg19.knownGene.LENGTH0.1790.0040.183
hg19.nscanGene.LENGTH0.1560.0000.157
hg19.refGene.LENGTH0.1060.0020.108
hg19.xenoRefGene.LENGTH0.4050.0030.409
loxAfr3.xenoRefGene.LENGTH0.8020.0050.808
mm7.ensGene.LENGTH0.3280.0030.332
mm7.geneSymbol.LENGTH0.0880.0020.090
mm7.geneid.LENGTH0.0820.0020.084
mm7.genscan.LENGTH0.0640.0020.067
mm7.knownGene.LENGTH0.0970.0010.098
mm7.refGene.LENGTH0.0790.0020.082
mm7.sgpGene.LENGTH0.0760.0000.076
mm7.xenoRefGene.LENGTH0.3110.0010.313
mm8.ccdsGene.LENGTH0.0220.0000.023
mm8.ensGene.LENGTH0.0830.0010.083
mm8.geneSymbol.LENGTH0.0850.0010.087
mm8.geneid.LENGTH0.0740.0030.078
mm8.genscan.LENGTH0.0570.0010.059
mm8.knownGene.LENGTH0.0860.0000.086
mm8.nscanGene.LENGTH0.0600.0010.060
mm8.refGene.LENGTH0.0790.0010.080
mm8.sgpGene.LENGTH0.0730.0020.076
mm8.sibGene.LENGTH0.6930.0040.698
mm8.xenoRefGene.LENGTH0.3070.0040.311
mm9.acembly.LENGTH0.2760.0010.276
mm9.ccdsGene.LENGTH0.0260.0020.028
mm9.ensGene.LENGTH0.1410.0010.142
mm9.exoniphy.LENGTH0.4150.0010.416
mm9.geneSymbol.LENGTH0.0830.0010.085
mm9.geneid.LENGTH0.0770.0020.080
mm9.genscan.LENGTH0.0590.0010.061
mm9.knownGene.LENGTH0.1020.0010.102
mm9.nscanGene.LENGTH0.0550.0010.056
mm9.refGene.LENGTH0.0760.0010.077
mm9.sgpGene.LENGTH0.0690.0020.072
mm9.xenoRefGene.LENGTH0.3210.0010.322
monDom1.genscan.LENGTH0.0590.0010.059
monDom4.ensGene.LENGTH0.0650.0000.065
monDom4.geneSymbol.LENGTH0.0040.0000.003
monDom4.genscan.LENGTH0.0490.0000.049
monDom4.nscanGene.LENGTH0.0460.0010.047
monDom4.refGene.LENGTH0.0020.0020.004
monDom4.xenoRefGene.LENGTH0.3050.0010.306
monDom5.ensGene.LENGTH0.1020.0010.102
monDom5.geneSymbol.LENGTH0.0040.0000.004
monDom5.genscan.LENGTH0.0490.0020.052
monDom5.nscanGene.LENGTH0.1060.0000.106
monDom5.refGene.LENGTH0.0020.0010.004
monDom5.xenoRefGene.LENGTH0.6220.0030.626
ornAna1.ensGene.LENGTH0.3330.0000.332
ornAna1.geneSymbol.LENGTH0.0030.0000.002
ornAna1.refGene.LENGTH0.0020.0000.002
ornAna1.xenoRefGene.LENGTH0.5360.0030.538
oryLat2.ensGene.LENGTH0.0780.0010.078
oryLat2.geneSymbol.LENGTH0.0040.0000.004
oryLat2.refGene.LENGTH0.0030.0000.004
oryLat2.xenoRefGene.LENGTH0.4840.0030.488
panTro1.ensGene.LENGTH0.0990.0010.100
panTro1.geneid.LENGTH0.0440.0010.045
panTro1.genscan.LENGTH0.0590.0000.059
panTro1.xenoRefGene.LENGTH0.1070.0010.108
panTro2.ensGene.LENGTH0.1110.0000.110
panTro2.geneSymbol.LENGTH0.0940.0010.095
panTro2.genscan.LENGTH0.0560.0020.059
panTro2.nscanGene.LENGTH0.0590.0010.060
panTro2.refGene.LENGTH0.0950.0010.097
panTro2.xenoRefGene.LENGTH0.4710.0000.470
petMar1.xenoRefGene.LENGTH0.2450.0010.246
ponAbe2.ensGene.LENGTH0.0830.0010.083
ponAbe2.geneSymbol.LENGTH0.0110.0020.013
ponAbe2.genscan.LENGTH0.0600.0010.061
ponAbe2.nscanGene.LENGTH0.0580.0020.061
ponAbe2.refGene.LENGTH0.0110.0000.012
ponAbe2.xenoRefGene.LENGTH1.6140.1101.723
priPac1.xenoRefGene.LENGTH0.3500.0010.351
rheMac2.ensGene.LENGTH0.1120.0000.111
rheMac2.geneSymbol.LENGTH0.0040.0010.005
rheMac2.geneid.LENGTH0.0620.0020.063
rheMac2.nscanGene.LENGTH0.0530.0000.054
rheMac2.refGene.LENGTH0.0030.0010.005
rheMac2.sgpGene.LENGTH0.0630.0000.063
rheMac2.xenoRefGene.LENGTH0.4040.0000.404
rn3.ensGene.LENGTH0.0890.0000.089
rn3.geneSymbol.LENGTH0.0490.0000.048
rn3.geneid.LENGTH0.0450.0020.047
rn3.genscan.LENGTH0.0570.0010.058
rn3.knownGene.LENGTH0.0200.0010.022
rn3.nscanGene.LENGTH0.0550.0010.056
rn3.refGene.LENGTH0.0440.0020.046
rn3.sgpGene.LENGTH0.0510.0020.054
rn3.xenoRefGene.LENGTH0.4880.0030.491
rn4.ensGene.LENGTH0.1140.0020.116
rn4.geneSymbol.LENGTH0.0480.0010.050
rn4.geneid.LENGTH0.0770.0010.079
rn4.genscan.LENGTH0.0560.0000.056
rn4.knownGene.LENGTH0.0210.0020.023
rn4.nscanGene.LENGTH0.0470.0000.047
rn4.refGene.LENGTH0.0420.0030.045
rn4.sgpGene.LENGTH0.0720.0090.082
rn4.xenoRefGene.LENGTH0.2740.0000.274
sacCer1.ensGene.LENGTH0.0160.0010.017
sacCer2.ensGene.LENGTH0.0150.0010.016
strPur1.geneSymbol.LENGTH0.0020.0020.004
strPur1.genscan.LENGTH0.0600.0000.061
strPur1.refGene.LENGTH0.0040.0000.004
strPur1.xenoRefGene.LENGTH0.4070.0010.409
strPur2.geneSymbol.LENGTH0.0030.0000.004
strPur2.genscan.LENGTH0.1000.0000.101
strPur2.refGene.LENGTH0.0020.0010.004
strPur2.xenoRefGene.LENGTH0.6010.0010.602
supportedGeneIDs2.3720.1134.488
supportedGenomes0.2470.0080.875
taeGut1.ensGene.LENGTH0.0560.0010.058
taeGut1.geneSymbol.LENGTH0.0030.0000.002
taeGut1.genscan.LENGTH0.0280.0010.029
taeGut1.nscanGene.LENGTH0.0220.0010.023
taeGut1.refGene.LENGTH0.0010.0010.002
taeGut1.xenoRefGene.LENGTH0.3850.0100.395
tetNig1.ensGene.LENGTH0.0790.0020.080
tetNig1.geneid.LENGTH0.0600.0000.061
tetNig1.genscan.LENGTH0.0470.0000.047
tetNig1.nscanGene.LENGTH0.0630.0000.063
tetNig2.ensGene.LENGTH0.0640.0010.065
unfactor0.0020.0030.006
xenTro1.genscan.LENGTH0.0750.0010.076
xenTro2.ensGene.LENGTH0.080.000.08
xenTro2.geneSymbol.LENGTH0.0290.0010.030
xenTro2.genscan.LENGTH0.0670.0000.067
xenTro2.refGene.LENGTH0.0270.0010.028