| Back to Build/check report for BioC 3.23 experimental data |
|
This page was generated on 2025-11-04 15:01 -0500 (Tue, 04 Nov 2025).
| Hostname | OS | Arch (*) | R version | Installed pkgs |
|---|---|---|---|---|
| nebbiolo1 | Linux (Ubuntu 24.04.3 LTS) | x86_64 | R Under development (unstable) (2025-10-20 r88955) -- "Unsuffered Consequences" | 4809 |
| Click on any hostname to see more info about the system (e.g. compilers) (*) as reported by 'uname -p', except on Windows and Mac OS X | ||||
| Package 134/431 | Hostname | OS / Arch | INSTALL | BUILD | CHECK | ||||||||
| FlowSorted.Blood.EPIC 2.15.0 (landing page) Lucas A. Salas
| nebbiolo1 | Linux (Ubuntu 24.04.3 LTS) / x86_64 | OK | OK | OK | ||||||||
|
To the developers/maintainers of the FlowSorted.Blood.EPIC package: - Use the following Renviron settings to reproduce errors and warnings. - If 'R CMD check' started to fail recently on the Linux builder(s) over a missing dependency, add the missing dependency to 'Suggests:' in your DESCRIPTION file. See Renviron.bioc for more information. |
| Package: FlowSorted.Blood.EPIC |
| Version: 2.15.0 |
| Command: /home/biocbuild/bbs-3.23-bioc/R/bin/R CMD build --keep-empty-dirs --no-resave-data FlowSorted.Blood.EPIC |
| StartedAt: 2025-11-04 11:19:36 -0500 (Tue, 04 Nov 2025) |
| EndedAt: 2025-11-04 11:25:20 -0500 (Tue, 04 Nov 2025) |
| EllapsedTime: 344.1 seconds |
| RetCode: 0 |
| Status: OK |
| PackageFile: FlowSorted.Blood.EPIC_2.15.0.tar.gz |
| PackageFileSize: 96.2 KiB |
############################################################################## ############################################################################## ### ### Running command: ### ### /home/biocbuild/bbs-3.23-bioc/R/bin/R CMD build --keep-empty-dirs --no-resave-data FlowSorted.Blood.EPIC ### ############################################################################## ############################################################################## * checking for file ‘FlowSorted.Blood.EPIC/DESCRIPTION’ ... OK * preparing ‘FlowSorted.Blood.EPIC’: * checking DESCRIPTION meta-information ... OK * installing the package (it is needed to build vignettes) * creating vignettes ... OK * checking for LF line-endings in source and make files and shell scripts * checking for empty or unneeded directories * building ‘FlowSorted.Blood.EPIC_2.15.0.tar.gz’