| Back to Multiple platform build/check report for BioC 3.21: simplified long |
|
This page was generated on 2025-10-16 11:41 -0400 (Thu, 16 Oct 2025).
| Hostname | OS | Arch (*) | R version | Installed pkgs |
|---|---|---|---|---|
| nebbiolo1 | Linux (Ubuntu 24.04.3 LTS) | x86_64 | 4.5.1 (2025-06-13) -- "Great Square Root" | 4833 |
| merida1 | macOS 12.7.6 Monterey | x86_64 | 4.5.1 RC (2025-06-05 r88288) -- "Great Square Root" | 4614 |
| kjohnson1 | macOS 13.7.5 Ventura | arm64 | 4.5.1 Patched (2025-06-14 r88325) -- "Great Square Root" | 4555 |
| kunpeng2 | Linux (openEuler 24.03 LTS) | aarch64 | R Under development (unstable) (2025-02-19 r87757) -- "Unsuffered Consequences" | 4586 |
| Click on any hostname to see more info about the system (e.g. compilers) (*) as reported by 'uname -p', except on Windows and Mac OS X | ||||
| Package 802/2341 | Hostname | OS / Arch | INSTALL | BUILD | CHECK | BUILD BIN | ||||||||
| gemma.R 3.4.6 (landing page) Ogan Mancarci
| nebbiolo1 | Linux (Ubuntu 24.04.3 LTS) / x86_64 | OK | OK | ERROR | |||||||||
| merida1 | macOS 12.7.6 Monterey / x86_64 | OK | OK | ERROR | OK | |||||||||
| kjohnson1 | macOS 13.7.5 Ventura / arm64 | OK | OK | ERROR | OK | |||||||||
| kunpeng2 | Linux (openEuler 24.03 LTS) / aarch64 | OK | OK | ERROR | ||||||||||
|
To the developers/maintainers of the gemma.R package: - Allow up to 24 hours (and sometimes 48 hours) for your latest push to git@git.bioconductor.org:packages/gemma.R.git to reflect on this report. See Troubleshooting Build Report for more information. - Use the following Renviron settings to reproduce errors and warnings. - If 'R CMD check' started to fail recently on the Linux builder(s) over a missing dependency, add the missing dependency to 'Suggests:' in your DESCRIPTION file. See Renviron.bioc for more information. - See Martin Grigorov's blog post for how to debug Linux ARM64 related issues on a x86_64 host. |
| Package: gemma.R |
| Version: 3.4.6 |
| Command: /home/biocbuild/R/R/bin/R CMD check --install=check:gemma.R.install-out.txt --library=/home/biocbuild/R/R/site-library --no-vignettes --timings gemma.R_3.4.6.tar.gz |
| StartedAt: 2025-10-14 09:23:05 -0000 (Tue, 14 Oct 2025) |
| EndedAt: 2025-10-14 09:43:51 -0000 (Tue, 14 Oct 2025) |
| EllapsedTime: 1245.7 seconds |
| RetCode: 1 |
| Status: ERROR |
| CheckDir: gemma.R.Rcheck |
| Warnings: NA |
##############################################################################
##############################################################################
###
### Running command:
###
### /home/biocbuild/R/R/bin/R CMD check --install=check:gemma.R.install-out.txt --library=/home/biocbuild/R/R/site-library --no-vignettes --timings gemma.R_3.4.6.tar.gz
###
##############################################################################
##############################################################################
* using log directory ‘/home/biocbuild/bbs-3.21-bioc/meat/gemma.R.Rcheck’
* using R Under development (unstable) (2025-02-19 r87757)
* using platform: aarch64-unknown-linux-gnu
* R was compiled by
aarch64-unknown-linux-gnu-gcc (GCC) 14.2.0
GNU Fortran (GCC) 14.2.0
* running under: openEuler 24.03 (LTS-SP1)
* using session charset: UTF-8
* using option ‘--no-vignettes’
* checking for file ‘gemma.R/DESCRIPTION’ ... OK
* this is package ‘gemma.R’ version ‘3.4.6’
* package encoding: UTF-8
* checking package namespace information ... OK
* checking package dependencies ... INFO
Imports includes 21 non-default packages.
Importing from so many packages makes the package vulnerable to any of
them becoming unavailable. Move as many as possible to Suggests and
use conditionally.
* checking if this is a source package ... OK
* checking if there is a namespace ... OK
* checking for hidden files and directories ... OK
* checking for portable file names ... OK
* checking for sufficient/correct file permissions ... OK
* checking whether package ‘gemma.R’ can be installed ... OK
* checking installed package size ... OK
* checking package directory ... OK
* checking ‘build’ directory ... OK
* checking DESCRIPTION meta-information ... OK
* checking top-level files ... OK
* checking for left-over files ... OK
* checking index information ... OK
* checking package subdirectories ... OK
* checking code files for non-ASCII characters ... OK
* checking R files for syntax errors ... OK
* checking whether the package can be loaded ... OK
* checking whether the package can be loaded with stated dependencies ... OK
* checking whether the package can be unloaded cleanly ... OK
* checking whether the namespace can be loaded with stated dependencies ... OK
* checking whether the namespace can be unloaded cleanly ... OK
* checking loading without being on the library search path ... OK
* checking dependencies in R code ... OK
* checking S3 generic/method consistency ... OK
* checking replacement functions ... OK
* checking foreign function calls ... OK
* checking R code for possible problems ... OK
* checking Rd files ... OK
* checking Rd metadata ... OK
* checking Rd cross-references ... OK
* checking for missing documentation entries ... OK
* checking for code/documentation mismatches ... OK
* checking Rd \usage sections ... OK
* checking Rd contents ... OK
* checking for unstated dependencies in examples ... OK
* checking files in ‘vignettes’ ... OK
* checking examples ... OK
Examples with CPU (user + system) or elapsed time > 5s
user system elapsed
get_dataset_object 10.193 0.298 21.960
get_gene_differential_expression_values 1.518 0.231 8.812
dot-get_gene_differential_expression_values 1.606 0.020 9.419
get_dataset_processed_expression 1.415 0.167 19.408
dot-get_dataset_expression_for_genes 1.279 0.051 6.117
update_result 0.810 0.335 11.551
get_dataset_expression 0.979 0.046 14.492
get_dataset_raw_expression 0.723 0.071 7.151
get_platform_annotations 0.626 0.103 19.198
get_dataset_differential_expression_analyses 0.579 0.035 13.500
get_differential_expression_values 0.246 0.051 9.340
get_datasets 0.220 0.048 5.333
* checking for unstated dependencies in ‘tests’ ... OK
* checking tests ...
Running ‘testthat.R’
ERROR
Running the tests in ‘tests/testthat.R’ failed.
Last 13 lines of output:
4. │ └─gemma.R (local) FUN(X[[i]], ...)
5. │ └─gemma.R::get_dataset_processed_expression(dataset, memoised = memoised)
6. │ ├─gemma.R:::.body(...)
7. │ │ └─base::eval(requestExpr, envir = envWhere)
8. │ │ └─base::eval(requestExpr, envir = envWhere)
9. │ └─httr::GET(...)
10. │ └─httr:::request_perform(req, hu$handle$handle)
11. │ ├─httr:::request_fetch(req$output, req$url, handle)
12. │ └─httr:::request_fetch.write_memory(req$output, req$url, handle)
13. │ └─curl::curl_fetch_memory(url, handle = handle)
14. └─curl:::raise_libcurl_error(...)
[ FAIL 3 | WARN 0 | SKIP 4 | PASS 156 ]
Error: Test failures
Execution halted
* checking for unstated dependencies in vignettes ... OK
* checking package vignettes ... OK
* checking running R code from vignettes ... SKIPPED
* checking re-building of vignette outputs ... SKIPPED
* checking PDF version of manual ... OK
* DONE
Status: 1 ERROR
See
‘/home/biocbuild/bbs-3.21-bioc/meat/gemma.R.Rcheck/00check.log’
for details.
gemma.R.Rcheck/00install.out
############################################################################## ############################################################################## ### ### Running command: ### ### /home/biocbuild/R/R/bin/R CMD INSTALL gemma.R ### ############################################################################## ############################################################################## * installing to library ‘/home/biocbuild/R/R-devel_2025-02-19/site-library’ * installing *source* package ‘gemma.R’ ... ** this is package ‘gemma.R’ version ‘3.4.6’ ** using staged installation ** R ** inst ** byte-compile and prepare package for lazy loading ** help *** installing help indices *** copying figures ** building package indices ** installing vignettes ** testing if installed package can be loaded from temporary location ** testing if installed package can be loaded from final location ** testing if installed package keeps a record of temporary installation path * DONE (gemma.R)
gemma.R.Rcheck/tests/testthat.Rout.fail
R Under development (unstable) (2025-02-19 r87757) -- "Unsuffered Consequences"
Copyright (C) 2025 The R Foundation for Statistical Computing
Platform: aarch64-unknown-linux-gnu
R is free software and comes with ABSOLUTELY NO WARRANTY.
You are welcome to redistribute it under certain conditions.
Type 'license()' or 'licence()' for distribution details.
R is a collaborative project with many contributors.
Type 'contributors()' for more information and
'citation()' on how to cite R or R packages in publications.
Type 'demo()' for some demos, 'help()' for on-line help, or
'help.start()' for an HTML browser interface to help.
Type 'q()' to quit R.
> library(testthat)
> library(dplyr)
Attaching package: 'dplyr'
The following object is masked from 'package:testthat':
matches
The following objects are masked from 'package:stats':
filter, lag
The following objects are masked from 'package:base':
intersect, setdiff, setequal, union
>
> # Prevent certificate issues for GitHub actions
> options(gemma.SSL = FALSE)
> # get gemma api path if it's set in the environment
> gemma.R:::setGemmaPath('prod')
[1] "https://gemma.msl.ubc.ca/rest/v2/"
> print(gemma.R:::gemmaPath())
[1] "https://gemma.msl.ubc.ca/rest/v2/"
> test_check("gemma.R")
Loading required package: gemma.R
[ FAIL 3 | WARN 0 | SKIP 4 | PASS 156 ]
══ Skipped tests (4) ═══════════════════════════════════════════════════════════
• On Bioconductor (4): 'testCaches.R:37:3', 'testConvenience.R:15:5',
'testConvenience.R:37:5', 'testDatasetEndpoints.R:88:5'
══ Failed tests ════════════════════════════════════════════════════════════════
── Failure ('testCompression.R:21:5'): Compressed inputs work ──────────────────
all(uncompressed$value.URI %in% compressed$value.URI) is not TRUE
`actual`: FALSE
`expected`: TRUE
── Failure ('testConvenience.R:4:5'): getPlatformAnnotation queries work ───────
colnames(dat) not equal to c(...).
1/7 mismatches
x[1]: "java.io.OutputStreamWriter@5c15cb1aElementName"
y[1]: "ElementName"
── Error ('testOrderSanity.R:54:9'): Multiple sanity checks for expression/differential expression values and sample metadata ──
<curl_error_partial_file/curl_error/error/condition>
Error in `curl::curl_fetch_memory(url, handle = handle)`: Transferred a partial file [gemma.msl.ubc.ca]: end of response with 809587 bytes missing
Backtrace:
▆
1. ├─gemma.R::get_dataset_object(dt) at testOrderSanity.R:54:9
2. │ └─unique_sets %>% ...
3. ├─base::lapply(...)
4. │ └─gemma.R (local) FUN(X[[i]], ...)
5. │ └─gemma.R::get_dataset_processed_expression(dataset, memoised = memoised)
6. │ ├─gemma.R:::.body(...)
7. │ │ └─base::eval(requestExpr, envir = envWhere)
8. │ │ └─base::eval(requestExpr, envir = envWhere)
9. │ └─httr::GET(...)
10. │ └─httr:::request_perform(req, hu$handle$handle)
11. │ ├─httr:::request_fetch(req$output, req$url, handle)
12. │ └─httr:::request_fetch.write_memory(req$output, req$url, handle)
13. │ └─curl::curl_fetch_memory(url, handle = handle)
14. └─curl:::raise_libcurl_error(...)
[ FAIL 3 | WARN 0 | SKIP 4 | PASS 156 ]
Error: Test failures
Execution halted
gemma.R.Rcheck/gemma.R-Ex.timings
| name | user | system | elapsed | |
| dot-getResultSets | 0 | 0 | 0 | |
| dot-get_dataset_expression_for_genes | 1.279 | 0.051 | 6.117 | |
| dot-get_gene_differential_expression_values | 1.606 | 0.020 | 9.419 | |
| filter_properties | 0.032 | 0.005 | 0.037 | |
| forget_gemma_memoised | 0.027 | 0.008 | 0.079 | |
| gemma_call | 0.007 | 0.000 | 0.208 | |
| get_annotation_children | 0.011 | 0.000 | 0.201 | |
| get_annotation_parents | 0.009 | 0.003 | 0.395 | |
| get_child_terms | 0.021 | 0.000 | 0.615 | |
| get_dataset_annotations | 0.006 | 0.004 | 0.608 | |
| get_dataset_differential_expression_analyses | 0.579 | 0.035 | 13.500 | |
| get_dataset_expression | 0.979 | 0.046 | 14.492 | |
| get_dataset_expression_for_genes | 0.312 | 0.004 | 1.416 | |
| get_dataset_object | 10.193 | 0.298 | 21.960 | |
| get_dataset_platforms | 0.019 | 0.000 | 1.020 | |
| get_dataset_processed_expression | 1.415 | 0.167 | 19.408 | |
| get_dataset_quantitation_types | 0.014 | 0.000 | 0.322 | |
| get_dataset_raw_expression | 0.723 | 0.071 | 7.151 | |
| get_dataset_samples | 1.062 | 0.115 | 1.844 | |
| get_datasets | 0.220 | 0.048 | 5.333 | |
| get_datasets_by_ids | 0.060 | 0.008 | 0.639 | |
| get_differential_expression_values | 0.246 | 0.051 | 9.340 | |
| get_gene_differential_expression_values | 1.518 | 0.231 | 8.812 | |
| get_gene_go_terms | 0.062 | 0.012 | 4.105 | |
| get_gene_locations | 0.023 | 0.004 | 0.468 | |
| get_gene_probes | 0.027 | 0.004 | 1.278 | |
| get_genes | 0.035 | 0.004 | 0.438 | |
| get_platform_annotations | 0.626 | 0.103 | 19.198 | |
| get_platform_datasets | 0.046 | 0.008 | 0.625 | |
| get_platform_element_genes | 0.012 | 0.004 | 0.235 | |
| get_platforms_by_ids | 0.032 | 0.005 | 0.451 | |
| get_result_sets | 0.051 | 0.003 | 0.635 | |
| get_taxa | 0.012 | 0.000 | 0.198 | |
| get_taxa_by_ids | 0.014 | 0.000 | 0.200 | |
| get_taxon_datasets | 0.049 | 0.027 | 0.497 | |
| make_design | 0.955 | 0.099 | 3.229 | |
| search_annotations | 0.012 | 0.011 | 0.210 | |
| search_datasets | 0.051 | 0.025 | 0.586 | |
| search_gemma | 0.113 | 0.035 | 0.923 | |
| update_result | 0.810 | 0.335 | 11.551 | |