| Back to Multiple platform build/check report for BioC 3.21: simplified long |
|
This page was generated on 2025-04-22 13:16 -0400 (Tue, 22 Apr 2025).
| Hostname | OS | Arch (*) | R version | Installed pkgs |
|---|---|---|---|---|
| nebbiolo1 | Linux (Ubuntu 24.04.1 LTS) | x86_64 | 4.5.0 RC (2025-04-04 r88126) -- "How About a Twenty-Six" | 4831 |
| palomino7 | Windows Server 2022 Datacenter | x64 | 4.5.0 RC (2025-04-04 r88126 ucrt) -- "How About a Twenty-Six" | 4573 |
| lconway | macOS 12.7.1 Monterey | x86_64 | 4.5.0 RC (2025-04-04 r88126) -- "How About a Twenty-Six" | 4599 |
| kjohnson3 | macOS 13.7.1 Ventura | arm64 | 4.5.0 RC (2025-04-04 r88126) -- "How About a Twenty-Six" | 4553 |
| kunpeng2 | Linux (openEuler 24.03 LTS) | aarch64 | R Under development (unstable) (2025-02-19 r87757) -- "Unsuffered Consequences" | 4570 |
| Click on any hostname to see more info about the system (e.g. compilers) (*) as reported by 'uname -p', except on Windows and Mac OS X | ||||
| Package 749/2341 | Hostname | OS / Arch | INSTALL | BUILD | CHECK | BUILD BIN | ||||||||
| flowGraph 1.16.0 (landing page) Alice Yue
| nebbiolo1 | Linux (Ubuntu 24.04.1 LTS) / x86_64 | OK | OK | OK | |||||||||
| palomino7 | Windows Server 2022 Datacenter / x64 | OK | OK | OK | OK | |||||||||
| lconway | macOS 12.7.1 Monterey / x86_64 | OK | OK | OK | OK | |||||||||
| kjohnson3 | macOS 13.7.1 Ventura / arm64 | OK | OK | OK | OK | |||||||||
| kunpeng2 | Linux (openEuler 24.03 LTS) / aarch64 | OK | OK | OK | ||||||||||
|
To the developers/maintainers of the flowGraph package: - Allow up to 24 hours (and sometimes 48 hours) for your latest push to git@git.bioconductor.org:packages/flowGraph.git to reflect on this report. See Troubleshooting Build Report for more information. - Use the following Renviron settings to reproduce errors and warnings. - If 'R CMD check' started to fail recently on the Linux builder(s) over a missing dependency, add the missing dependency to 'Suggests:' in your DESCRIPTION file. See Renviron.bioc for more information. |
| Package: flowGraph |
| Version: 1.16.0 |
| Command: /Library/Frameworks/R.framework/Resources/bin/R CMD check --install=check:flowGraph.install-out.txt --library=/Library/Frameworks/R.framework/Resources/library --no-vignettes --timings flowGraph_1.16.0.tar.gz |
| StartedAt: 2025-04-21 20:46:38 -0400 (Mon, 21 Apr 2025) |
| EndedAt: 2025-04-21 20:50:57 -0400 (Mon, 21 Apr 2025) |
| EllapsedTime: 258.4 seconds |
| RetCode: 0 |
| Status: OK |
| CheckDir: flowGraph.Rcheck |
| Warnings: 0 |
##############################################################################
##############################################################################
###
### Running command:
###
### /Library/Frameworks/R.framework/Resources/bin/R CMD check --install=check:flowGraph.install-out.txt --library=/Library/Frameworks/R.framework/Resources/library --no-vignettes --timings flowGraph_1.16.0.tar.gz
###
##############################################################################
##############################################################################
* using log directory ‘/Users/biocbuild/bbs-3.21-bioc/meat/flowGraph.Rcheck’
* using R version 4.5.0 RC (2025-04-04 r88126)
* using platform: x86_64-apple-darwin20
* R was compiled by
Apple clang version 14.0.0 (clang-1400.0.29.202)
GNU Fortran (GCC) 14.2.0
* running under: macOS Monterey 12.7.6
* using session charset: UTF-8
* using option ‘--no-vignettes’
* checking for file ‘flowGraph/DESCRIPTION’ ... OK
* checking extension type ... Package
* this is package ‘flowGraph’ version ‘1.16.0’
* checking package namespace information ... OK
* checking package dependencies ... OK
* checking if this is a source package ... OK
* checking if there is a namespace ... OK
* checking for hidden files and directories ... OK
* checking for portable file names ... OK
* checking for sufficient/correct file permissions ... OK
* checking whether package ‘flowGraph’ can be installed ... OK
* checking installed package size ... OK
* checking package directory ... OK
* checking ‘build’ directory ... OK
* checking DESCRIPTION meta-information ... OK
* checking top-level files ... OK
* checking for left-over files ... OK
* checking index information ... OK
* checking package subdirectories ... OK
* checking code files for non-ASCII characters ... OK
* checking R files for syntax errors ... OK
* checking whether the package can be loaded ... OK
* checking whether the package can be loaded with stated dependencies ... OK
* checking whether the package can be unloaded cleanly ... OK
* checking whether the namespace can be loaded with stated dependencies ... OK
* checking whether the namespace can be unloaded cleanly ... OK
* checking dependencies in R code ... OK
* checking S3 generic/method consistency ... OK
* checking replacement functions ... OK
* checking foreign function calls ... OK
* checking R code for possible problems ... NOTE
get_child: no visible binding for global variable ‘no_cores’
get_paren: no visible binding for global variable ‘no_cores’
ms_psig: no visible binding for global variable ‘meta’
Undefined global functions or variables:
meta no_cores
* checking Rd files ... NOTE
checkRd: (-1) fg_get_graph.Rd:13: Lost braces
13 | A list containing two data frames (\code{v} and ]code{e})
| ^
checkRd: (-1) ggdf.Rd:22: Lost braces
22 | code{ggdf} adds to the data frames \code{v} and \code{e} in slot
| ^
* checking Rd metadata ... OK
* checking Rd cross-references ... OK
* checking for missing documentation entries ... OK
* checking for code/documentation mismatches ... OK
* checking Rd \usage sections ... OK
* checking Rd contents ... OK
* checking for unstated dependencies in examples ... OK
* checking contents of ‘data’ directory ... OK
* checking data for non-ASCII characters ... OK
* checking data for ASCII and uncompressed saves ... OK
* checking files in ‘vignettes’ ... OK
* checking examples ... OK
Examples with CPU (user + system) or elapsed time > 5s
user system elapsed
fg_load 44.482 0.486 45.292
fg_save_plots 44.126 0.373 44.782
fg_save 43.926 0.364 44.576
* checking for unstated dependencies in ‘tests’ ... OK
* checking tests ...
Running ‘testthat.R’
OK
* checking for unstated dependencies in vignettes ... OK
* checking package vignettes ... OK
* checking running R code from vignettes ... SKIPPED
* checking re-building of vignette outputs ... SKIPPED
* checking PDF version of manual ... OK
* DONE
Status: 2 NOTEs
See
‘/Users/biocbuild/bbs-3.21-bioc/meat/flowGraph.Rcheck/00check.log’
for details.
flowGraph.Rcheck/00install.out
############################################################################## ############################################################################## ### ### Running command: ### ### /Library/Frameworks/R.framework/Resources/bin/R CMD INSTALL flowGraph ### ############################################################################## ############################################################################## * installing to library ‘/Library/Frameworks/R.framework/Versions/4.5-x86_64/Resources/library’ * installing *source* package ‘flowGraph’ ... ** this is package ‘flowGraph’ version ‘1.16.0’ ** using staged installation ** R ** data ** inst ** byte-compile and prepare package for lazy loading ** help Loading required namespace: flowGraph *** installing help indices ** building package indices ** installing vignettes ** testing if installed package can be loaded from temporary location ** testing if installed package can be loaded from final location ** testing if installed package keeps a record of temporary installation path * DONE (flowGraph)
flowGraph.Rcheck/tests/testthat.Rout
R version 4.5.0 RC (2025-04-04 r88126) -- "How About a Twenty-Six"
Copyright (C) 2025 The R Foundation for Statistical Computing
Platform: x86_64-apple-darwin20
R is free software and comes with ABSOLUTELY NO WARRANTY.
You are welcome to redistribute it under certain conditions.
Type 'license()' or 'licence()' for distribution details.
R is a collaborative project with many contributors.
Type 'contributors()' for more information and
'citation()' on how to cite R or R packages in publications.
Type 'demo()' for some demos, 'help()' for on-line help, or
'help.start()' for an HTML browser interface to help.
Type 'q()' to quit R.
> library(testthat)
> library(flowGraph)
>
> test_check("flowGraph")
[ FAIL 0 | WARN 1 | SKIP 0 | PASS 34 ]
[ FAIL 0 | WARN 1 | SKIP 0 | PASS 34 ]
>
> proc.time()
user system elapsed
5.832 0.322 6.186
flowGraph.Rcheck/flowGraph-Ex.timings
| name | user | system | elapsed | |
| cell_type_layers | 0.003 | 0.001 | 0.004 | |
| fg_add_feature | 0.406 | 0.011 | 0.435 | |
| fg_add_summary | 0.934 | 0.013 | 0.952 | |
| fg_clean_phen | 0.000 | 0.001 | 0.000 | |
| fg_clear_features | 0.946 | 0.011 | 0.962 | |
| fg_clear_summary | 0.399 | 0.006 | 0.407 | |
| fg_extract_phenotypes | 0.323 | 0.006 | 0.332 | |
| fg_extract_raw | 0.972 | 0.012 | 0.993 | |
| fg_extract_samples | 0.320 | 0.007 | 0.329 | |
| fg_feat_cumsum | 0.325 | 0.006 | 0.334 | |
| fg_feat_edge_specenr | 0.500 | 0.008 | 0.512 | |
| fg_feat_mean_class | 0.336 | 0.007 | 0.348 | |
| fg_feat_node_prop | 0.311 | 0.006 | 0.320 | |
| fg_feat_node_specenr | 0.552 | 0.011 | 0.569 | |
| fg_feat_prop_edge | 0.330 | 0.005 | 0.337 | |
| fg_get_feature | 0.304 | 0.004 | 0.311 | |
| fg_get_feature_desc | 0.983 | 0.011 | 1.001 | |
| fg_get_feature_means | 1.395 | 0.012 | 1.415 | |
| fg_get_graph | 0.309 | 0.006 | 0.316 | |
| fg_get_markers | 0.325 | 0.005 | 0.332 | |
| fg_get_meta | 0.310 | 0.004 | 0.315 | |
| fg_get_summary | 1.974 | 0.017 | 2.005 | |
| fg_get_summary_desc | 1.009 | 0.010 | 1.031 | |
| fg_get_summary_index | 2.140 | 0.032 | 2.191 | |
| fg_get_summary_tables | 1.380 | 0.016 | 1.409 | |
| fg_gsub_ids | 0.296 | 0.005 | 0.302 | |
| fg_gsub_markers | 0.354 | 0.007 | 0.366 | |
| fg_load | 44.482 | 0.486 | 45.292 | |
| fg_merge | 0.348 | 0.005 | 0.355 | |
| fg_merge_samples | 0.346 | 0.006 | 0.356 | |
| fg_plot | 0.473 | 0.004 | 0.479 | |
| fg_plot_box | 0.773 | 0.007 | 0.787 | |
| fg_plot_pVSdiff | 0.483 | 0.005 | 0.492 | |
| fg_plot_qq | 1.299 | 0.089 | 1.425 | |
| fg_replace_meta | 0.296 | 0.004 | 0.302 | |
| fg_rm_feature | 0.978 | 0.010 | 0.994 | |
| fg_rm_summary | 0.428 | 0.007 | 0.439 | |
| fg_save | 43.926 | 0.364 | 44.576 | |
| fg_save_plots | 44.126 | 0.373 | 44.782 | |
| fg_set_layout | 0.326 | 0.006 | 0.335 | |
| fg_summary | 0.411 | 0.006 | 0.418 | |
| flowGraph-class | 0.001 | 0.001 | 0.002 | |
| flowGraph | 1.328 | 0.012 | 1.347 | |
| flowGraphSubset | 0 | 0 | 0 | |
| flowGraphSubset_summary_adjust | 0.000 | 0.000 | 0.001 | |
| flowGraphSubset_summary_pars | 0 | 0 | 0 | |
| get_phen_list | 0.012 | 0.000 | 0.012 | |
| get_phen_meta | 0.001 | 0.000 | 0.002 | |
| ggdf | 0.341 | 0.005 | 0.347 | |
| loop_ind_f | 0.001 | 0.001 | 0.000 | |
| meandiff | 0.000 | 0.000 | 0.001 | |
| plot_gr | 1.553 | 0.031 | 1.598 | |
| set_layout_graph | 0.327 | 0.039 | 0.369 | |
| summary_table | 0.005 | 0.000 | 0.005 | |
| time_output | 0.001 | 0.000 | 0.001 | |
| tstr | 0.000 | 0.001 | 0.001 | |