Back to Multiple platform build/check report for BioC 3.21: simplified long |
|
This page was generated on 2025-10-02 11:39 -0400 (Thu, 02 Oct 2025).
Hostname | OS | Arch (*) | R version | Installed pkgs |
---|---|---|---|---|
nebbiolo1 | Linux (Ubuntu 24.04.3 LTS) | x86_64 | 4.5.1 (2025-06-13) -- "Great Square Root" | 4831 |
merida1 | macOS 12.7.5 Monterey | x86_64 | 4.5.1 RC (2025-06-05 r88288) -- "Great Square Root" | 4612 |
kjohnson1 | macOS 13.6.6 Ventura | arm64 | 4.5.1 Patched (2025-06-14 r88325) -- "Great Square Root" | 4553 |
kunpeng2 | Linux (openEuler 24.03 LTS) | aarch64 | R Under development (unstable) (2025-02-19 r87757) -- "Unsuffered Consequences" | 4584 |
Click on any hostname to see more info about the system (e.g. compilers) (*) as reported by 'uname -p', except on Windows and Mac OS X |
Package 1728/2341 | Hostname | OS / Arch | INSTALL | BUILD | CHECK | BUILD BIN | ||||||||
ReactomeGSA 1.22.0 (landing page) Johannes Griss
| nebbiolo1 | Linux (Ubuntu 24.04.3 LTS) / x86_64 | OK | OK | OK | ![]() | ||||||||
merida1 | macOS 12.7.5 Monterey / x86_64 | OK | OK | OK | OK | ![]() | ||||||||
kjohnson1 | macOS 13.6.6 Ventura / arm64 | OK | OK | OK | OK | ![]() | ||||||||
kunpeng2 | Linux (openEuler 24.03 LTS) / aarch64 | OK | OK | ERROR | ||||||||||
To the developers/maintainers of the ReactomeGSA package: - Allow up to 24 hours (and sometimes 48 hours) for your latest push to git@git.bioconductor.org:packages/ReactomeGSA.git to reflect on this report. See Troubleshooting Build Report for more information. - Use the following Renviron settings to reproduce errors and warnings. - If 'R CMD check' started to fail recently on the Linux builder(s) over a missing dependency, add the missing dependency to 'Suggests:' in your DESCRIPTION file. See Renviron.bioc for more information. |
Package: ReactomeGSA |
Version: 1.22.0 |
Command: /Library/Frameworks/R.framework/Resources/bin/R CMD check --install=check:ReactomeGSA.install-out.txt --library=/Library/Frameworks/R.framework/Resources/library --no-vignettes --timings ReactomeGSA_1.22.0.tar.gz |
StartedAt: 2025-09-30 08:44:54 -0400 (Tue, 30 Sep 2025) |
EndedAt: 2025-09-30 09:10:12 -0400 (Tue, 30 Sep 2025) |
EllapsedTime: 1517.8 seconds |
RetCode: 0 |
Status: OK |
CheckDir: ReactomeGSA.Rcheck |
Warnings: 0 |
############################################################################## ############################################################################## ### ### Running command: ### ### /Library/Frameworks/R.framework/Resources/bin/R CMD check --install=check:ReactomeGSA.install-out.txt --library=/Library/Frameworks/R.framework/Resources/library --no-vignettes --timings ReactomeGSA_1.22.0.tar.gz ### ############################################################################## ############################################################################## * using log directory ‘/Users/biocbuild/bbs-3.21-bioc/meat/ReactomeGSA.Rcheck’ * using R version 4.5.1 RC (2025-06-05 r88288) * using platform: x86_64-apple-darwin20 * R was compiled by Apple clang version 14.0.0 (clang-1400.0.29.202) GNU Fortran (GCC) 14.2.0 * running under: macOS Monterey 12.7.6 * using session charset: UTF-8 * using option ‘--no-vignettes’ * checking for file ‘ReactomeGSA/DESCRIPTION’ ... OK * checking extension type ... Package * this is package ‘ReactomeGSA’ version ‘1.22.0’ * package encoding: UTF-8 * checking package namespace information ... OK * checking package dependencies ... OK * checking if this is a source package ... OK * checking if there is a namespace ... OK * checking for hidden files and directories ... OK * checking for portable file names ... OK * checking for sufficient/correct file permissions ... OK * checking whether package ‘ReactomeGSA’ can be installed ... OK * checking installed package size ... OK * checking package directory ... OK * checking ‘build’ directory ... OK * checking DESCRIPTION meta-information ... OK * checking top-level files ... OK * checking for left-over files ... OK * checking index information ... OK * checking package subdirectories ... OK * checking code files for non-ASCII characters ... OK * checking R files for syntax errors ... OK * checking whether the package can be loaded ... OK * checking whether the package can be loaded with stated dependencies ... OK * checking whether the package can be unloaded cleanly ... OK * checking whether the namespace can be loaded with stated dependencies ... OK * checking whether the namespace can be unloaded cleanly ... OK * checking whether startup messages can be suppressed ... OK * checking dependencies in R code ... OK * checking S3 generic/method consistency ... OK * checking replacement functions ... OK * checking foreign function calls ... OK * checking R code for possible problems ... NOTE plot_correlations,ReactomeAnalysisResult: no visible binding for global variable ‘combined_sig’ plot_correlations,ReactomeAnalysisResult: no visible binding for global variable ‘alpha’ plot_gsva_pathway,ReactomeAnalysisResult: no visible binding for global variable ‘cluster_id’ plot_gsva_pathway,ReactomeAnalysisResult: no visible binding for global variable ‘expr’ plot_gsva_pca,ReactomeAnalysisResult: no visible binding for global variable ‘gsva_result’ plot_gsva_pca,ReactomeAnalysisResult: no visible binding for global variable ‘PC1’ plot_gsva_pca,ReactomeAnalysisResult: no visible binding for global variable ‘PC2’ plot_heatmap,ReactomeAnalysisResult: no visible global function definition for ‘desc’ plot_heatmap,ReactomeAnalysisResult: no visible binding for global variable ‘n_sig’ plot_heatmap,ReactomeAnalysisResult: no visible binding for global variable ‘dataset’ plot_heatmap,ReactomeAnalysisResult: no visible binding for global variable ‘Name’ plot_volcano,ReactomeAnalysisResult: no visible binding for global variable ‘av_foldchange’ plot_volcano,ReactomeAnalysisResult: no visible binding for global variable ‘FDR’ Undefined global functions or variables: FDR Name PC1 PC2 alpha av_foldchange cluster_id combined_sig dataset desc expr gsva_result n_sig * checking Rd files ... OK * checking Rd metadata ... OK * checking Rd cross-references ... OK * checking for missing documentation entries ... OK * checking for code/documentation mismatches ... OK * checking Rd \usage sections ... OK * checking Rd contents ... OK * checking for unstated dependencies in examples ... OK * checking files in ‘vignettes’ ... OK * checking examples ... OK Examples with CPU (user + system) or elapsed time > 5s user system elapsed plot_gsva_heatmap-ReactomeAnalysisResult-method 81.505 2.079 167.925 plot_gsva_pca 81.263 1.945 126.464 plot_gsva_pca-ReactomeAnalysisResult-method 80.338 2.023 122.770 analyse_sc_clusters-SingleCellExperiment-method 78.288 2.087 184.570 analyse_sc_clusters-Seurat-method 78.023 2.094 123.737 plot_gsva_heatmap 77.702 1.838 120.498 plot_gsva_pathway 76.739 1.781 122.720 plot_gsva_pathway-ReactomeAnalysisResult-method 76.625 1.760 119.083 analyse_sc_clusters 76.299 2.080 135.897 generate_pseudo_bulk_data 28.823 2.509 32.561 ReactomeAnalysisRequest 11.540 0.621 13.152 perform_reactome_analysis 5.967 0.373 62.314 load_public_dataset 1.845 0.090 5.711 * checking for unstated dependencies in ‘tests’ ... OK * checking tests ... Running ‘testthat.R’ OK * checking for unstated dependencies in vignettes ... OK * checking package vignettes ... OK * checking running R code from vignettes ... SKIPPED * checking re-building of vignette outputs ... SKIPPED * checking PDF version of manual ... OK * DONE Status: 1 NOTE See ‘/Users/biocbuild/bbs-3.21-bioc/meat/ReactomeGSA.Rcheck/00check.log’ for details.
ReactomeGSA.Rcheck/00install.out
############################################################################## ############################################################################## ### ### Running command: ### ### /Library/Frameworks/R.framework/Resources/bin/R CMD INSTALL ReactomeGSA ### ############################################################################## ############################################################################## * installing to library ‘/Library/Frameworks/R.framework/Versions/4.5-x86_64/Resources/library’ * installing *source* package ‘ReactomeGSA’ ... ** this is package ‘ReactomeGSA’ version ‘1.22.0’ ** using staged installation ** R ** inst ** byte-compile and prepare package for lazy loading in method for ‘analyse_sc_clusters’ with signature ‘object="Seurat"’: no definition for class “Seurat” in method for ‘analyse_sc_clusters’ with signature ‘object="SingleCellExperiment"’: no definition for class “SingleCellExperiment” in method for ‘add_dataset’ with signature ‘request="ReactomeAnalysisRequest",expression_values="EList"’: no definition for class “EList” in method for ‘add_dataset’ with signature ‘request="ReactomeAnalysisRequest",expression_values="DGEList"’: no definition for class “DGEList” in method for ‘generate_pseudo_bulk_data’ with signature ‘object="Seurat"’: no definition for class “Seurat” in method for ‘generate_pseudo_bulk_data’ with signature ‘object="SingleCellExperiment"’: no definition for class “SingleCellExperiment” ** help *** installing help indices ** building package indices ** installing vignettes ** testing if installed package can be loaded from temporary location ** testing if installed package can be loaded from final location ** testing if installed package keeps a record of temporary installation path * DONE (ReactomeGSA)
ReactomeGSA.Rcheck/tests/testthat.Rout
R version 4.5.1 RC (2025-06-05 r88288) -- "Great Square Root" Copyright (C) 2025 The R Foundation for Statistical Computing Platform: x86_64-apple-darwin20 R is free software and comes with ABSOLUTELY NO WARRANTY. You are welcome to redistribute it under certain conditions. Type 'license()' or 'licence()' for distribution details. R is a collaborative project with many contributors. Type 'contributors()' for more information and 'citation()' on how to cite R or R packages in publications. Type 'demo()' for some demos, 'help()' for on-line help, or 'help.start()' for an HTML browser interface to help. Type 'q()' to quit R. > library(testthat) > library(ReactomeGSA) > > test_check("ReactomeGSA") [ FAIL 0 | WARN 0 | SKIP 0 | PASS 17 ] > > proc.time() user system elapsed 4.052 0.351 4.405
ReactomeGSA.Rcheck/ReactomeGSA-Ex.timings
name | user | system | elapsed | |
ReactomeAnalysisRequest | 11.540 | 0.621 | 13.152 | |
ReactomeAnalysisResult-class | 0.364 | 0.030 | 0.418 | |
add_dataset-ReactomeAnalysisRequest-DGEList-method | 1.724 | 0.078 | 1.889 | |
add_dataset-ReactomeAnalysisRequest-EList-method | 1.281 | 0.049 | 1.404 | |
add_dataset-ReactomeAnalysisRequest-ExpressionSet-method | 1.281 | 0.056 | 1.413 | |
add_dataset-ReactomeAnalysisRequest-data.frame-method | 1.294 | 0.062 | 1.387 | |
add_dataset-ReactomeAnalysisRequest-matrix-method | 1.280 | 0.090 | 1.386 | |
add_dataset | 1.275 | 0.080 | 1.372 | |
analyse_sc_clusters-Seurat-method | 78.023 | 2.094 | 123.737 | |
analyse_sc_clusters-SingleCellExperiment-method | 78.288 | 2.087 | 184.570 | |
analyse_sc_clusters | 76.299 | 2.080 | 135.897 | |
find_public_datasets | 0.191 | 0.022 | 3.732 | |
generate_metadata | 0.002 | 0.001 | 0.003 | |
generate_pseudo_bulk_data | 28.823 | 2.509 | 32.561 | |
get_public_species | 0.048 | 0.005 | 0.503 | |
get_reactome_data_types | 0.097 | 0.011 | 0.706 | |
get_reactome_methods | 0.164 | 0.020 | 1.164 | |
get_result-ReactomeAnalysisResult-method | 0.709 | 0.105 | 0.833 | |
get_result | 0.352 | 0.023 | 0.379 | |
load_public_dataset | 1.845 | 0.090 | 5.711 | |
names-ReactomeAnalysisResult-method | 0.334 | 0.021 | 0.367 | |
open_reactome-ReactomeAnalysisResult-method | 0.332 | 0.022 | 0.365 | |
open_reactome | 0.330 | 0.022 | 0.359 | |
pathways-ReactomeAnalysisResult-method | 0.471 | 0.024 | 0.516 | |
pathways | 0.380 | 0.025 | 0.420 | |
perform_reactome_analysis | 5.967 | 0.373 | 62.314 | |
plot_correlations-ReactomeAnalysisResult-method | 0.522 | 0.024 | 0.550 | |
plot_correlations | 0.459 | 0.025 | 0.489 | |
plot_gsva_heatmap-ReactomeAnalysisResult-method | 81.505 | 2.079 | 167.925 | |
plot_gsva_heatmap | 77.702 | 1.838 | 120.498 | |
plot_gsva_pathway-ReactomeAnalysisResult-method | 76.625 | 1.760 | 119.083 | |
plot_gsva_pathway | 76.739 | 1.781 | 122.720 | |
plot_gsva_pca-ReactomeAnalysisResult-method | 80.338 | 2.023 | 122.770 | |
plot_gsva_pca | 81.263 | 1.945 | 126.464 | |
plot_heatmap-ReactomeAnalysisResult-method | 1.192 | 0.092 | 1.306 | |
plot_heatmap | 1.433 | 0.026 | 1.467 | |
plot_volcano-ReactomeAnalysisResult-method | 0.393 | 0.023 | 0.426 | |
plot_volcano | 0.452 | 0.023 | 0.476 | |
print-ReactomeAnalysisRequest-method | 0.003 | 0.002 | 0.004 | |
print-ReactomeAnalysisResult-method | 0.348 | 0.023 | 0.375 | |
reactome_links-ReactomeAnalysisResult-method | 0.347 | 0.022 | 0.371 | |
reactome_links | 0.352 | 0.023 | 0.377 | |
result_types-ReactomeAnalysisResult-method | 0.337 | 0.022 | 0.361 | |
result_types | 0.343 | 0.023 | 0.369 | |
set_method-ReactomeAnalysisRequest-method | 0.004 | 0.004 | 0.008 | |
set_method | 0.003 | 0.003 | 0.006 | |
set_parameters-ReactomeAnalysisRequest-method | 0.003 | 0.001 | 0.004 | |
set_parameters | 0.004 | 0.001 | 0.005 | |
show-ReactomeAnalysisRequest-method | 0.003 | 0.001 | 0.005 | |
show-ReactomeAnalysisResult-method | 0.354 | 0.023 | 0.379 | |