Back to Multiple platform build/check report for BioC 3.21: simplified long |
|
This page was generated on 2025-10-09 11:41 -0400 (Thu, 09 Oct 2025).
Hostname | OS | Arch (*) | R version | Installed pkgs |
---|---|---|---|---|
nebbiolo1 | Linux (Ubuntu 24.04.3 LTS) | x86_64 | 4.5.1 (2025-06-13) -- "Great Square Root" | 4832 |
merida1 | macOS 12.7.5 Monterey | x86_64 | 4.5.1 RC (2025-06-05 r88288) -- "Great Square Root" | 4613 |
kjohnson1 | macOS 13.6.6 Ventura | arm64 | 4.5.1 Patched (2025-06-14 r88325) -- "Great Square Root" | 4554 |
kunpeng2 | Linux (openEuler 24.03 LTS) | aarch64 | R Under development (unstable) (2025-02-19 r87757) -- "Unsuffered Consequences" | 4585 |
Click on any hostname to see more info about the system (e.g. compilers) (*) as reported by 'uname -p', except on Windows and Mac OS X |
Package 1412/2341 | Hostname | OS / Arch | INSTALL | BUILD | CHECK | BUILD BIN | ||||||||
MutationalPatterns 3.18.0 (landing page) Mark van Roosmalen
| nebbiolo1 | Linux (Ubuntu 24.04.3 LTS) / x86_64 | OK | OK | OK | ![]() | ||||||||
merida1 | macOS 12.7.5 Monterey / x86_64 | OK | ERROR | skipped | skipped | |||||||||
kjohnson1 | macOS 13.6.6 Ventura / arm64 | OK | ERROR | skipped | skipped | |||||||||
kunpeng2 | Linux (openEuler 24.03 LTS) / aarch64 | OK | OK | OK | ||||||||||
To the developers/maintainers of the MutationalPatterns package: - Allow up to 24 hours (and sometimes 48 hours) for your latest push to git@git.bioconductor.org:packages/MutationalPatterns.git to reflect on this report. See Troubleshooting Build Report for more information. - Use the following Renviron settings to reproduce errors and warnings. - If 'R CMD check' started to fail recently on the Linux builder(s) over a missing dependency, add the missing dependency to 'Suggests:' in your DESCRIPTION file. See Renviron.bioc for more information. - See Martin Grigorov's blog post for how to debug Linux ARM64 related issues on a x86_64 host. |
Package: MutationalPatterns |
Version: 3.18.0 |
Command: /home/biocbuild/R/R/bin/R CMD check --install=check:MutationalPatterns.install-out.txt --library=/home/biocbuild/R/R/site-library --no-vignettes --timings MutationalPatterns_3.18.0.tar.gz |
StartedAt: 2025-10-07 12:13:22 -0000 (Tue, 07 Oct 2025) |
EndedAt: 2025-10-07 12:28:45 -0000 (Tue, 07 Oct 2025) |
EllapsedTime: 922.9 seconds |
RetCode: 0 |
Status: OK |
CheckDir: MutationalPatterns.Rcheck |
Warnings: 0 |
############################################################################## ############################################################################## ### ### Running command: ### ### /home/biocbuild/R/R/bin/R CMD check --install=check:MutationalPatterns.install-out.txt --library=/home/biocbuild/R/R/site-library --no-vignettes --timings MutationalPatterns_3.18.0.tar.gz ### ############################################################################## ############################################################################## * using log directory ‘/home/biocbuild/bbs-3.21-bioc/meat/MutationalPatterns.Rcheck’ * using R Under development (unstable) (2025-02-19 r87757) * using platform: aarch64-unknown-linux-gnu * R was compiled by aarch64-unknown-linux-gnu-gcc (GCC) 14.2.0 GNU Fortran (GCC) 14.2.0 * running under: openEuler 24.03 (LTS-SP1) * using session charset: UTF-8 * using option ‘--no-vignettes’ * checking for file ‘MutationalPatterns/DESCRIPTION’ ... OK * checking extension type ... Package * this is package ‘MutationalPatterns’ version ‘3.18.0’ * package encoding: UTF-8 * checking package namespace information ... OK * checking package dependencies ... OK * checking if this is a source package ... OK * checking if there is a namespace ... OK * checking for hidden files and directories ... OK * checking for portable file names ... OK * checking for sufficient/correct file permissions ... OK * checking whether package ‘MutationalPatterns’ can be installed ... OK * checking installed package size ... OK * checking package directory ... OK * checking ‘build’ directory ... OK * checking DESCRIPTION meta-information ... NOTE License stub is invalid DCF. * checking top-level files ... OK * checking for left-over files ... OK * checking index information ... OK * checking package subdirectories ... OK * checking code files for non-ASCII characters ... OK * checking R files for syntax errors ... OK * checking whether the package can be loaded ... OK * checking whether the package can be loaded with stated dependencies ... OK * checking whether the package can be unloaded cleanly ... OK * checking whether the namespace can be loaded with stated dependencies ... OK * checking whether the namespace can be unloaded cleanly ... OK * checking loading without being on the library search path ... OK * checking dependencies in R code ... OK * checking S3 generic/method consistency ... OK * checking replacement functions ... OK * checking foreign function calls ... OK * checking R code for possible problems ... OK * checking Rd files ... OK * checking Rd metadata ... OK * checking Rd cross-references ... OK * checking for missing documentation entries ... OK * checking for code/documentation mismatches ... OK * checking Rd \usage sections ... OK * checking Rd contents ... OK * checking for unstated dependencies in examples ... OK * checking files in ‘vignettes’ ... OK * checking examples ... OK Examples with CPU (user + system) or elapsed time > 5s user system elapsed context_potential_damage_analysis 30.384 0.669 37.740 read_vcfs_as_granges 26.201 1.556 52.352 plot_lesion_segregation 22.134 0.111 23.675 get_mut_type 16.351 0.085 18.058 calculate_lesion_segregation 15.443 0.278 17.843 genomic_distribution 14.885 0.299 17.022 bin_mutation_density 12.778 0.446 15.574 plot_compare_indels 12.496 0.020 14.769 plot_indel_contexts 12.327 0.063 13.728 get_indel_context 9.201 0.463 11.857 fit_to_signatures_bootstrapped 8.694 0.075 10.198 plot_compare_dbs 8.200 0.068 9.336 plot_spectrum_region 7.958 0.215 9.076 plot_profile_heatmap 8.023 0.023 9.091 plot_river 7.264 0.028 8.101 plot_spectrum 6.518 0.083 7.491 mut_matrix_stranded 6.052 0.187 7.213 split_muts_region 5.937 0.259 6.578 plot_dbs_contexts 5.742 0.001 6.274 plot_enrichment_depletion 4.977 0.036 5.473 plot_192_profile 4.698 0.009 5.163 determine_regional_similarity 4.318 0.084 5.311 fit_to_signatures_strict 4.303 0.044 5.841 * checking for unstated dependencies in ‘tests’ ... OK * checking tests ... Running ‘testthat.R’ OK * checking for unstated dependencies in vignettes ... OK * checking package vignettes ... OK * checking running R code from vignettes ... SKIPPED * checking re-building of vignette outputs ... SKIPPED * checking PDF version of manual ... OK * DONE Status: 1 NOTE See ‘/home/biocbuild/bbs-3.21-bioc/meat/MutationalPatterns.Rcheck/00check.log’ for details.
MutationalPatterns.Rcheck/00install.out
############################################################################## ############################################################################## ### ### Running command: ### ### /home/biocbuild/R/R/bin/R CMD INSTALL MutationalPatterns ### ############################################################################## ############################################################################## * installing to library ‘/home/biocbuild/R/R-devel_2025-02-19/site-library’ * installing *source* package ‘MutationalPatterns’ ... ** this is package ‘MutationalPatterns’ version ‘3.18.0’ ** using staged installation ** R ** inst ** byte-compile and prepare package for lazy loading ** help *** installing help indices ** building package indices ** installing vignettes ** testing if installed package can be loaded from temporary location ** testing if installed package can be loaded from final location ** testing if installed package keeps a record of temporary installation path * DONE (MutationalPatterns)
MutationalPatterns.Rcheck/tests/testthat.Rout
R Under development (unstable) (2025-02-19 r87757) -- "Unsuffered Consequences" Copyright (C) 2025 The R Foundation for Statistical Computing Platform: aarch64-unknown-linux-gnu R is free software and comes with ABSOLUTELY NO WARRANTY. You are welcome to redistribute it under certain conditions. Type 'license()' or 'licence()' for distribution details. R is a collaborative project with many contributors. Type 'contributors()' for more information and 'citation()' on how to cite R or R packages in publications. Type 'demo()' for some demos, 'help()' for on-line help, or 'help.start()' for an HTML browser interface to help. Type 'q()' to quit R. > library(testthat) > library(MutationalPatterns) Loading required package: GenomicRanges Loading required package: stats4 Loading required package: BiocGenerics Loading required package: generics Attaching package: 'generics' The following objects are masked from 'package:base': as.difftime, as.factor, as.ordered, intersect, is.element, setdiff, setequal, union Attaching package: 'BiocGenerics' The following objects are masked from 'package:stats': IQR, mad, sd, var, xtabs The following objects are masked from 'package:base': Filter, Find, Map, Position, Reduce, anyDuplicated, aperm, append, as.data.frame, basename, cbind, colnames, dirname, do.call, duplicated, eval, evalq, get, grep, grepl, is.unsorted, lapply, mapply, match, mget, order, paste, pmax, pmax.int, pmin, pmin.int, rank, rbind, rownames, sapply, saveRDS, table, tapply, unique, unsplit, which.max, which.min Loading required package: S4Vectors Attaching package: 'S4Vectors' The following object is masked from 'package:utils': findMatches The following objects are masked from 'package:base': I, expand.grid, unname Loading required package: IRanges Loading required package: GenomeInfoDb Loading required package: NMF Loading required package: registry Loading required package: rngtools Loading required package: cluster NMF - BioConductor layer [OK] | Shared memory capabilities [NO: bigmemory] | Cores 2/2 To enable shared memory capabilities, try: install.extras(' NMF ') Attaching package: 'NMF' The following object is masked from 'package:S4Vectors': nrun The following object is masked from 'package:generics': fit The following object is masked from 'package:testthat': compare > > test_check("MutationalPatterns") [ FAIL 0 | WARN 5 | SKIP 0 | PASS 474 ] [ FAIL 0 | WARN 5 | SKIP 0 | PASS 474 ] > > proc.time() user system elapsed 280.791 7.807 373.496
MutationalPatterns.Rcheck/MutationalPatterns-Ex.timings
name | user | system | elapsed | |
bin_mutation_density | 12.778 | 0.446 | 15.574 | |
binomial_test | 0.009 | 0.003 | 0.012 | |
calculate_lesion_segregation | 15.443 | 0.278 | 17.843 | |
cluster_signatures | 0.065 | 0.008 | 0.149 | |
context_potential_damage_analysis | 30.384 | 0.669 | 37.740 | |
convert_sigs_to_ref | 0.049 | 0.013 | 0.126 | |
cos_sim | 0.000 | 0.000 | 0.001 | |
cos_sim_matrix | 0.023 | 0.007 | 0.063 | |
count_dbs_contexts | 0.125 | 0.005 | 0.259 | |
count_indel_contexts | 0.182 | 0.016 | 0.400 | |
count_mbs_contexts | 0.111 | 0.000 | 0.221 | |
determine_regional_similarity | 4.318 | 0.084 | 5.311 | |
enrichment_depletion_test | 0.210 | 0.000 | 0.336 | |
extract_signatures | 0.001 | 0.000 | 0.002 | |
fit_to_signatures | 0.141 | 0.004 | 0.166 | |
fit_to_signatures_bootstrapped | 8.694 | 0.075 | 10.198 | |
fit_to_signatures_strict | 4.303 | 0.044 | 5.841 | |
genomic_distribution | 14.885 | 0.299 | 17.022 | |
get_dbs_context | 0.387 | 0.000 | 0.642 | |
get_indel_context | 9.201 | 0.463 | 11.857 | |
get_known_signatures | 0.309 | 0.061 | 0.690 | |
get_mut_type | 16.351 | 0.085 | 18.058 | |
lengthen_mut_matrix | 0.007 | 0.008 | 0.022 | |
merge_signatures | 1.713 | 0.028 | 1.984 | |
mut_context | 1.584 | 0.080 | 1.785 | |
mut_matrix | 2.862 | 0.151 | 3.416 | |
mut_matrix_stranded | 6.052 | 0.187 | 7.213 | |
mut_strand | 1.386 | 0.008 | 1.554 | |
mut_type | 0.035 | 0.000 | 0.035 | |
mut_type_occurrences | 1.325 | 0.035 | 1.401 | |
mutations_from_vcf | 0.032 | 0.003 | 0.036 | |
plot_192_profile | 4.698 | 0.009 | 5.163 | |
plot_96_profile | 3.997 | 0.035 | 4.402 | |
plot_bootstrapped_contribution | 2.792 | 0.012 | 3.134 | |
plot_compare_dbs | 8.200 | 0.068 | 9.336 | |
plot_compare_indels | 12.496 | 0.020 | 14.769 | |
plot_compare_mbs | 1.143 | 0.000 | 1.159 | |
plot_compare_profiles | 3.026 | 0.005 | 3.103 | |
plot_contribution | 2.248 | 0.012 | 2.335 | |
plot_contribution_heatmap | 2.041 | 0.015 | 2.149 | |
plot_correlation_bootstrap | 0.693 | 0.000 | 0.778 | |
plot_cosine_heatmap | 2.533 | 0.016 | 2.919 | |
plot_dbs_contexts | 5.742 | 0.001 | 6.274 | |
plot_enrichment_depletion | 4.977 | 0.036 | 5.473 | |
plot_indel_contexts | 12.327 | 0.063 | 13.728 | |
plot_lesion_segregation | 22.134 | 0.111 | 23.675 | |
plot_main_dbs_contexts | 0.852 | 0.000 | 0.854 | |
plot_main_indel_contexts | 0.87 | 0.00 | 0.94 | |
plot_mbs_contexts | 0.751 | 0.004 | 0.813 | |
plot_original_vs_reconstructed | 0.834 | 0.012 | 0.848 | |
plot_profile_heatmap | 8.023 | 0.023 | 9.091 | |
plot_profile_region | 1.645 | 0.004 | 1.743 | |
plot_rainfall | 2.499 | 0.008 | 2.969 | |
plot_regional_similarity | 2.098 | 0.008 | 2.272 | |
plot_river | 7.264 | 0.028 | 8.101 | |
plot_signature_strand_bias | 1.118 | 0.000 | 1.127 | |
plot_spectrum | 6.518 | 0.083 | 7.491 | |
plot_spectrum_region | 7.958 | 0.215 | 9.076 | |
plot_strand | 0.264 | 0.008 | 0.276 | |
plot_strand_bias | 1.004 | 0.004 | 1.075 | |
pool_mut_mat | 0.053 | 0.000 | 0.053 | |
read_vcfs_as_granges | 26.201 | 1.556 | 52.352 | |
rename_nmf_signatures | 0.038 | 0.008 | 0.046 | |
signature_potential_damage_analysis | 0.127 | 0.004 | 0.202 | |
split_muts_region | 5.937 | 0.259 | 6.578 | |
strand_bias_test | 0.156 | 0.012 | 0.260 | |
strand_occurrences | 0.215 | 0.008 | 0.225 | |
type_context | 1.793 | 0.135 | 2.190 | |