| Back to Multiple platform build/check report for BioC 3.21: simplified long |
|
This page was generated on 2025-10-16 11:38 -0400 (Thu, 16 Oct 2025).
| Hostname | OS | Arch (*) | R version | Installed pkgs |
|---|---|---|---|---|
| nebbiolo1 | Linux (Ubuntu 24.04.3 LTS) | x86_64 | 4.5.1 (2025-06-13) -- "Great Square Root" | 4833 |
| merida1 | macOS 12.7.6 Monterey | x86_64 | 4.5.1 RC (2025-06-05 r88288) -- "Great Square Root" | 4614 |
| kjohnson1 | macOS 13.7.5 Ventura | arm64 | 4.5.1 Patched (2025-06-14 r88325) -- "Great Square Root" | 4555 |
| kunpeng2 | Linux (openEuler 24.03 LTS) | aarch64 | R Under development (unstable) (2025-02-19 r87757) -- "Unsuffered Consequences" | 4586 |
| Click on any hostname to see more info about the system (e.g. compilers) (*) as reported by 'uname -p', except on Windows and Mac OS X | ||||
| Package 1361/2341 | Hostname | OS / Arch | INSTALL | BUILD | CHECK | BUILD BIN | ||||||||
| MsBackendRawFileReader 1.14.0 (landing page) Christian Panse
| nebbiolo1 | Linux (Ubuntu 24.04.3 LTS) / x86_64 | OK | OK | OK | |||||||||
| merida1 | macOS 12.7.6 Monterey / x86_64 | OK | OK | OK | OK | |||||||||
| kjohnson1 | macOS 13.7.5 Ventura / arm64 | OK | ERROR | skipped | skipped | |||||||||
| kunpeng2 | Linux (openEuler 24.03 LTS) / aarch64 | OK | ERROR | skipped | ||||||||||
|
To the developers/maintainers of the MsBackendRawFileReader package: - Allow up to 24 hours (and sometimes 48 hours) for your latest push to git@git.bioconductor.org:packages/MsBackendRawFileReader.git to reflect on this report. See Troubleshooting Build Report for more information. - Use the following Renviron settings to reproduce errors and warnings. - If 'R CMD check' started to fail recently on the Linux builder(s) over a missing dependency, add the missing dependency to 'Suggests:' in your DESCRIPTION file. See Renviron.bioc for more information. |
| Package: MsBackendRawFileReader |
| Version: 1.14.0 |
| Command: /home/biocbuild/bbs-3.21-bioc/R/bin/R CMD check --install=check:MsBackendRawFileReader.install-out.txt --library=/home/biocbuild/bbs-3.21-bioc/R/site-library --timings MsBackendRawFileReader_1.14.0.tar.gz |
| StartedAt: 2025-10-16 01:23:30 -0400 (Thu, 16 Oct 2025) |
| EndedAt: 2025-10-16 01:28:14 -0400 (Thu, 16 Oct 2025) |
| EllapsedTime: 283.3 seconds |
| RetCode: 0 |
| Status: OK |
| CheckDir: MsBackendRawFileReader.Rcheck |
| Warnings: 0 |
##############################################################################
##############################################################################
###
### Running command:
###
### /home/biocbuild/bbs-3.21-bioc/R/bin/R CMD check --install=check:MsBackendRawFileReader.install-out.txt --library=/home/biocbuild/bbs-3.21-bioc/R/site-library --timings MsBackendRawFileReader_1.14.0.tar.gz
###
##############################################################################
##############################################################################
* using log directory ‘/home/biocbuild/bbs-3.21-bioc/meat/MsBackendRawFileReader.Rcheck’
* using R version 4.5.1 (2025-06-13)
* using platform: x86_64-pc-linux-gnu
* R was compiled by
gcc (Ubuntu 13.3.0-6ubuntu2~24.04) 13.3.0
GNU Fortran (Ubuntu 13.3.0-6ubuntu2~24.04) 13.3.0
* running under: Ubuntu 24.04.3 LTS
* using session charset: UTF-8
* checking for file ‘MsBackendRawFileReader/DESCRIPTION’ ... OK
* checking extension type ... Package
* this is package ‘MsBackendRawFileReader’ version ‘1.14.0’
* package encoding: UTF-8
* checking package namespace information ... OK
* checking package dependencies ... OK
* checking if this is a source package ... OK
* checking if there is a namespace ... OK
* checking for hidden files and directories ... OK
* checking for portable file names ... OK
* checking for sufficient/correct file permissions ... OK
* checking whether package ‘MsBackendRawFileReader’ can be installed ... OK
* checking installed package size ... OK
* checking package directory ... OK
* checking ‘build’ directory ... OK
* checking DESCRIPTION meta-information ... OK
* checking top-level files ... OK
* checking for left-over files ... OK
* checking index information ... OK
* checking package subdirectories ... OK
* checking code files for non-ASCII characters ... OK
* checking R files for syntax errors ... OK
* checking whether the package can be loaded ... OK
* checking whether the package can be loaded with stated dependencies ... OK
* checking whether the package can be unloaded cleanly ... OK
* checking whether the namespace can be loaded with stated dependencies ... OK
* checking whether the namespace can be unloaded cleanly ... OK
* checking loading without being on the library search path ... OK
* checking whether startup messages can be suppressed ... OK
* checking dependencies in R code ... OK
* checking S3 generic/method consistency ... OK
* checking replacement functions ... OK
* checking foreign function calls ... OK
* checking R code for possible problems ... OK
* checking Rd files ... OK
* checking Rd metadata ... OK
* checking Rd cross-references ... OK
* checking for missing documentation entries ... OK
* checking for code/documentation mismatches ... OK
* checking Rd \usage sections ... OK
* checking Rd contents ... OK
* checking for unstated dependencies in examples ... OK
* checking files in ‘vignettes’ ... OK
* checking examples ... OK
Examples with CPU (user + system) or elapsed time > 5s
user system elapsed
ioBenchmark 28.554 5.811 11.180
MsBackendRawFileReader 6.133 2.040 8.719
* checking for unstated dependencies in ‘tests’ ... OK
* checking tests ...
Running ‘testthat.R’
OK
* checking for unstated dependencies in vignettes ... OK
* checking package vignettes ... OK
* checking re-building of vignette outputs ... OK
* checking PDF version of manual ... OK
* DONE
Status: OK
MsBackendRawFileReader.Rcheck/00install.out
############################################################################## ############################################################################## ### ### Running command: ### ### /home/biocbuild/bbs-3.21-bioc/R/bin/R CMD INSTALL MsBackendRawFileReader ### ############################################################################## ############################################################################## * installing to library ‘/home/biocbuild/bbs-3.21-bioc/R/site-library’ * installing *source* package ‘MsBackendRawFileReader’ ... ** this is package ‘MsBackendRawFileReader’ version ‘1.14.0’ ** using staged installation ** R ** inst ** byte-compile and prepare package for lazy loading ** help *** installing help indices ** building package indices ** installing vignettes ** testing if installed package can be loaded from temporary location ** testing if installed package can be loaded from final location ** testing if installed package keeps a record of temporary installation path * DONE (MsBackendRawFileReader)
MsBackendRawFileReader.Rcheck/tests/testthat.Rout
R version 4.5.1 (2025-06-13) -- "Great Square Root"
Copyright (C) 2025 The R Foundation for Statistical Computing
Platform: x86_64-pc-linux-gnu
R is free software and comes with ABSOLUTELY NO WARRANTY.
You are welcome to redistribute it under certain conditions.
Type 'license()' or 'licence()' for distribution details.
R is a collaborative project with many contributors.
Type 'contributors()' for more information and
'citation()' on how to cite R or R packages in publications.
Type 'demo()' for some demos, 'help()' for on-line help, or
'help.start()' for an HTML browser interface to help.
Type 'q()' to quit R.
> library("testthat")
> library("MsBackendRawFileReader")
Loading required package: Spectra
Loading required package: S4Vectors
Loading required package: stats4
Loading required package: BiocGenerics
Loading required package: generics
Attaching package: 'generics'
The following objects are masked from 'package:base':
as.difftime, as.factor, as.ordered, intersect, is.element, setdiff,
setequal, union
Attaching package: 'BiocGenerics'
The following objects are masked from 'package:stats':
IQR, mad, sd, var, xtabs
The following objects are masked from 'package:base':
Filter, Find, Map, Position, Reduce, anyDuplicated, aperm, append,
as.data.frame, basename, cbind, colnames, dirname, do.call,
duplicated, eval, evalq, get, grep, grepl, is.unsorted, lapply,
mapply, match, mget, order, paste, pmax, pmax.int, pmin, pmin.int,
rank, rbind, rownames, sapply, saveRDS, table, tapply, unique,
unsplit, which.max, which.min
Attaching package: 'S4Vectors'
The following object is masked from 'package:utils':
findMatches
The following objects are masked from 'package:base':
I, expand.grid, unname
Loading required package: BiocParallel
> library("Spectra")
>
>
> sample_raw_file <- file.path(system.file(package = "rawrr"),
+ 'extdata', 'sample.raw')
>
> sample_mzXML_file <- file.path(path.package(package = 'MsBackendRawFileReader'),
+ 'extdata', 'sample.mzXML')
>
>
> sample_raw <- backendInitialize(MsBackendRawFileReader::MsBackendRawFileReader(), files = sample_raw_file)
>
>
> #sample_mzr <- backendInitialize(MsBackendMzR(), files = sample_mzXML_file)
>
>
> mgf_file <- file.path(system.file(package = "MsBackendRawFileReader"),
+ 'extdata', '3159619b11ed_4590_9594.mgf')
>
>
> rv <- lapply(1:2, function(x){
+ file.copy(from = sample_raw_file, to = tempfile(fileext='.raw'))})
>
>
> register(SnowParam(workers = 1, type = "SOCK") , default = TRUE);
> sample_raw_2 <- backendInitialize(MsBackendRawFileReader(),
+ files = file.path(tempdir(),
+ list.files(path = tempdir(), pattern = 'raw$')))
>
>
> test_check("MsBackendRawFileReader")
[ FAIL 0 | WARN 1 | SKIP 2 | PASS 21 ]
══ Skipped tests (2) ═══════════════════════════════════════════════════════════
• isFALSE(file.exists(sample_mzXML_file)) is TRUE (1):
'test_MsBackendMzR_MsBackendRawFileReader.R:1:1'
• isFALSE(require(MsBackendRawMgf)) is TRUE (1): 'test_top_n_mgf.R:1:1'
[ FAIL 0 | WARN 1 | SKIP 2 | PASS 21 ]
>
>
> be <- Spectra::backendInitialize(MsBackendRawFileReader::MsBackendRawFileReader(),
+ files = c(sample_raw_file))
>
> ## Run the MsBackend spectra variable test suite
>
> test_suite <- system.file("test_backends", "test_MsBackend",
+ package = "Spectra")
>
> #res <- test_file(paste0(test_suite, "/test_spectra_variables.R"),
> # reporter = check_reporter(), stop_on_failure = TRUE)
>
>
> ## Run the whole suite.
> res <- test_dir(test_suite, stop_on_failure = TRUE)
✔ | F W S OK | Context
⠏ | 0 | peaks_variables
⠙ | 2 | peaks_variables
⠸ | 4 | peaks_variables
✔ | 4 | peaks_variables [3.8s]
⠏ | 0 | spectra_subsetting
⠋ | 1 | spectra_subsetting
⠴ | 16 | spectra_subsetting
⠧ | 28 | spectra_subsetting
⠹ | 43 | spectra_subsetting
⠧ | 58 | spectra_subsetting
⠋ | 71 | spectra_subsetting
⠼ | 85 | spectra_subsetting
⠏ | 100 | spectra_subsetting
⠸ | 114 | spectra_subsetting
⠦ | 127 | spectra_subsetting
⠏ | 140 | spectra_subsetting
⠸ | 154 | spectra_subsetting
⠇ | 169 | spectra_subsetting
⠙ | 182 | spectra_subsetting
⠴ | 196 | spectra_subsetting
⠋ | 211 | spectra_subsetting
⠼ | 225 | spectra_subsetting
⠇ | 239 | spectra_subsetting
⠹ | 253 | spectra_subsetting
⠧ | 268 | spectra_subsetting
⠹ | 283 | spectra_subsetting
⠼ | 295 | spectra_subsetting
⠏ | 310 | spectra_subsetting
⠼ | 325 | spectra_subsetting
⠏ | 340 | spectra_subsetting
⠼ | 355 | spectra_subsetting
⠏ | 370 | spectra_subsetting
⠼ | 385 | spectra_subsetting
⠏ | 400 | spectra_subsetting
⠼ | 415 | spectra_subsetting
⠏ | 430 | spectra_subsetting
⠙ | 442 | spectra_subsetting
⠦ | 457 | spectra_subsetting
⠙ | 472 | spectra_subsetting
⠦ | 487 | spectra_subsetting
⠙ | 502 | spectra_subsetting
⠸ | 514 | spectra_subsetting
⠇ | 529 | spectra_subsetting
⠹ | 543 | spectra_subsetting
⠹ | 553 | spectra_subsetting
⠼ | 565 | spectra_subsetting
⠦ | 577 | spectra_subsetting
⠦ | 587 | spectra_subsetting
⠧ | 598 | spectra_subsetting
⠹ | 613 | spectra_subsetting
⠼ | 625 | spectra_subsetting
⠏ | 640 | spectra_subsetting
⠙ | 652 | spectra_subsetting
⠼ | 665 | spectra_subsetting
⠇ | 679 | spectra_subsetting
⠋ | 691 | spectra_subsetting
⠹ | 703 | spectra_subsetting
⠧ | 718 | spectra_subsetting
⠏ | 730 | spectra_subsetting
⠼ | 745 | spectra_subsetting
⠏ | 760 | spectra_subsetting
⠹ | 773 | spectra_subsetting
⠦ | 787 | spectra_subsetting
⠙ | 802 | spectra_subsetting
⠦ | 817 | spectra_subsetting
⠙ | 832 | spectra_subsetting
⠦ | 847 | spectra_subsetting
⠙ | 862 | spectra_subsetting
⠦ | 877 | spectra_subsetting
⠙ | 892 | spectra_subsetting
⠦ | 907 | spectra_subsetting
⠙ | 922 | spectra_subsetting
⠦ | 937 | spectra_subsetting
⠙ | 952 | spectra_subsetting
⠦ | 967 | spectra_subsetting
⠙ | 982 | spectra_subsetting
⠦ | 997 | spectra_subsetting
⠙ | 1012 | spectra_subsetting
⠦ | 1027 | spectra_subsetting
⠙ | 1042 | spectra_subsetting
⠦ | 1057 | spectra_subsetting
⠇ | 1069 | spectra_subsetting
⠸ | 1084 | spectra_subsetting
⠴ | 1096 | spectra_subsetting
⠋ | 1111 | spectra_subsetting
⠴ | 1126 | spectra_subsetting
⠋ | 1141 | spectra_subsetting
⠴ | 1156 | spectra_subsetting
⠇ | 1169 | spectra_subsetting
⠹ | 1183 | spectra_subsetting
⠧ | 1198 | spectra_subsetting
⠹ | 1213 | spectra_subsetting
⠧ | 1228 | spectra_subsetting
⠙ | 1242 | spectra_subsetting
⠴ | 1256 | spectra_subsetting
⠏ | 1270 | spectra_subsetting
⠼ | 1285 | spectra_subsetting
⠏ | 1300 | spectra_subsetting
⠹ | 1313 | spectra_subsetting
⠦ | 1327 | spectra_subsetting
⠙ | 1342 | spectra_subsetting
⠼ | 1355 | spectra_subsetting
⠇ | 1369 | spectra_subsetting
⠸ | 1384 | spectra_subsetting
⠇ | 1399 | spectra_subsetting
⠸ | 1414 | spectra_subsetting
⠴ | 1426 | spectra_subsetting
⠋ | 1441 | spectra_subsetting
⠸ | 1454 | spectra_subsetting
⠧ | 1468 | spectra_subsetting
⠹ | 1483 | spectra_subsetting
⠧ | 1498 | spectra_subsetting
⠹ | 1513 | spectra_subsetting
⠦ | 1527 | spectra_subsetting
⠏ | 1540 | spectra_subsetting
⠼ | 1555 | spectra_subsetting
⠦ | 1567 | spectra_subsetting
⠙ | 1582 | spectra_subsetting
⠦ | 1597 | spectra_subsetting
⠙ | 1612 | spectra_subsetting
⠦ | 1627 | spectra_subsetting
⠏ | 1640 | spectra_subsetting
⠸ | 1654 | spectra_subsetting
⠦ | 1667 | spectra_subsetting
⠋ | 1681 | spectra_subsetting
⠴ | 1696 | spectra_subsetting
⠇ | 1709 | spectra_subsetting
⠋ | 1721 | spectra_subsetting
⠦ | 1727 | spectra_subsetting
⠇ | 1729 | spectra_subsetting
⠋ | 1731 | spectra_subsetting
⠹ | 1733 | spectra_subsetting
⠼ | 1735 | spectra_subsetting
⠦ | 1737 | spectra_subsetting
⠏ | 1740 | spectra_subsetting
⠙ | 1742 | spectra_subsetting
⠸ | 1744 | spectra_subsetting
⠴ | 1746 | spectra_subsetting
⠧ | 1748 | spectra_subsetting
⠏ | 1750 | spectra_subsetting
⠙ | 1752 | spectra_subsetting
⠸ | 1754 | spectra_subsetting
⠴ | 1756 | spectra_subsetting
⠧ | 1758 | spectra_subsetting
⠏ | 1760 | spectra_subsetting
⠙ | 1762 | spectra_subsetting
⠸ | 1764 | spectra_subsetting
⠴ | 1766 | spectra_subsetting
⠧ | 1768 | spectra_subsetting
⠏ | 1770 | spectra_subsetting
⠙ | 1772 | spectra_subsetting
⠸ | 1774 | spectra_subsetting
⠴ | 1776 | spectra_subsetting
⠧ | 1778 | spectra_subsetting
⠏ | 1780 | spectra_subsetting
⠙ | 1782 | spectra_subsetting
⠸ | 1784 | spectra_subsetting
⠴ | 1786 | spectra_subsetting
⠧ | 1788 | spectra_subsetting
⠏ | 1790 | spectra_subsetting
⠙ | 1792 | spectra_subsetting
⠸ | 1794 | spectra_subsetting
⠴ | 1796 | spectra_subsetting
⠧ | 1798 | spectra_subsetting
⠏ | 1800 | spectra_subsetting
⠙ | 1802 | spectra_subsetting
⠸ | 1804 | spectra_subsetting
⠦ | 1807 | spectra_subsetting
⠇ | 1809 | spectra_subsetting
⠋ | 1811 | spectra_subsetting
⠹ | 1813 | spectra_subsetting
⠼ | 1815 | spectra_subsetting
⠦ | 1817 | spectra_subsetting
⠇ | 1819 | spectra_subsetting
⠋ | 1821 | spectra_subsetting
⠹ | 1823 | spectra_subsetting
⠼ | 1825 | spectra_subsetting
⠧ | 1828 | spectra_subsetting
⠏ | 1830 | spectra_subsetting
⠹ | 1833 | spectra_subsetting
⠼ | 1835 | spectra_subsetting
⠦ | 1837 | spectra_subsetting
⠇ | 1839 | spectra_subsetting
⠋ | 1841 | spectra_subsetting
⠹ | 1843 | spectra_subsetting
⠼ | 1845 | spectra_subsetting
⠦ | 1847 | spectra_subsetting
⠏ | 1850 | spectra_subsetting
⠙ | 1852 | spectra_subsetting
⠸ | 1854 | spectra_subsetting
⠴ | 1856 | spectra_subsetting
⠧ | 1858 | spectra_subsetting
⠏ | 1860 | spectra_subsetting
⠙ | 1862 | spectra_subsetting
⠸ | 1864 | spectra_subsetting
⠴ | 1866 | spectra_subsetting
⠧ | 1868 | spectra_subsetting
⠏ | 1870 | spectra_subsetting
⠙ | 1872 | spectra_subsetting
⠸ | 1874 | spectra_subsetting
⠴ | 1876 | spectra_subsetting
⠧ | 1878 | spectra_subsetting
⠏ | 1880 | spectra_subsetting
⠙ | 1882 | spectra_subsetting
⠼ | 1885 | spectra_subsetting
⠦ | 1887 | spectra_subsetting
⠇ | 1889 | spectra_subsetting
⠋ | 1891 | spectra_subsetting
⠸ | 1894 | spectra_subsetting
⠴ | 1896 | spectra_subsetting
⠧ | 1898 | spectra_subsetting
⠏ | 1900 | spectra_subsetting
⠹ | 1903 | spectra_subsetting
⠴ | 1906 | spectra_subsetting
⠇ | 1909 | spectra_subsetting
⠋ | 1911 | spectra_subsetting
⠹ | 1913 | spectra_subsetting
⠼ | 1915 | spectra_subsetting
⠧ | 1918 | spectra_subsetting
⠋ | 1921 | spectra_subsetting
⠹ | 1923 | spectra_subsetting
⠼ | 1925 | spectra_subsetting
⠦ | 1927 | spectra_subsetting
⠇ | 1929 | spectra_subsetting
⠋ | 1931 | spectra_subsetting
⠹ | 1933 | spectra_subsetting
⠼ | 1935 | spectra_subsetting
⠦ | 1937 | spectra_subsetting
⠇ | 1939 | spectra_subsetting
⠋ | 1941 | spectra_subsetting
⠸ | 1944 | spectra_subsetting
⠴ | 1946 | spectra_subsetting
⠇ | 1949 | spectra_subsetting
⠋ | 1951 | spectra_subsetting
⠹ | 1953 | spectra_subsetting
⠼ | 1955 | spectra_subsetting
⠧ | 1958 | spectra_subsetting
⠏ | 1960 | spectra_subsetting
⠹ | 1963 | spectra_subsetting
⠴ | 1966 | spectra_subsetting
⠧ | 1968 | spectra_subsetting
⠋ | 1971 | spectra_subsetting
⠹ | 1973 | spectra_subsetting
⠴ | 1976 | spectra_subsetting
⠇ | 1979 | spectra_subsetting
⠋ | 1981 | spectra_subsetting
⠸ | 1984 | spectra_subsetting
⠴ | 1986 | spectra_subsetting
⠧ | 1988 | spectra_subsetting
⠏ | 1990 | spectra_subsetting
⠙ | 1992 | spectra_subsetting
⠸ | 1994 | spectra_subsetting
⠴ | 1996 | spectra_subsetting
⠇ | 1999 | spectra_subsetting
⠙ | 2002 | spectra_subsetting
⠸ | 2004 | spectra_subsetting
⠦ | 2007 | spectra_subsetting
⠏ | 2010 | spectra_subsetting
⠹ | 2013 | spectra_subsetting
⠴ | 2016 | spectra_subsetting
⠇ | 2019 | spectra_subsetting
⠙ | 2022 | spectra_subsetting
⠼ | 2025 | spectra_subsetting
⠦ | 2027 | spectra_subsetting
⠏ | 2030 | spectra_subsetting
⠙ | 2032 | spectra_subsetting
⠼ | 2035 | spectra_subsetting
⠦ | 2037 | spectra_subsetting
⠇ | 2039 | spectra_subsetting
⠋ | 2041 | spectra_subsetting
⠸ | 2044 | spectra_subsetting
⠴ | 2046 | spectra_subsetting
⠇ | 2049 | spectra_subsetting
⠙ | 2052 | spectra_subsetting
⠸ | 2054 | spectra_subsetting
⠦ | 2057 | spectra_subsetting
⠇ | 2059 | spectra_subsetting
⠙ | 2062 | spectra_subsetting
⠸ | 2064 | spectra_subsetting
⠦ | 2067 | spectra_subsetting
⠏ | 2070 | spectra_subsetting
⠙ | 2072 | spectra_subsetting
⠸ | 2074 | spectra_subsetting
⠴ | 2076 | spectra_subsetting
⠧ | 2078 | spectra_subsetting
⠋ | 2081 | spectra_subsetting
⠸ | 2084 | spectra_subsetting
⠴ | 2086 | spectra_subsetting
⠇ | 2089 | spectra_subsetting
⠋ | 2091 | spectra_subsetting
⠹ | 2093 | spectra_subsetting
⠼ | 2095 | spectra_subsetting
⠦ | 2097 | spectra_subsetting
⠇ | 2099 | spectra_subsetting
⠙ | 2102 | spectra_subsetting
⠸ | 2104 | spectra_subsetting
⠴ | 2106 | spectra_subsetting
⠧ | 2108 | spectra_subsetting
⠋ | 2111 | spectra_subsetting
⠹ | 2113 | spectra_subsetting
⠴ | 2116 | spectra_subsetting
⠧ | 2118 | spectra_subsetting
⠏ | 2120 | spectra_subsetting
⠙ | 2122 | spectra_subsetting
⠼ | 2125 | spectra_subsetting
⠦ | 2127 | spectra_subsetting
⠇ | 2129 | spectra_subsetting
⠋ | 2131 | spectra_subsetting
⠹ | 2133 | spectra_subsetting
⠼ | 2135 | spectra_subsetting
⠧ | 2138 | spectra_subsetting
⠏ | 2140 | spectra_subsetting
⠹ | 2143 | spectra_subsetting
⠼ | 2145 | spectra_subsetting
⠧ | 2148 | spectra_subsetting
⠋ | 2151 | spectra_subsetting
⠹ | 2153 | spectra_subsetting
⠴ | 2156 | spectra_subsetting
⠧ | 2158 | spectra_subsetting
⠏ | 2160 | spectra_subsetting
⠙ | 2162 | spectra_subsetting
⠼ | 2165 | spectra_subsetting
⠦ | 2167 | spectra_subsetting
⠇ | 2169 | spectra_subsetting
⠋ | 2171 | spectra_subsetting
⠹ | 2173 | spectra_subsetting
⠼ | 2175 | spectra_subsetting
⠧ | 2178 | spectra_subsetting
⠏ | 2180 | spectra_subsetting
⠹ | 2183 | spectra_subsetting
⠼ | 2185 | spectra_subsetting
⠧ | 2188 | spectra_subsetting
⠏ | 2190 | spectra_subsetting
⠹ | 2193 | spectra_subsetting
⠴ | 2196 | spectra_subsetting
⠧ | 2198 | spectra_subsetting
⠋ | 2201 | spectra_subsetting
⠹ | 2203 | spectra_subsetting
⠼ | 2205 | spectra_subsetting
⠦ | 2207 | spectra_subsetting
⠏ | 2210 | spectra_subsetting
⠙ | 2212 | spectra_subsetting
⠼ | 2215 | spectra_subsetting
⠦ | 2217 | spectra_subsetting
⠏ | 2220 | spectra_subsetting
⠹ | 2223 | spectra_subsetting
⠼ | 2225 | spectra_subsetting
⠧ | 2228 | spectra_subsetting
⠏ | 2230 | spectra_subsetting
⠹ | 2233 | spectra_subsetting
⠴ | 2236 | spectra_subsetting
⠧ | 2238 | spectra_subsetting
⠋ | 2241 | spectra_subsetting
⠹ | 2243 | spectra_subsetting
⠼ | 2245 | spectra_subsetting
⠦ | 2247 | spectra_subsetting
⠇ | 2249 | spectra_subsetting
⠋ | 2251 | spectra_subsetting
⠹ | 2253 | spectra_subsetting
⠴ | 2256 | spectra_subsetting
⠇ | 2259 | spectra_subsetting
⠋ | 2261 | spectra_subsetting
⠸ | 2264 | spectra_subsetting
⠴ | 2266 | spectra_subsetting
⠇ | 2269 | spectra_subsetting
⠋ | 2271 | spectra_subsetting
⠹ | 2273 | spectra_subsetting
⠼ | 2275 | spectra_subsetting
⠧ | 2278 | spectra_subsetting
⠏ | 2280 | spectra_subsetting
⠙ | 2282 | spectra_subsetting
⠸ | 2284 | spectra_subsetting
⠴ | 2286 | spectra_subsetting
⠧ | 2288 | spectra_subsetting
⠋ | 2291 | spectra_subsetting
⠹ | 2293 | spectra_subsetting
⠼ | 2295 | spectra_subsetting
⠦ | 2297 | spectra_subsetting
⠏ | 2300 | spectra_subsetting
⠸ | 2304 | spectra_subsetting
⠙ | 2312 | spectra_subsetting
⠇ | 2319 | spectra_subsetting
⠇ | 2329 | spectra_subsetting
⠸ | 2334 | spectra_subsetting
✔ | 2342 | spectra_subsetting [44.9s]
⠏ | 0 | spectra_variables
⠙ | 12 | spectra_variables
⠸ | 14 | spectra_variables
⠴ | 16 | spectra_variables
⠦ | 27 | spectra_variables
⠇ | 29 | spectra_variables
⠋ | 31 | spectra_variables
⠙ | 42 | spectra_variables
⠹ | 43 | spectra_variables
⠦ | 1 56 | spectra_variables
✔ | 1 62 | spectra_variables [14.6s]
══ Results ═════════════════════════════════════════════════════════════════════
Duration: 63.3 s
── Skipped tests (1) ───────────────────────────────────────────────────────────
• empty test (1): 'test_spectra_variables.R:262:1'
[ FAIL 0 | WARN 0 | SKIP 1 | PASS 2408 ]
>
> proc.time()
user system elapsed
85.009 8.302 95.699
MsBackendRawFileReader.Rcheck/MsBackendRawFileReader-Ex.timings
| name | user | system | elapsed | |
| MsBackendRawFileReader-class | 3.009 | 0.817 | 4.158 | |
| MsBackendRawFileReader | 6.133 | 2.040 | 8.719 | |
| hidden_aliases | 1.977 | 0.701 | 2.864 | |
| ioBenchmark | 28.554 | 5.811 | 11.180 | |