| Back to Multiple platform build/check report for BioC 3.21: simplified long |
|
This page was generated on 2025-04-22 13:18 -0400 (Tue, 22 Apr 2025).
| Hostname | OS | Arch (*) | R version | Installed pkgs |
|---|---|---|---|---|
| nebbiolo1 | Linux (Ubuntu 24.04.1 LTS) | x86_64 | 4.5.0 RC (2025-04-04 r88126) -- "How About a Twenty-Six" | 4831 |
| palomino7 | Windows Server 2022 Datacenter | x64 | 4.5.0 RC (2025-04-04 r88126 ucrt) -- "How About a Twenty-Six" | 4573 |
| lconway | macOS 12.7.1 Monterey | x86_64 | 4.5.0 RC (2025-04-04 r88126) -- "How About a Twenty-Six" | 4599 |
| kjohnson3 | macOS 13.7.1 Ventura | arm64 | 4.5.0 RC (2025-04-04 r88126) -- "How About a Twenty-Six" | 4553 |
| kunpeng2 | Linux (openEuler 24.03 LTS) | aarch64 | R Under development (unstable) (2025-02-19 r87757) -- "Unsuffered Consequences" | 4570 |
| Click on any hostname to see more info about the system (e.g. compilers) (*) as reported by 'uname -p', except on Windows and Mac OS X | ||||
| Package 822/2341 | Hostname | OS / Arch | INSTALL | BUILD | CHECK | BUILD BIN | ||||||||
| GeneStructureTools 1.28.0 (landing page) Beth Signal
| nebbiolo1 | Linux (Ubuntu 24.04.1 LTS) / x86_64 | OK | OK | OK | |||||||||
| palomino7 | Windows Server 2022 Datacenter / x64 | OK | OK | OK | OK | |||||||||
| lconway | macOS 12.7.1 Monterey / x86_64 | OK | OK | OK | OK | |||||||||
| kjohnson3 | macOS 13.7.1 Ventura / arm64 | OK | OK | OK | OK | |||||||||
| kunpeng2 | Linux (openEuler 24.03 LTS) / aarch64 | OK | OK | OK | ||||||||||
|
To the developers/maintainers of the GeneStructureTools package: - Allow up to 24 hours (and sometimes 48 hours) for your latest push to git@git.bioconductor.org:packages/GeneStructureTools.git to reflect on this report. See Troubleshooting Build Report for more information. - Use the following Renviron settings to reproduce errors and warnings. - If 'R CMD check' started to fail recently on the Linux builder(s) over a missing dependency, add the missing dependency to 'Suggests:' in your DESCRIPTION file. See Renviron.bioc for more information. |
| Package: GeneStructureTools |
| Version: 1.28.0 |
| Command: /Library/Frameworks/R.framework/Resources/bin/R CMD check --install=check:GeneStructureTools.install-out.txt --library=/Library/Frameworks/R.framework/Resources/library --no-vignettes --timings GeneStructureTools_1.28.0.tar.gz |
| StartedAt: 2025-04-21 19:31:38 -0400 (Mon, 21 Apr 2025) |
| EndedAt: 2025-04-21 19:34:13 -0400 (Mon, 21 Apr 2025) |
| EllapsedTime: 154.8 seconds |
| RetCode: 0 |
| Status: OK |
| CheckDir: GeneStructureTools.Rcheck |
| Warnings: 0 |
##############################################################################
##############################################################################
###
### Running command:
###
### /Library/Frameworks/R.framework/Resources/bin/R CMD check --install=check:GeneStructureTools.install-out.txt --library=/Library/Frameworks/R.framework/Resources/library --no-vignettes --timings GeneStructureTools_1.28.0.tar.gz
###
##############################################################################
##############################################################################
* using log directory ‘/Users/biocbuild/bbs-3.21-bioc/meat/GeneStructureTools.Rcheck’
* using R version 4.5.0 RC (2025-04-04 r88126)
* using platform: aarch64-apple-darwin20
* R was compiled by
Apple clang version 14.0.0 (clang-1400.0.29.202)
GNU Fortran (GCC) 14.2.0
* running under: macOS Ventura 13.7.1
* using session charset: UTF-8
* using option ‘--no-vignettes’
* checking for file ‘GeneStructureTools/DESCRIPTION’ ... OK
* checking extension type ... Package
* this is package ‘GeneStructureTools’ version ‘1.28.0’
* package encoding: UTF-8
* checking package namespace information ... OK
* checking package dependencies ... OK
* checking if this is a source package ... OK
* checking if there is a namespace ... OK
* checking for hidden files and directories ... OK
* checking for portable file names ... OK
* checking for sufficient/correct file permissions ... OK
* checking whether package ‘GeneStructureTools’ can be installed ... OK
* checking installed package size ... OK
* checking package directory ... OK
* checking ‘build’ directory ... OK
* checking DESCRIPTION meta-information ... OK
* checking top-level files ... OK
* checking for left-over files ... OK
* checking index information ... OK
* checking package subdirectories ... OK
* checking code files for non-ASCII characters ... OK
* checking R files for syntax errors ... OK
* checking whether the package can be loaded ... OK
* checking whether the package can be loaded with stated dependencies ... OK
* checking whether the package can be unloaded cleanly ... OK
* checking whether the namespace can be loaded with stated dependencies ... OK
* checking whether the namespace can be unloaded cleanly ... OK
* checking dependencies in R code ... OK
* checking S3 generic/method consistency ... OK
* checking replacement functions ... OK
* checking foreign function calls ... OK
* checking R code for possible problems ... OK
* checking Rd files ... OK
* checking Rd metadata ... OK
* checking Rd cross-references ... OK
* checking for missing documentation entries ... OK
* checking for code/documentation mismatches ... OK
* checking Rd \usage sections ... OK
* checking Rd contents ... OK
* checking for unstated dependencies in examples ... OK
* checking files in ‘vignettes’ ... OK
* checking examples ... OK
Examples with CPU (user + system) or elapsed time > 5s
user system elapsed
leafcutterTranscriptChangeSummary 6.541 0.271 6.818
* checking for unstated dependencies in vignettes ... OK
* checking package vignettes ... OK
* checking running R code from vignettes ... SKIPPED
* checking re-building of vignette outputs ... SKIPPED
* checking PDF version of manual ... OK
* DONE
Status: OK
GeneStructureTools.Rcheck/00install.out
############################################################################## ############################################################################## ### ### Running command: ### ### /Library/Frameworks/R.framework/Resources/bin/R CMD INSTALL GeneStructureTools ### ############################################################################## ############################################################################## * installing to library ‘/Library/Frameworks/R.framework/Versions/4.5-arm64/Resources/library’ * installing *source* package ‘GeneStructureTools’ ... ** this is package ‘GeneStructureTools’ version ‘1.28.0’ ** using staged installation ** R ** inst ** byte-compile and prepare package for lazy loading ** help *** installing help indices ** building package indices ** installing vignettes ** testing if installed package can be loaded from temporary location ** testing if installed package can be loaded from final location ** testing if installed package keeps a record of temporary installation path * DONE (GeneStructureTools)
GeneStructureTools.Rcheck/GeneStructureTools-Ex.timings
| name | user | system | elapsed | |
| DEXSeqIdsToGeneIds | 0.001 | 0.000 | 0.002 | |
| UTR2UTR53 | 0.728 | 0.034 | 0.766 | |
| addBroadTypes | 0.075 | 0.003 | 0.078 | |
| addIntronInTranscript | 1.129 | 0.066 | 1.218 | |
| alternativeIntronUsage | 1.219 | 0.009 | 1.230 | |
| annotateGeneModel | 0.280 | 0.005 | 0.285 | |
| attrChangeAltSpliced | 0.390 | 0.048 | 0.455 | |
| coordinates-methods | 0.026 | 0.036 | 0.074 | |
| diffSplicingResults-methods | 0.023 | 0.028 | 0.058 | |
| exonsToTranscripts | 0.096 | 0.003 | 0.098 | |
| filterGtfOverlap | 0.094 | 0.003 | 0.096 | |
| filterWhippetEvents | 0.025 | 0.029 | 0.067 | |
| findDEXexonType | 0.692 | 0.005 | 0.698 | |
| findExonContainingTranscripts | 0.158 | 0.037 | 0.210 | |
| findIntronContainingTranscripts | 0.206 | 0.036 | 0.250 | |
| findJunctionPairs | 0.418 | 0.034 | 0.462 | |
| formatWhippetEvents | 0.005 | 0.004 | 0.010 | |
| getOrfs | 0.226 | 0.009 | 0.248 | |
| getUOrfs | 0.188 | 0.005 | 0.193 | |
| junctions-methods | 0.022 | 0.028 | 0.057 | |
| leafcutterTranscriptChangeSummary | 6.541 | 0.271 | 6.818 | |
| makeGeneModel | 0.070 | 0.002 | 0.071 | |
| maxLocation | 0.001 | 0.000 | 0.001 | |
| orfDiff | 0.515 | 0.040 | 0.563 | |
| orfSimilarity | 0.001 | 0.001 | 0.000 | |
| overlapTypes | 0.675 | 0.004 | 0.680 | |
| readCounts-methods | 0.026 | 0.033 | 0.069 | |
| readWhippetDIFFfiles | 0.003 | 0.003 | 0.007 | |
| readWhippetDataSet | 0.023 | 0.029 | 0.065 | |
| readWhippetJNCfiles | 0.011 | 0.015 | 0.030 | |
| readWhippetPSIfiles | 0.006 | 0.015 | 0.028 | |
| removeDuplicateTranscripts | 0.104 | 0.006 | 0.116 | |
| removeSameExon | 0.087 | 0.004 | 0.092 | |
| removeVersion | 0 | 0 | 0 | |
| reorderExonNumbers | 0.074 | 0.003 | 0.076 | |
| replaceJunction | 1.652 | 0.063 | 1.725 | |
| skipExonInTranscript | 0.428 | 0.031 | 0.469 | |
| summariseExonTypes | 0.701 | 0.004 | 0.715 | |
| transcriptChangeSummary | 0.460 | 0.041 | 0.512 | |
| whippetTranscriptChangeSummary | 3.513 | 0.089 | 3.620 | |