| Back to Build/check report for BioC 3.20 experimental data |
|
This page was generated on 2025-04-01 15:41 -0400 (Tue, 01 Apr 2025).
| Hostname | OS | Arch (*) | R version | Installed pkgs |
|---|---|---|---|---|
| nebbiolo2 | Linux (Ubuntu 24.04.1 LTS) | x86_64 | 4.4.3 (2025-02-28) -- "Trophy Case" | 4764 |
| Click on any hostname to see more info about the system (e.g. compilers) (*) as reported by 'uname -p', except on Windows and Mac OS X | ||||
| Package 176/431 | Hostname | OS / Arch | INSTALL | BUILD | CHECK | ||||||||
| HDCytoData 1.26.0 (landing page) Lukas M. Weber
| nebbiolo2 | Linux (Ubuntu 24.04.1 LTS) / x86_64 | OK | OK | OK | ||||||||
|
To the developers/maintainers of the HDCytoData package: - Use the following Renviron settings to reproduce errors and warnings. - If 'R CMD check' started to fail recently on the Linux builder(s) over a missing dependency, add the missing dependency to 'Suggests:' in your DESCRIPTION file. See Renviron.bioc for more information. |
| Package: HDCytoData |
| Version: 1.26.0 |
| Command: /home/biocbuild/bbs-3.20-bioc/R/bin/R CMD check --install=check:HDCytoData.install-out.txt --library=/home/biocbuild/bbs-3.20-bioc/R/site-library --timings HDCytoData_1.26.0.tar.gz |
| StartedAt: 2025-04-01 12:06:36 -0400 (Tue, 01 Apr 2025) |
| EndedAt: 2025-04-01 12:12:32 -0400 (Tue, 01 Apr 2025) |
| EllapsedTime: 355.7 seconds |
| RetCode: 0 |
| Status: OK |
| CheckDir: HDCytoData.Rcheck |
| Warnings: 0 |
##############################################################################
##############################################################################
###
### Running command:
###
### /home/biocbuild/bbs-3.20-bioc/R/bin/R CMD check --install=check:HDCytoData.install-out.txt --library=/home/biocbuild/bbs-3.20-bioc/R/site-library --timings HDCytoData_1.26.0.tar.gz
###
##############################################################################
##############################################################################
* using log directory ‘/home/biocbuild/bbs-3.20-data-experiment/meat/HDCytoData.Rcheck’
* using R version 4.4.3 (2025-02-28)
* using platform: x86_64-pc-linux-gnu
* R was compiled by
gcc (Ubuntu 13.3.0-6ubuntu2~24.04) 13.3.0
GNU Fortran (Ubuntu 13.3.0-6ubuntu2~24.04) 13.3.0
* running under: Ubuntu 24.04.2 LTS
* using session charset: UTF-8
* checking for file ‘HDCytoData/DESCRIPTION’ ... OK
* this is package ‘HDCytoData’ version ‘1.26.0’
* checking package namespace information ... OK
* checking package dependencies ... OK
* checking if this is a source package ... OK
* checking if there is a namespace ... OK
* checking for hidden files and directories ... OK
* checking for portable file names ... OK
* checking for sufficient/correct file permissions ... OK
* checking whether package ‘HDCytoData’ can be installed ... OK
* checking installed package size ... OK
* checking package directory ... OK
* checking ‘build’ directory ... OK
* checking DESCRIPTION meta-information ... NOTE
License stub is invalid DCF.
* checking top-level files ... OK
* checking for left-over files ... OK
* checking index information ... OK
* checking package subdirectories ... OK
* checking code files for non-ASCII characters ... OK
* checking R files for syntax errors ... OK
* checking whether the package can be loaded ... OK
* checking whether the package can be loaded with stated dependencies ... OK
* checking whether the package can be unloaded cleanly ... OK
* checking whether the namespace can be loaded with stated dependencies ... OK
* checking whether the namespace can be unloaded cleanly ... OK
* checking loading without being on the library search path ... OK
* checking whether startup messages can be suppressed ... OK
* checking dependencies in R code ... OK
* checking S3 generic/method consistency ... OK
* checking replacement functions ... OK
* checking foreign function calls ... OK
* checking R code for possible problems ... OK
* checking Rd files ... OK
* checking Rd metadata ... OK
* checking Rd cross-references ... OK
* checking for missing documentation entries ... OK
* checking for code/documentation mismatches ... OK
* checking Rd \usage sections ... OK
* checking Rd contents ... OK
* checking for unstated dependencies in examples ... OK
* checking files in ‘vignettes’ ... OK
* checking examples ... OK
Examples with CPU (user + system) or elapsed time > 5s
user system elapsed
Samusik_all_SE 8.532 0.928 9.645
Bodenmiller_BCR_XL_SE 4.456 0.327 5.179
* checking for unstated dependencies in vignettes ... OK
* checking package vignettes ... OK
* checking re-building of vignette outputs ... OK
* checking PDF version of manual ... OK
* DONE
Status: 1 NOTE
See
‘/home/biocbuild/bbs-3.20-data-experiment/meat/HDCytoData.Rcheck/00check.log’
for details.
HDCytoData.Rcheck/00install.out
############################################################################## ############################################################################## ### ### Running command: ### ### /home/biocbuild/bbs-3.20-bioc/R/bin/R CMD INSTALL HDCytoData ### ############################################################################## ############################################################################## * installing to library ‘/home/biocbuild/bbs-3.20-bioc/R/site-library’ * installing *source* package ‘HDCytoData’ ... ** using staged installation ** R ** inst ** byte-compile and prepare package for lazy loading ** help *** installing help indices ** building package indices ** installing vignettes ** testing if installed package can be loaded from temporary location ** testing if installed package can be loaded from final location ** testing if installed package keeps a record of temporary installation path * DONE (HDCytoData)
HDCytoData.Rcheck/HDCytoData-Ex.timings
| name | user | system | elapsed | |
| Bodenmiller_BCR_XL_SE | 4.456 | 0.327 | 5.179 | |
| Krieg_Anti_PD_1_SE | 2.714 | 0.480 | 3.348 | |
| Levine_13dim_SE | 1.727 | 0.167 | 2.045 | |
| Levine_32dim_SE | 3.229 | 0.297 | 3.685 | |
| Mosmann_rare_SE | 2.918 | 0.249 | 3.327 | |
| Nilsson_rare_SE | 1.576 | 0.063 | 1.790 | |
| Samusik_01_SE | 2.609 | 0.194 | 3.189 | |
| Samusik_all_SE | 8.532 | 0.928 | 9.645 | |
| Weber_AML_sim_main_5pc_SE | 2.953 | 0.249 | 3.356 | |
| Weber_BCR_XL_sim_main_SE | 1.943 | 0.189 | 2.293 | |