breastCancerNKI 1.8.0 Markus Schroeder , Benjamin Haibe-Kains
 | Snapshot Date: 2015-10-24 12:50:03 -0400 (Sat, 24 Oct 2015) |  | URL: https://hedgehog.fhcrc.org/bioc-data/branches/RELEASE_3_2/experiment/pkgs/breastCancerNKI |  | Last Changed Rev: 3460 / Revision: 3473 |  | Last Changed Date: 2015-10-13 16:14:23 -0400 (Tue, 13 Oct 2015) |  
  | linux1.bioconductor.org  | Linux (Ubuntu 14.04.2 LTS) / x86_64  | [ OK ] |  OK  |  WARNINGS  |  |   | 
| windows1.bioconductor.org  | Windows Server 2012 R2 Enterprise SP1 (64-bit) / x64  |  OK  |  OK  |  WARNINGS  |  OK  |  | 
##############################################################################
##############################################################################
###
### Running command:
###
###   /home/biocbuild/bbs-3.2-bioc/R/bin/R CMD INSTALL breastCancerNKI
###
##############################################################################
##############################################################################
* installing to library ‘/home/biocbuild/bbs-3.2-bioc/R/library’
* installing *source* package ‘breastCancerNKI’ ...
** data
** help
*** installing help indices
** building package indices
** testing if installed package can be loaded
* DONE (breastCancerNKI)