rcellminerData 1.2.1 Augustin Luna , Vinodh Rajapakse
 | Snapshot Date: 2015-10-24 12:50:03 -0400 (Sat, 24 Oct 2015) |  | URL: https://hedgehog.fhcrc.org/bioc-data/branches/RELEASE_3_2/experiment/pkgs/rcellminerData |  | Last Changed Rev: 3472 / Revision: 3473 |  | Last Changed Date: 2015-10-23 10:38:48 -0400 (Fri, 23 Oct 2015) |  
  | linux1.bioconductor.org  | Linux (Ubuntu 14.04.2 LTS) / x86_64  |  OK  |  OK  |  WARNINGS  |  |   | 
| windows1.bioconductor.org  | Windows Server 2012 R2 Enterprise SP1 (64-bit) / x64  | [ OK ] |  OK  |  WARNINGS  |  OK  |  | 
##############################################################################
##############################################################################
###
### Running command:
###
###   C:\biocbld\bbs-3.2-bioc\R\bin\R.exe --arch i386 CMD INSTALL --no-multiarch rcellminerData
###
##############################################################################
##############################################################################
* installing to library 'C:/biocbld/bbs-3.2-bioc/R/library'
* installing *source* package 'rcellminerData' ...
** data
*** moving datasets to lazyload DB
** inst
** help
*** installing help indices
** building package indices
** installing vignettes
** testing if installed package can be loaded
* DONE (rcellminerData)