tinesath1cdf 1.7.0 Tine Casneuf
 | Snapshot Date: 2015-08-22 06:15:25 -0700 (Sat, 22 Aug 2015) |  | URL: https://hedgehog.fhcrc.org/bioc-data/trunk/experiment/pkgs/tinesath1cdf |  | Last Changed Rev: 3281 / Revision: 3391 |  | Last Changed Date: 2015-04-16 13:20:43 -0700 (Thu, 16 Apr 2015) |  
  | zin1  | Linux (Ubuntu 14.04.2 LTS) / x86_64  |  OK  |  OK  |  WARNINGS  |  |   | 
| moscato1  | Windows Server 2008 R2 Enterprise SP1 (64-bit) / x64  |  OK  |  OK  |  WARNINGS  |  OK  |  | 
| perceval  | Mac OS X Snow Leopard (10.6.8) / x86_64  | [ OK ] |  OK  |  WARNINGS  |  OK  |  | 
##############################################################################
##############################################################################
###
### Running command:
###
###   /Library/Frameworks/R.framework/Versions/Current/Resources/bin/R CMD INSTALL tinesath1cdf
###
##############################################################################
##############################################################################
* installing to library ‘/Library/Frameworks/R.framework/Versions/3.2/Resources/library’
* installing *source* package ‘tinesath1cdf’ ...
** R
** data
** preparing package for lazy loading
** help
*** installing help indices
** building package indices
** testing if installed package can be loaded
* DONE (tinesath1cdf)