| Back to Workflows build report for BioC 3.18 | 
This page was generated on 2024-04-16 14:00:10 -0400 (Tue, 16 Apr 2024).
| Hostname | OS | Arch (*) | R version | Installed pkgs | 
|---|---|---|---|---|
| nebbiolo2 | Linux (Ubuntu 22.04.3 LTS) | x86_64 | 4.3.3 (2024-02-29) -- "Angel Food Cake" | 4676 | 
| palomino4 | Windows Server 2022 Datacenter | x64 | 4.3.3 (2024-02-29 ucrt) -- "Angel Food Cake" | 4414 | 
| merida1 | macOS 12.7.1 Monterey | x86_64 | 4.3.3 (2024-02-29) -- "Angel Food Cake" | 4437 | 
| Click on any hostname to see more info about the system (e.g. compilers) (*) as reported by 'uname -p', except on Windows and Mac OS X | ||||
| Package 11/30 | Hostname | OS / Arch | INSTALL | BUILD | ||||||||
| ExpressionNormalizationWorkflow 1.28.0  (landing page) Karthikeyan Murugesan 
  | nebbiolo2 | Linux (Ubuntu 22.04.3 LTS) / x86_64 | OK | OK | ||||||||
| palomino4 | Windows Server 2022 Datacenter / x64 | OK | OK | |||||||||
| merida1 | macOS 12.7.1 Monterey / x86_64 | OK | OK | |||||||||
| 
To the developers/maintainers of the ExpressionNormalizationWorkflow package: - Use the following Renviron settings to reproduce errors and warnings. - If 'R CMD check' started to fail recently on the Linux builder(s) over a missing dependency, add the missing dependency to 'Suggests:' in your DESCRIPTION file. See Renviron.bioc for more information.  | 
| Package: ExpressionNormalizationWorkflow | 
| Version: 1.28.0 | 
| Command: /home/biocbuild/bbs-3.18-bioc/R/bin/R CMD INSTALL ExpressionNormalizationWorkflow | 
| StartedAt: 2024-04-16 11:00:10 -0400 (Tue, 16 Apr 2024) | 
| EndedAt: 2024-04-16 11:00:35 -0400 (Tue, 16 Apr 2024) | 
| EllapsedTime: 25.3 seconds | 
| RetCode: 0 | 
| Status: OK | 
############################################################################## ############################################################################## ### ### Running command: ### ### /home/biocbuild/bbs-3.18-bioc/R/bin/R CMD INSTALL ExpressionNormalizationWorkflow ### ############################################################################## ############################################################################## * installing to library ‘/home/biocbuild/bbs-3.18-bioc/R/site-library’ * installing *source* package ‘ExpressionNormalizationWorkflow’ ... ** using staged installation ** R ** inst ** byte-compile and prepare package for lazy loading Warning: replacing previous import ‘Biobase::rowMedians’ by ‘matrixStats::rowMedians’ when loading ‘ExpressionNormalizationWorkflow’ Warning: replacing previous import ‘Biobase::anyMissing’ by ‘matrixStats::anyMissing’ when loading ‘ExpressionNormalizationWorkflow’ ** help Warning: ExpressionNormalizationWorkflow-package.Rd:29: All text must be in a section Warning: ExpressionNormalizationWorkflow-package.Rd:30: All text must be in a section *** installing help indices ** building package indices ** installing vignettes ** testing if installed package can be loaded from temporary location Warning: replacing previous import ‘Biobase::rowMedians’ by ‘matrixStats::rowMedians’ when loading ‘ExpressionNormalizationWorkflow’ Warning: replacing previous import ‘Biobase::anyMissing’ by ‘matrixStats::anyMissing’ when loading ‘ExpressionNormalizationWorkflow’ ** testing if installed package can be loaded from final location Warning: replacing previous import ‘Biobase::rowMedians’ by ‘matrixStats::rowMedians’ when loading ‘ExpressionNormalizationWorkflow’ Warning: replacing previous import ‘Biobase::anyMissing’ by ‘matrixStats::anyMissing’ when loading ‘ExpressionNormalizationWorkflow’ ** testing if installed package keeps a record of temporary installation path * DONE (ExpressionNormalizationWorkflow)