| Back to Build/check report for BioC 3.18 experimental data |
|
This page was generated on 2024-04-16 14:51:29 -0400 (Tue, 16 Apr 2024).
| Hostname | OS | Arch (*) | R version | Installed pkgs |
|---|---|---|---|---|
| nebbiolo2 | Linux (Ubuntu 22.04.3 LTS) | x86_64 | 4.3.3 (2024-02-29) -- "Angel Food Cake" | 4676 |
| Click on any hostname to see more info about the system (e.g. compilers) (*) as reported by 'uname -p', except on Windows and Mac OS X | ||||
| Package 246/429 | Hostname | OS / Arch | INSTALL | BUILD | CHECK | ||||||||
| miRNATarget 1.40.0 (landing page) Y-h. Taguchi
| nebbiolo2 | Linux (Ubuntu 22.04.3 LTS) / x86_64 | OK | OK | OK | ||||||||
|
To the developers/maintainers of the miRNATarget package: - Use the following Renviron settings to reproduce errors and warnings. - If 'R CMD check' started to fail recently on the Linux builder(s) over a missing dependency, add the missing dependency to 'Suggests:' in your DESCRIPTION file. See Renviron.bioc for more information. |
| Package: miRNATarget |
| Version: 1.40.0 |
| Command: /home/biocbuild/bbs-3.18-bioc/R/bin/R CMD check --install=check:miRNATarget.install-out.txt --library=/home/biocbuild/bbs-3.18-bioc/R/site-library --timings miRNATarget_1.40.0.tar.gz |
| StartedAt: 2024-04-16 11:56:38 -0400 (Tue, 16 Apr 2024) |
| EndedAt: 2024-04-16 11:58:01 -0400 (Tue, 16 Apr 2024) |
| EllapsedTime: 82.3 seconds |
| RetCode: 0 |
| Status: OK |
| CheckDir: miRNATarget.Rcheck |
| Warnings: 0 |
##############################################################################
##############################################################################
###
### Running command:
###
### /home/biocbuild/bbs-3.18-bioc/R/bin/R CMD check --install=check:miRNATarget.install-out.txt --library=/home/biocbuild/bbs-3.18-bioc/R/site-library --timings miRNATarget_1.40.0.tar.gz
###
##############################################################################
##############################################################################
* using log directory ‘/home/biocbuild/bbs-3.18-data-experiment/meat/miRNATarget.Rcheck’
* using R version 4.3.3 (2024-02-29)
* using platform: x86_64-pc-linux-gnu (64-bit)
* R was compiled by
gcc (Ubuntu 11.4.0-1ubuntu1~22.04) 11.4.0
GNU Fortran (Ubuntu 11.4.0-1ubuntu1~22.04) 11.4.0
* running under: Ubuntu 22.04.4 LTS
* using session charset: UTF-8
* checking for file ‘miRNATarget/DESCRIPTION’ ... OK
* this is package ‘miRNATarget’ version ‘1.40.0’
* checking package namespace information ... OK
* checking package dependencies ... OK
* checking if this is a source package ... OK
* checking if there is a namespace ... OK
* checking for hidden files and directories ... NOTE
Found the following hidden files and directories:
vignettes/.goutputstream-8N717W
These were most likely included in error. See section ‘Package
structure’ in the ‘Writing R Extensions’ manual.
* checking for portable file names ... OK
* checking for sufficient/correct file permissions ... OK
* checking whether package ‘miRNATarget’ can be installed ... OK
* checking installed package size ... NOTE
installed size is 59.6Mb
sub-directories of 1Mb or more:
data 59.3Mb
* checking package directory ... OK
* checking ‘build’ directory ... OK
* checking DESCRIPTION meta-information ... NOTE
Malformed Description field: should contain one or more complete sentences.
* checking top-level files ... OK
* checking for left-over files ... OK
* checking index information ... OK
* checking package subdirectories ... OK
* checking whether the package can be loaded ... OK
* checking whether the package can be loaded with stated dependencies ... OK
* checking whether the package can be unloaded cleanly ... OK
* checking whether the namespace can be loaded with stated dependencies ... OK
* checking whether the namespace can be unloaded cleanly ... OK
* checking loading without being on the library search path ... OK
* checking Rd files ... OK
* checking Rd metadata ... OK
* checking Rd cross-references ... OK
* checking for missing documentation entries ... OK
* checking for code/documentation mismatches ... OK
* checking Rd \usage sections ... OK
* checking Rd contents ... OK
* checking for unstated dependencies in examples ... OK
* checking contents of ‘data’ directory ... OK
* checking data for non-ASCII characters ... OK
* checking data for ASCII and uncompressed saves ... OK
* checking files in ‘vignettes’ ... OK
* checking examples ... OK
* checking for unstated dependencies in vignettes ... OK
* checking package vignettes in ‘inst/doc’ ... OK
* checking running R code from vignettes ...
‘miRNATarget.Rnw’... OK
OK
* checking re-building of vignette outputs ... OK
* checking PDF version of manual ... OK
* DONE
Status: 3 NOTEs
See
‘/home/biocbuild/bbs-3.18-data-experiment/meat/miRNATarget.Rcheck/00check.log’
for details.
miRNATarget.Rcheck/00install.out
############################################################################## ############################################################################## ### ### Running command: ### ### /home/biocbuild/bbs-3.18-bioc/R/bin/R CMD INSTALL miRNATarget ### ############################################################################## ############################################################################## * installing to library ‘/home/biocbuild/bbs-3.18-bioc/R/site-library’ * installing *source* package ‘miRNATarget’ ... ** using staged installation ** data ** help *** installing help indices ** building package indices ** installing vignettes ** testing if installed package can be loaded from temporary location ** testing if installed package can be loaded from final location ** testing if installed package keeps a record of temporary installation path * DONE (miRNATarget)
miRNATarget.Rcheck/miRNATarget-Ex.timings
| name | user | system | elapsed | |
| HS_conv_id | 0.056 | 0.004 | 0.061 | |
| HS_refseq_to_affy_hc_g110 | 0.004 | 0.000 | 0.004 | |
| HS_refseq_to_affy_hg_focus | 0.016 | 0.000 | 0.016 | |
| HS_refseq_to_affy_hg_u133_plus_2 | 0.056 | 0.003 | 0.059 | |
| HS_refseq_to_affy_hg_u133a | 0.036 | 0.000 | 0.036 | |
| HS_refseq_to_affy_hg_u133a_2 | 0.036 | 0.000 | 0.036 | |
| HS_refseq_to_affy_hg_u133b | 0.017 | 0.000 | 0.018 | |
| HS_refseq_to_affy_hg_u95a | 0.023 | 0.000 | 0.023 | |
| HS_refseq_to_affy_hg_u95av2 | 0.021 | 0.000 | 0.021 | |
| HS_refseq_to_affy_hg_u95b | 0.014 | 0.000 | 0.014 | |
| HS_refseq_to_affy_hg_u95c | 0.011 | 0.000 | 0.011 | |
| HS_refseq_to_affy_hg_u95d | 0.006 | 0.000 | 0.006 | |
| HS_refseq_to_affy_hg_u95e | 0.01 | 0.00 | 0.01 | |
| HS_refseq_to_affy_huex_1_0_st_v2 | 0.907 | 0.024 | 0.931 | |
| HS_refseq_to_affy_hugene_1_0_st_v1 | 0.05 | 0.00 | 0.05 | |
| HS_refseq_to_affy_hugenefl | 0.014 | 0.000 | 0.014 | |
| HS_refseq_to_affy_u133_x3p | 0.072 | 0.000 | 0.072 | |
| HS_refseq_to_agilent_cgh_44b | 0.013 | 0.000 | 0.013 | |
| HS_refseq_to_agilent_wholegenome | 0.072 | 0.000 | 0.072 | |
| HS_refseq_to_canonical_transcript_stable_id | 0.069 | 0.000 | 0.069 | |
| HS_refseq_to_ccds | 0.034 | 0.004 | 0.038 | |
| HS_refseq_to_codelink | 0.037 | 0.004 | 0.041 | |
| HS_refseq_to_efg_agilent_sureprint_g3_ge_8x60k | 0.002 | 0.000 | 0.002 | |
| HS_refseq_to_efg_agilent_wholegenome_4x44k_v1 | 0.001 | 0.000 | 0.001 | |
| HS_refseq_to_efg_agilent_wholegenome_4x44k_v2 | 0.001 | 0.000 | 0.001 | |
| HS_refseq_to_embl | 0.746 | 0.024 | 0.771 | |
| HS_refseq_to_ensembl_exon_id | 0.001 | 0.000 | 0.001 | |
| HS_refseq_to_ensembl_gene_id | 0.042 | 0.003 | 0.046 | |
| HS_refseq_to_ensembl_peptide_id | 0.041 | 0.001 | 0.041 | |
| HS_refseq_to_ensembl_transcript_id | 0.054 | 0.000 | 0.054 | |
| HS_refseq_to_entrezgene | 0.046 | 0.000 | 0.046 | |
| HS_refseq_to_hgnc_id | 0.158 | 0.003 | 0.161 | |
| HS_refseq_to_hgnc_symbol | 0.042 | 0.000 | 0.042 | |
| HS_refseq_to_hgnc_transcript_name | 0.042 | 0.004 | 0.046 | |
| HS_refseq_to_illumina_humanht_12 | 0.049 | 0.000 | 0.048 | |
| HS_refseq_to_illumina_humanwg_6_v1 | 0.043 | 0.000 | 0.043 | |
| HS_refseq_to_illumina_humanwg_6_v2 | 0.036 | 0.000 | 0.036 | |
| HS_refseq_to_illumina_humanwg_6_v3 | 0.043 | 0.000 | 0.043 | |
| HS_refseq_to_interpro | 0.120 | 0.000 | 0.119 | |
| HS_refseq_to_ipi | 0.11 | 0.00 | 0.11 | |
| HS_refseq_to_merops | 0.004 | 0.000 | 0.004 | |
| HS_refseq_to_pdb | 0.083 | 0.003 | 0.087 | |
| HS_refseq_to_pfam | 0.068 | 0.000 | 0.068 | |
| HS_refseq_to_phalanx_onearray | 0.039 | 0.000 | 0.038 | |
| HS_refseq_to_protein_id | 1.096 | 0.000 | 1.096 | |
| HS_refseq_to_refseq_dna | 0.053 | 0.000 | 0.053 | |
| HS_refseq_to_refseq_genomic | 0.001 | 0.000 | 0.001 | |
| HS_refseq_to_refseq_peptide | 0.088 | 0.000 | 0.089 | |
| HS_refseq_to_rfam | 0.002 | 0.000 | 0.002 | |
| HS_refseq_to_rfam_gene_name | 0.001 | 0.000 | 0.000 | |
| HS_refseq_to_rfam_transcript_name | 0.001 | 0.000 | 0.001 | |
| HS_refseq_to_smart | 0.033 | 0.000 | 0.033 | |
| HS_refseq_to_tigrfam | 0.004 | 0.000 | 0.005 | |
| HS_refseq_to_ucsc | 0.045 | 0.000 | 0.045 | |
| HS_refseq_to_unigene | 0.058 | 0.000 | 0.058 | |
| HS_refseq_to_uniprot_genename | 0.036 | 0.004 | 0.040 | |
| HS_refseq_to_uniprot_genename_transcript_name | 0.001 | 0.000 | 0.001 | |
| HS_refseq_to_uniprot_sptrembl | 0.001 | 0.000 | 0.001 | |
| HS_refseq_to_uniprot_swissprot | 0.001 | 0.000 | 0.001 | |
| HS_refseq_to_uniprot_swissprot_accession | 0.001 | 0.000 | 0.001 | |
| HS_refseq_to_wikigene_id | 0.001 | 0.000 | 0.001 | |
| HS_refseq_to_wikigene_name | 0.044 | 0.000 | 0.044 | |
| MM_conv_id | 0.002 | 0.000 | 0.003 | |
| MM_refseq_to_affy_mg_u74a | 0.015 | 0.000 | 0.015 | |
| MM_refseq_to_affy_mg_u74av2 | 0.013 | 0.000 | 0.013 | |
| MM_refseq_to_affy_mg_u74b | 0.011 | 0.000 | 0.011 | |
| MM_refseq_to_affy_mg_u74bv2 | 0.011 | 0.000 | 0.011 | |
| MM_refseq_to_affy_mg_u74c | 0.004 | 0.000 | 0.004 | |
| MM_refseq_to_affy_mg_u74cv2 | 0.006 | 0.000 | 0.006 | |
| MM_refseq_to_affy_moe430a | 0.03 | 0.00 | 0.03 | |
| MM_refseq_to_affy_moe430b | 0.014 | 0.000 | 0.014 | |
| MM_refseq_to_affy_moex_1_0_st_v1 | 0.369 | 0.004 | 0.373 | |
| MM_refseq_to_affy_mogene_1_0_st_v1 | 0.037 | 0.000 | 0.038 | |
| MM_refseq_to_affy_mouse430_2 | 0.039 | 0.000 | 0.039 | |
| MM_refseq_to_affy_mouse430a_2 | 0.027 | 0.000 | 0.027 | |
| MM_refseq_to_affy_mu11ksuba | 0.010 | 0.000 | 0.009 | |
| MM_refseq_to_affy_mu11ksubb | 0.007 | 0.000 | 0.006 | |
| MM_refseq_to_agilent_wholegenome | 0.055 | 0.000 | 0.055 | |
| MM_refseq_to_canonical_transcript_stable_id | 0.054 | 0.000 | 0.054 | |
| MM_refseq_to_ccds | 0.028 | 0.000 | 0.027 | |
| MM_refseq_to_codelink | 0.030 | 0.000 | 0.029 | |
| MM_refseq_to_efg_agilent_sureprint_g3_ge_8x60k | 0.002 | 0.000 | 0.001 | |
| MM_refseq_to_efg_agilent_wholegenome_4x44k_v1 | 0.001 | 0.000 | 0.001 | |
| MM_refseq_to_efg_agilent_wholegenome_4x44k_v2 | 0.001 | 0.000 | 0.001 | |
| MM_refseq_to_embl | 0.276 | 0.008 | 0.284 | |
| MM_refseq_to_ensembl_exon_id | 0.002 | 0.000 | 0.002 | |
| MM_refseq_to_ensembl_gene_id | 0.142 | 0.004 | 0.146 | |
| MM_refseq_to_ensembl_peptide_id | 0.032 | 0.000 | 0.032 | |
| MM_refseq_to_ensembl_transcript_id | 0.035 | 0.000 | 0.035 | |
| MM_refseq_to_entrezgene | 0.031 | 0.000 | 0.031 | |
| MM_refseq_to_fantom | 0.093 | 0.000 | 0.092 | |
| MM_refseq_to_illumina_mousewg_6_v1 | 0.046 | 0.000 | 0.045 | |
| MM_refseq_to_illumina_mousewg_6_v2 | 0.039 | 0.008 | 0.047 | |
| MM_refseq_to_interpro | 0.086 | 0.008 | 0.094 | |
| MM_refseq_to_ipi | 0.000 | 0.000 | 0.001 | |
| MM_refseq_to_merops | 0.003 | 0.000 | 0.003 | |
| MM_refseq_to_mgi_id | 0.034 | 0.000 | 0.033 | |
| MM_refseq_to_mgi_symbol | 0.035 | 0.000 | 0.034 | |
| MM_refseq_to_mgi_transcript_name | 0.037 | 0.000 | 0.036 | |
| MM_refseq_to_pdb | 0.009 | 0.000 | 0.009 | |
| MM_refseq_to_pfam | 0.050 | 0.003 | 0.053 | |
| MM_refseq_to_phalanx_onearray | 0.032 | 0.000 | 0.032 | |
| MM_refseq_to_protein_id | 0.259 | 0.003 | 0.263 | |
| MM_refseq_to_refseq_dna | 0.042 | 0.001 | 0.041 | |
| MM_refseq_to_refseq_peptide | 0.068 | 0.004 | 0.072 | |
| MM_refseq_to_rfam | 0.001 | 0.000 | 0.001 | |
| MM_refseq_to_rfam_gene_name | 0.001 | 0.000 | 0.001 | |
| MM_refseq_to_rfam_transcript_name | 0.001 | 0.000 | 0.001 | |
| MM_refseq_to_smart | 0.028 | 0.000 | 0.028 | |
| MM_refseq_to_tigrfam | 0.004 | 0.000 | 0.004 | |
| MM_refseq_to_ucsc | 0.038 | 0.000 | 0.038 | |
| MM_refseq_to_unigene | 0.044 | 0.004 | 0.048 | |
| MM_refseq_to_uniprot_genename | 0.034 | 0.000 | 0.034 | |
| MM_refseq_to_uniprot_genename_transcript_name | 0.001 | 0.000 | 0.001 | |
| MM_refseq_to_uniprot_sptrembl | 0.002 | 0.000 | 0.001 | |
| MM_refseq_to_uniprot_swissprot | 0.001 | 0.000 | 0.001 | |
| MM_refseq_to_uniprot_swissprot_accession | 0.001 | 0.000 | 0.001 | |
| MM_refseq_to_wikigene_id | 0.001 | 0.000 | 0.001 | |
| MM_refseq_to_wikigene_name | 0.032 | 0.000 | 0.032 | |
| TBL2 | 1.311 | 0.067 | 1.379 | |
| TBL2_HS | 1.475 | 0.160 | 1.634 | |
| TBL2_MM | 0.809 | 0.108 | 0.916 | |
| conv_id | 0.002 | 0.001 | 0.002 | |
| id_conv | 0.027 | 0.000 | 0.028 | |