| Back to Build/check report for BioC 3.18 experimental data |
|
This page was generated on 2024-04-16 14:51:29 -0400 (Tue, 16 Apr 2024).
| Hostname | OS | Arch (*) | R version | Installed pkgs |
|---|---|---|---|---|
| nebbiolo2 | Linux (Ubuntu 22.04.3 LTS) | x86_64 | 4.3.3 (2024-02-29) -- "Angel Food Cake" | 4676 |
| Click on any hostname to see more info about the system (e.g. compilers) (*) as reported by 'uname -p', except on Windows and Mac OS X | ||||
| Package 236/429 | Hostname | OS / Arch | INSTALL | BUILD | CHECK | ||||||||
| methylclockData 1.10.0 (landing page) Dolors Pelegri-Siso
| nebbiolo2 | Linux (Ubuntu 22.04.3 LTS) / x86_64 | OK | OK | OK | ||||||||
|
To the developers/maintainers of the methylclockData package: - Use the following Renviron settings to reproduce errors and warnings. - If 'R CMD check' started to fail recently on the Linux builder(s) over a missing dependency, add the missing dependency to 'Suggests:' in your DESCRIPTION file. See Renviron.bioc for more information. |
| Package: methylclockData |
| Version: 1.10.0 |
| Command: /home/biocbuild/bbs-3.18-bioc/R/bin/R CMD check --install=check:methylclockData.install-out.txt --library=/home/biocbuild/bbs-3.18-bioc/R/site-library --timings methylclockData_1.10.0.tar.gz |
| StartedAt: 2024-04-16 11:51:57 -0400 (Tue, 16 Apr 2024) |
| EndedAt: 2024-04-16 11:57:48 -0400 (Tue, 16 Apr 2024) |
| EllapsedTime: 350.9 seconds |
| RetCode: 0 |
| Status: OK |
| CheckDir: methylclockData.Rcheck |
| Warnings: 0 |
##############################################################################
##############################################################################
###
### Running command:
###
### /home/biocbuild/bbs-3.18-bioc/R/bin/R CMD check --install=check:methylclockData.install-out.txt --library=/home/biocbuild/bbs-3.18-bioc/R/site-library --timings methylclockData_1.10.0.tar.gz
###
##############################################################################
##############################################################################
* using log directory ‘/home/biocbuild/bbs-3.18-data-experiment/meat/methylclockData.Rcheck’
* using R version 4.3.3 (2024-02-29)
* using platform: x86_64-pc-linux-gnu (64-bit)
* R was compiled by
gcc (Ubuntu 11.4.0-1ubuntu1~22.04) 11.4.0
GNU Fortran (Ubuntu 11.4.0-1ubuntu1~22.04) 11.4.0
* running under: Ubuntu 22.04.4 LTS
* using session charset: UTF-8
* checking for file ‘methylclockData/DESCRIPTION’ ... OK
* this is package ‘methylclockData’ version ‘1.10.0’
* package encoding: UTF-8
* checking package namespace information ... OK
* checking package dependencies ... OK
* checking if this is a source package ... OK
* checking if there is a namespace ... OK
* checking for hidden files and directories ... OK
* checking for portable file names ... OK
* checking for sufficient/correct file permissions ... OK
* checking whether package ‘methylclockData’ can be installed ... OK
* checking installed package size ... OK
* checking package directory ... OK
* checking ‘build’ directory ... OK
* checking DESCRIPTION meta-information ... NOTE
Malformed Description field: should contain one or more complete sentences.
* checking top-level files ... OK
* checking for left-over files ... OK
* checking index information ... OK
* checking package subdirectories ... OK
* checking R files for non-ASCII characters ... OK
* checking R files for syntax errors ... OK
* checking whether the package can be loaded ... OK
* checking whether the package can be loaded with stated dependencies ... OK
* checking whether the package can be unloaded cleanly ... OK
* checking whether the namespace can be loaded with stated dependencies ... OK
* checking whether the namespace can be unloaded cleanly ... OK
* checking loading without being on the library search path ... OK
* checking dependencies in R code ... OK
* checking S3 generic/method consistency ... OK
* checking replacement functions ... OK
* checking foreign function calls ... OK
* checking R code for possible problems ... OK
* checking Rd files ... OK
* checking Rd metadata ... OK
* checking Rd cross-references ... OK
* checking for missing documentation entries ... OK
* checking for code/documentation mismatches ... OK
* checking Rd \usage sections ... OK
* checking Rd contents ... OK
* checking for unstated dependencies in examples ... OK
* checking files in ‘vignettes’ ... OK
* checking examples ... OK
* checking for unstated dependencies in vignettes ... OK
* checking package vignettes in ‘inst/doc’ ... OK
* checking running R code from vignettes ...
‘methylcockData.Rmd’ using ‘UTF-8’... OK
OK
* checking re-building of vignette outputs ... OK
* checking PDF version of manual ... OK
* DONE
Status: 1 NOTE
See
‘/home/biocbuild/bbs-3.18-data-experiment/meat/methylclockData.Rcheck/00check.log’
for details.
methylclockData.Rcheck/00install.out
############################################################################## ############################################################################## ### ### Running command: ### ### /home/biocbuild/bbs-3.18-bioc/R/bin/R CMD INSTALL methylclockData ### ############################################################################## ############################################################################## * installing to library ‘/home/biocbuild/bbs-3.18-bioc/R/site-library’ * installing *source* package ‘methylclockData’ ... ** using staged installation ** R ** inst ** byte-compile and prepare package for lazy loading Warning: replacing previous import ‘utils::findMatches’ by ‘S4Vectors::findMatches’ when loading ‘ExperimentHubData’ ** help *** installing help indices ** building package indices ** installing vignettes ** testing if installed package can be loaded from temporary location Warning: replacing previous import ‘utils::findMatches’ by ‘S4Vectors::findMatches’ when loading ‘ExperimentHubData’ ** testing if installed package can be loaded from final location Warning: replacing previous import ‘utils::findMatches’ by ‘S4Vectors::findMatches’ when loading ‘ExperimentHubData’ ** testing if installed package keeps a record of temporary installation path * DONE (methylclockData)
methylclockData.Rcheck/methylclockData-Ex.timings
| name | user | system | elapsed | |
| get_MethylationDataExample | 1.860 | 0.171 | 2.351 | |
| get_TestDataset | 2.026 | 0.384 | 2.685 | |
| get_coefBLUP | 1.833 | 0.152 | 2.239 | |
| get_coefBohlin | 1.393 | 0.140 | 1.788 | |
| get_coefEN | 1.294 | 0.172 | 1.726 | |
| get_coefEPIC | 1.351 | 0.104 | 1.710 | |
| get_coefHannum | 1.417 | 0.128 | 1.801 | |
| get_coefHorvath | 1.231 | 0.112 | 1.608 | |
| get_coefKnightGA | 1.436 | 0.104 | 1.801 | |
| get_coefLeeGA | 1.310 | 0.100 | 1.728 | |
| get_coefLevine | 1.319 | 0.076 | 1.598 | |
| get_coefMayneGA | 1.368 | 0.096 | 1.767 | |
| get_coefPedBE | 1.251 | 0.112 | 1.619 | |
| get_coefSkin | 1.415 | 0.139 | 1.810 | |
| get_coefTL | 1.229 | 0.068 | 1.585 | |
| get_coefWu | 1.325 | 0.120 | 1.707 | |
| get_cpgs_bn | 1.326 | 0.112 | 1.724 | |
| get_probeAnnotation21kdatMethUsed | 1.284 | 0.148 | 1.701 | |
| get_references | 1.304 | 0.179 | 1.743 | |