| Back to Build/check report for BioC 3.18 experimental data |
|
This page was generated on 2024-04-16 14:51:29 -0400 (Tue, 16 Apr 2024).
| Hostname | OS | Arch (*) | R version | Installed pkgs |
|---|---|---|---|---|
| nebbiolo2 | Linux (Ubuntu 22.04.3 LTS) | x86_64 | 4.3.3 (2024-02-29) -- "Angel Food Cake" | 4676 |
| Click on any hostname to see more info about the system (e.g. compilers) (*) as reported by 'uname -p', except on Windows and Mac OS X | ||||
| Package 234/429 | Hostname | OS / Arch | INSTALL | BUILD | CHECK | ||||||||
| MetaScope 1.2.0 (landing page) Aubrey Odom
| nebbiolo2 | Linux (Ubuntu 22.04.3 LTS) / x86_64 | ERROR | ERROR | skipped | ||||||||
|
To the developers/maintainers of the MetaScope package: - Use the following Renviron settings to reproduce errors and warnings. - If 'R CMD check' started to fail recently on the Linux builder(s) over a missing dependency, add the missing dependency to 'Suggests:' in your DESCRIPTION file. See Renviron.bioc for more information. |
| Package: MetaScope |
| Version: 1.2.0 |
| Command: /home/biocbuild/bbs-3.18-bioc/R/bin/R CMD build --keep-empty-dirs --no-resave-data MetaScope |
| StartedAt: 2024-04-16 10:41:04 -0400 (Tue, 16 Apr 2024) |
| EndedAt: 2024-04-16 10:41:05 -0400 (Tue, 16 Apr 2024) |
| EllapsedTime: 1.0 seconds |
| RetCode: 1 |
| Status: ERROR |
| PackageFile: None |
| PackageFileSize: NA |
##############################################################################
##############################################################################
###
### Running command:
###
### /home/biocbuild/bbs-3.18-bioc/R/bin/R CMD build --keep-empty-dirs --no-resave-data MetaScope
###
##############################################################################
##############################################################################
* checking for file ‘MetaScope/DESCRIPTION’ ... OK
* preparing ‘MetaScope’:
* checking DESCRIPTION meta-information ... OK
* installing the package to build vignettes
-----------------------------------
ERROR: dependency ‘qlcMatrix’ is not available for package ‘MetaScope’
* removing ‘/tmp/RtmpIvKqAX/Rinst3b912957ff3afe/MetaScope’
-----------------------------------
ERROR: package installation failed