| Back to Build/check report for BioC 3.18 experimental data | 
 | 
This page was generated on 2024-04-16 14:51:28 -0400 (Tue, 16 Apr 2024).
| Hostname | OS | Arch (*) | R version | Installed pkgs | 
|---|---|---|---|---|
| nebbiolo2 | Linux (Ubuntu 22.04.3 LTS) | x86_64 | 4.3.3 (2024-02-29) -- "Angel Food Cake" | 4676 | 
| Click on any hostname to see more info about the system (e.g. compilers) (*) as reported by 'uname -p', except on Windows and Mac OS X | ||||
| Package 135/429 | Hostname | OS / Arch | INSTALL | BUILD | CHECK | ||||||||
| FlowSorted.DLPFC.450k 1.38.0  (landing page) Andrew E Jaffe 
 | nebbiolo2 | Linux (Ubuntu 22.04.3 LTS) / x86_64 | OK | OK | WARNINGS |  | |||||||
| To the developers/maintainers of the FlowSorted.DLPFC.450k package: - Use the following Renviron settings to reproduce errors and warnings. - If 'R CMD check' started to fail recently on the Linux builder(s) over a missing dependency, add the missing dependency to 'Suggests:' in your DESCRIPTION file. See Renviron.bioc for more information. | 
| Package: FlowSorted.DLPFC.450k | 
| Version: 1.38.0 | 
| Command: /home/biocbuild/bbs-3.18-bioc/R/bin/R CMD build --keep-empty-dirs --no-resave-data FlowSorted.DLPFC.450k | 
| StartedAt: 2024-04-16 10:28:51 -0400 (Tue, 16 Apr 2024) | 
| EndedAt: 2024-04-16 10:31:04 -0400 (Tue, 16 Apr 2024) | 
| EllapsedTime: 132.7 seconds | 
| RetCode: 0 | 
| Status: OK | 
| PackageFile: FlowSorted.DLPFC.450k_1.38.0.tar.gz | 
| PackageFileSize: 123.7 MiB | 
##############################################################################
##############################################################################
###
### Running command:
###
###   /home/biocbuild/bbs-3.18-bioc/R/bin/R CMD build --keep-empty-dirs --no-resave-data FlowSorted.DLPFC.450k
###
##############################################################################
##############################################################################
* checking for file ‘FlowSorted.DLPFC.450k/DESCRIPTION’ ... OK
* preparing ‘FlowSorted.DLPFC.450k’:
* checking DESCRIPTION meta-information ... OK
* installing the package to build vignettes
* creating vignettes ... OK
* checking for LF line-endings in source and make files and shell scripts
* checking for empty or unneeded directories
  NB: this package now depends on R (>= 3.5.0)
  WARNING: Added dependency on R >= 3.5.0 because serialized objects in
  serialize/load version 3 cannot be read in older versions of R.
  File(s) containing such objects:
    ‘FlowSorted.DLPFC.450k/data/FlowSorted.DLPFC.450k.rda’
* building ‘FlowSorted.DLPFC.450k_1.38.0.tar.gz’