| Back to Using R 4.1.3 to BUILD/CHECK a small subset of 3.18 packages |
This page was generated on 2024-03-08 16:41:48 -0500 (Fri, 08 Mar 2024).
| Hostname | OS | Arch (*) | R version | Installed pkgs |
|---|---|---|---|---|
| nebbiolo2 | Linux (Ubuntu 22.04.3 LTS) | x86_64 | 4.1.3 (2022-03-10) -- "One Push-Up" | 655 |
| Click on any hostname to see more info about the system (e.g. compilers) (*) as reported by 'uname -p', except on Windows and Mac OS X | ||||
| Package 73/118 | Hostname | OS / Arch | INSTALL | BUILD | CHECK | BUILD BIN | |||||||
| metapod 1.10.1 (landing page) Aaron Lun
| nebbiolo2 | Linux (Ubuntu 22.04.3 LTS) / x86_64 | OK | OK | OK | ||||||||
|
To the developers/maintainers of the metapod package: - Use the following Renviron settings to reproduce errors and warnings. - If 'R CMD check' started to fail recently on the Linux builder(s) over a missing dependency, add the missing dependency to 'Suggests:' in your DESCRIPTION file. See Renviron.bioc for more information. |
| Package: metapod |
| Version: 1.10.1 |
| Command: /home/hpages/bbs-3.18-bioc-R41/R/bin/R CMD check --install=check:metapod.install-out.txt --library=/home/hpages/bbs-3.18-bioc-R41/R/site-library --timings metapod_1.10.1.tar.gz |
| StartedAt: 2024-03-08 16:10:53 -0500 (Fri, 08 Mar 2024) |
| EndedAt: 2024-03-08 16:11:23 -0500 (Fri, 08 Mar 2024) |
| EllapsedTime: 30.0 seconds |
| RetCode: 0 |
| Status: OK |
| CheckDir: metapod.Rcheck |
| Warnings: 0 |
############################################################################## ############################################################################## ### ### Running command: ### ### /home/hpages/bbs-3.18-bioc-R41/R/bin/R CMD check --install=check:metapod.install-out.txt --library=/home/hpages/bbs-3.18-bioc-R41/R/site-library --timings metapod_1.10.1.tar.gz ### ############################################################################## ############################################################################## * using log directory ‘/home/hpages/bbs-3.18-bioc-R41/meat/metapod.Rcheck’ * using R version 4.1.3 (2022-03-10) * using platform: x86_64-pc-linux-gnu (64-bit) * using session charset: UTF-8 * checking for file ‘metapod/DESCRIPTION’ ... OK * this is package ‘metapod’ version ‘1.10.1’ * checking package namespace information ... OK * checking package dependencies ... OK * checking if this is a source package ... OK * checking if there is a namespace ... OK * checking for hidden files and directories ... OK * checking for portable file names ... OK * checking for sufficient/correct file permissions ... OK * checking whether package ‘metapod’ can be installed ... OK * checking installed package size ... OK * checking package directory ... OK * checking ‘build’ directory ... OK * checking DESCRIPTION meta-information ... OK * checking top-level files ... OK * checking for left-over files ... OK * checking index information ... OK * checking package subdirectories ... OK * checking R files for non-ASCII characters ... OK * checking R files for syntax errors ... OK * checking whether the package can be loaded ... OK * checking whether the package can be loaded with stated dependencies ... OK * checking whether the package can be unloaded cleanly ... OK * checking whether the namespace can be loaded with stated dependencies ... OK * checking whether the namespace can be unloaded cleanly ... OK * checking loading without being on the library search path ... OK * checking dependencies in R code ... OK * checking S3 generic/method consistency ... OK * checking replacement functions ... OK * checking foreign function calls ... OK * checking R code for possible problems ... OK * checking Rd files ... OK * checking Rd metadata ... OK * checking Rd cross-references ... OK * checking for missing documentation entries ... OK * checking for code/documentation mismatches ... OK * checking Rd \usage sections ... OK * checking Rd contents ... OK * checking for unstated dependencies in examples ... OK * checking line endings in C/C++/Fortran sources/headers ... OK * checking compiled code ... NOTE Note: information on .o files is not available * checking files in ‘vignettes’ ... OK * checking examples ... OK * checking for unstated dependencies in ‘tests’ ... OK * checking tests ... Running ‘testthat.R’ OK * checking for unstated dependencies in vignettes ... OK * checking package vignettes in ‘inst/doc’ ... OK * checking running R code from vignettes ... ‘overview.Rmd’ using ‘UTF-8’... OK NONE * checking re-building of vignette outputs ... OK * checking PDF version of manual ... OK * DONE Status: 1 NOTE See ‘/home/hpages/bbs-3.18-bioc-R41/meat/metapod.Rcheck/00check.log’ for details.
metapod.Rcheck/00install.out
##############################################################################
##############################################################################
###
### Running command:
###
### /home/hpages/bbs-3.18-bioc-R41/R/bin/R CMD INSTALL metapod
###
##############################################################################
##############################################################################
* installing to library ‘/home/hpages/bbs-3.18-bioc-R41/R/site-library’
* installing *source* package ‘metapod’ ...
** using staged installation
** libs
g++ -std=gnu++11 -I"/home/hpages/bbs-3.18-bioc-R41/R/include" -DNDEBUG -I'/home/hpages/bbs-3.18-bioc-R41/R/site-library/Rcpp/include' -I/usr/local/include -fpic -g -O2 -Wall -c RcppExports.cpp -o RcppExports.o
g++ -std=gnu++11 -I"/home/hpages/bbs-3.18-bioc-R41/R/include" -DNDEBUG -I'/home/hpages/bbs-3.18-bioc-R41/R/site-library/Rcpp/include' -I/usr/local/include -fpic -g -O2 -Wall -c combine_group.cpp -o combine_group.o
combine_group.cpp: In instantiation of ‘Rcpp::List compute_grouped(Rcpp::NumericVector, Rcpp::IntegerVector, Rcpp::RObject, bool, const PREP&) [with PREP = p_simes; Rcpp::List = Rcpp::Vector<19>; Rcpp::NumericVector = Rcpp::Vector<14, Rcpp::PreserveStorage>; Rcpp::IntegerVector = Rcpp::Vector<13>; Rcpp::RObject = Rcpp::RObject_Impl<Rcpp::PreserveStorage>]’:
combine_group.cpp:81:27: required from here
combine_group.cpp:41:26: warning: comparison of integer expressions of different signedness: ‘size_t’ {aka ‘long unsigned int’} and ‘R_xlen_t’ {aka ‘long int’} [-Wsign-compare]
41 | for (size_t g = 0; g < runs.size(); ++g) {
| ~~^~~~~~~~~~~~~
combine_group.cpp:68:17: warning: comparison of integer expressions of different signedness: ‘size_t’ {aka ‘long unsigned int’} and ‘R_xlen_t’ {aka ‘long int’} [-Wsign-compare]
68 | if (counter != pvals.size()) {
| ~~~~~~~~^~~~~~~~~~~~~~~
combine_group.cpp: In instantiation of ‘Rcpp::List compute_grouped(Rcpp::NumericVector, Rcpp::IntegerVector, Rcpp::RObject, bool, const PREP&) [with PREP = p_berger; Rcpp::List = Rcpp::Vector<19>; Rcpp::NumericVector = Rcpp::Vector<14, Rcpp::PreserveStorage>; Rcpp::IntegerVector = Rcpp::Vector<13>; Rcpp::RObject = Rcpp::RObject_Impl<Rcpp::PreserveStorage>]’:
combine_group.cpp:86:27: required from here
combine_group.cpp:41:26: warning: comparison of integer expressions of different signedness: ‘size_t’ {aka ‘long unsigned int’} and ‘R_xlen_t’ {aka ‘long int’} [-Wsign-compare]
41 | for (size_t g = 0; g < runs.size(); ++g) {
| ~~^~~~~~~~~~~~~
combine_group.cpp:68:17: warning: comparison of integer expressions of different signedness: ‘size_t’ {aka ‘long unsigned int’} and ‘R_xlen_t’ {aka ‘long int’} [-Wsign-compare]
68 | if (counter != pvals.size()) {
| ~~~~~~~~^~~~~~~~~~~~~~~
combine_group.cpp: In instantiation of ‘Rcpp::List compute_grouped(Rcpp::NumericVector, Rcpp::IntegerVector, Rcpp::RObject, bool, const PREP&) [with PREP = p_wilkinson; Rcpp::List = Rcpp::Vector<19>; Rcpp::NumericVector = Rcpp::Vector<14, Rcpp::PreserveStorage>; Rcpp::IntegerVector = Rcpp::Vector<13>; Rcpp::RObject = Rcpp::RObject_Impl<Rcpp::PreserveStorage>]’:
combine_group.cpp:91:27: required from here
combine_group.cpp:41:26: warning: comparison of integer expressions of different signedness: ‘size_t’ {aka ‘long unsigned int’} and ‘R_xlen_t’ {aka ‘long int’} [-Wsign-compare]
41 | for (size_t g = 0; g < runs.size(); ++g) {
| ~~^~~~~~~~~~~~~
combine_group.cpp:68:17: warning: comparison of integer expressions of different signedness: ‘size_t’ {aka ‘long unsigned int’} and ‘R_xlen_t’ {aka ‘long int’} [-Wsign-compare]
68 | if (counter != pvals.size()) {
| ~~~~~~~~^~~~~~~~~~~~~~~
combine_group.cpp: In instantiation of ‘Rcpp::List compute_grouped(Rcpp::NumericVector, Rcpp::IntegerVector, Rcpp::RObject, bool, const PREP&) [with PREP = p_holm_min; Rcpp::List = Rcpp::Vector<19>; Rcpp::NumericVector = Rcpp::Vector<14, Rcpp::PreserveStorage>; Rcpp::IntegerVector = Rcpp::Vector<13>; Rcpp::RObject = Rcpp::RObject_Impl<Rcpp::PreserveStorage>]’:
combine_group.cpp:96:27: required from here
combine_group.cpp:41:26: warning: comparison of integer expressions of different signedness: ‘size_t’ {aka ‘long unsigned int’} and ‘R_xlen_t’ {aka ‘long int’} [-Wsign-compare]
41 | for (size_t g = 0; g < runs.size(); ++g) {
| ~~^~~~~~~~~~~~~
combine_group.cpp:68:17: warning: comparison of integer expressions of different signedness: ‘size_t’ {aka ‘long unsigned int’} and ‘R_xlen_t’ {aka ‘long int’} [-Wsign-compare]
68 | if (counter != pvals.size()) {
| ~~~~~~~~^~~~~~~~~~~~~~~
combine_group.cpp: In instantiation of ‘Rcpp::List compute_grouped(Rcpp::NumericVector, Rcpp::IntegerVector, Rcpp::RObject, bool, const PREP&) [with PREP = p_stouffer; Rcpp::List = Rcpp::Vector<19>; Rcpp::NumericVector = Rcpp::Vector<14, Rcpp::PreserveStorage>; Rcpp::IntegerVector = Rcpp::Vector<13>; Rcpp::RObject = Rcpp::RObject_Impl<Rcpp::PreserveStorage>]’:
combine_group.cpp:101:27: required from here
combine_group.cpp:41:26: warning: comparison of integer expressions of different signedness: ‘size_t’ {aka ‘long unsigned int’} and ‘R_xlen_t’ {aka ‘long int’} [-Wsign-compare]
41 | for (size_t g = 0; g < runs.size(); ++g) {
| ~~^~~~~~~~~~~~~
combine_group.cpp:68:17: warning: comparison of integer expressions of different signedness: ‘size_t’ {aka ‘long unsigned int’} and ‘R_xlen_t’ {aka ‘long int’} [-Wsign-compare]
68 | if (counter != pvals.size()) {
| ~~~~~~~~^~~~~~~~~~~~~~~
combine_group.cpp: In instantiation of ‘Rcpp::List compute_grouped(Rcpp::NumericVector, Rcpp::IntegerVector, Rcpp::RObject, bool, const PREP&) [with PREP = p_fisher; Rcpp::List = Rcpp::Vector<19>; Rcpp::NumericVector = Rcpp::Vector<14, Rcpp::PreserveStorage>; Rcpp::IntegerVector = Rcpp::Vector<13>; Rcpp::RObject = Rcpp::RObject_Impl<Rcpp::PreserveStorage>]’:
combine_group.cpp:106:27: required from here
combine_group.cpp:41:26: warning: comparison of integer expressions of different signedness: ‘size_t’ {aka ‘long unsigned int’} and ‘R_xlen_t’ {aka ‘long int’} [-Wsign-compare]
41 | for (size_t g = 0; g < runs.size(); ++g) {
| ~~^~~~~~~~~~~~~
combine_group.cpp:68:17: warning: comparison of integer expressions of different signedness: ‘size_t’ {aka ‘long unsigned int’} and ‘R_xlen_t’ {aka ‘long int’} [-Wsign-compare]
68 | if (counter != pvals.size()) {
| ~~~~~~~~^~~~~~~~~~~~~~~
combine_group.cpp: In instantiation of ‘Rcpp::List compute_grouped(Rcpp::NumericVector, Rcpp::IntegerVector, Rcpp::RObject, bool, const PREP&) [with PREP = p_pearson; Rcpp::List = Rcpp::Vector<19>; Rcpp::NumericVector = Rcpp::Vector<14, Rcpp::PreserveStorage>; Rcpp::IntegerVector = Rcpp::Vector<13>; Rcpp::RObject = Rcpp::RObject_Impl<Rcpp::PreserveStorage>]’:
combine_group.cpp:111:27: required from here
combine_group.cpp:41:26: warning: comparison of integer expressions of different signedness: ‘size_t’ {aka ‘long unsigned int’} and ‘R_xlen_t’ {aka ‘long int’} [-Wsign-compare]
41 | for (size_t g = 0; g < runs.size(); ++g) {
| ~~^~~~~~~~~~~~~
combine_group.cpp:68:17: warning: comparison of integer expressions of different signedness: ‘size_t’ {aka ‘long unsigned int’} and ‘R_xlen_t’ {aka ‘long int’} [-Wsign-compare]
68 | if (counter != pvals.size()) {
| ~~~~~~~~^~~~~~~~~~~~~~~
g++ -std=gnu++11 -I"/home/hpages/bbs-3.18-bioc-R41/R/include" -DNDEBUG -I'/home/hpages/bbs-3.18-bioc-R41/R/site-library/Rcpp/include' -I/usr/local/include -fpic -g -O2 -Wall -c combine_parallel.cpp -o combine_parallel.o
combine_parallel.cpp: In constructor ‘parallel_weight_server::parallel_weight_server(size_t, size_t, Rcpp::RObject)’:
combine_parallel.cpp:28:36: warning: comparison of integer expressions of different signedness: ‘R_xlen_t’ {aka ‘long int’} and ‘const size_t’ {aka ‘const long unsigned int’} [-Wsign-compare]
28 | if (wrepeat.size() != nvectors) {
| ~~~~~~~~~~~~~~~^~~~~~~~~~~
In file included from p_berger.h:4,
from combine_parallel.cpp:1:
utils.h: In instantiation of ‘parallel_vectors<V>::parallel_vectors(Rcpp::List) [with V = Rcpp::Vector<14, Rcpp::PreserveStorage>; Rcpp::List = Rcpp::Vector<19>]’:
combine_parallel.cpp:20:82: required from here
utils.h:72:31: warning: comparison of integer expressions of different signedness: ‘size_t’ {aka ‘long unsigned int’} and ‘R_xlen_t’ {aka ‘long int’} [-Wsign-compare]
72 | if (nelements != vectors[p].size()) {
| ~~~~~~~~~~^~~~~~~~~~~~~~~~~~~~
g++ -std=gnu++11 -I"/home/hpages/bbs-3.18-bioc-R41/R/include" -DNDEBUG -I'/home/hpages/bbs-3.18-bioc-R41/R/site-library/Rcpp/include' -I/usr/local/include -fpic -g -O2 -Wall -c count_direction.cpp -o count_direction.o
count_direction.cpp: In function ‘Rcpp::List count_grouped_direction(Rcpp::NumericVector, Rcpp::IntegerVector, Rcpp::NumericVector, int, double, double, bool)’:
count_direction.cpp:95:26: warning: comparison of integer expressions of different signedness: ‘size_t’ {aka ‘long unsigned int’} and ‘R_xlen_t’ {aka ‘long int’} [-Wsign-compare]
95 | for (size_t g = 0; g < runs.size(); ++g) {
| ~~^~~~~~~~~~~~~
count_direction.cpp:98:25: warning: comparison of integer expressions of different signedness: ‘size_t’ {aka ‘long unsigned int’} and ‘R_xlen_t’ {aka ‘long int’} [-Wsign-compare]
98 | if (counter >= pvalues.size()) {
| ~~~~~~~~^~~~~~~~~~~~~~~~~
count_direction.cpp:120:17: warning: comparison of integer expressions of different signedness: ‘size_t’ {aka ‘long unsigned int’} and ‘R_xlen_t’ {aka ‘long int’} [-Wsign-compare]
120 | if (counter != pvalues.size()) {
| ~~~~~~~~^~~~~~~~~~~~~~~~~
In file included from count_direction.cpp:2:
utils.h: In instantiation of ‘parallel_vectors<V>::parallel_vectors(Rcpp::List) [with V = Rcpp::Vector<14, Rcpp::PreserveStorage>; Rcpp::List = Rcpp::Vector<19>]’:
count_direction.cpp:40:58: required from here
utils.h:72:31: warning: comparison of integer expressions of different signedness: ‘size_t’ {aka ‘long unsigned int’} and ‘R_xlen_t’ {aka ‘long int’} [-Wsign-compare]
72 | if (nelements != vectors[p].size()) {
| ~~~~~~~~~~^~~~~~~~~~~~~~~~~~~~
g++ -std=gnu++11 -I"/home/hpages/bbs-3.18-bioc-R41/R/include" -DNDEBUG -I'/home/hpages/bbs-3.18-bioc-R41/R/site-library/Rcpp/include' -I/usr/local/include -fpic -g -O2 -Wall -c summarize_direction.cpp -o summarize_direction.o
summarize_direction.cpp: In function ‘Rcpp::IntegerVector summarize_grouped_direction(Rcpp::NumericVector, Rcpp::IntegerVector, Rcpp::LogicalVector, double)’:
summarize_direction.cpp:43:26: warning: comparison of integer expressions of different signedness: ‘size_t’ {aka ‘long unsigned int’} and ‘R_xlen_t’ {aka ‘long int’} [-Wsign-compare]
43 | for (size_t g = 0; g < runs.size(); ++g) {
| ~~^~~~~~~~~~~~~
summarize_direction.cpp:46:25: warning: comparison of integer expressions of different signedness: ‘size_t’ {aka ‘long unsigned int’} and ‘R_xlen_t’ {aka ‘long int’} [-Wsign-compare]
46 | if (counter >= effects.size()) {
| ~~~~~~~~^~~~~~~~~~~~~~~~~
summarize_direction.cpp:61:17: warning: comparison of integer expressions of different signedness: ‘size_t’ {aka ‘long unsigned int’} and ‘R_xlen_t’ {aka ‘long int’} [-Wsign-compare]
61 | if (counter != effects.size()) {
| ~~~~~~~~^~~~~~~~~~~~~~~~~
In file included from summarize_direction.cpp:2:
utils.h: In instantiation of ‘parallel_vectors<V>::parallel_vectors(Rcpp::List) [with V = Rcpp::Vector<14, Rcpp::PreserveStorage>; Rcpp::List = Rcpp::Vector<19>]’:
summarize_direction.cpp:10:58: required from here
utils.h:72:31: warning: comparison of integer expressions of different signedness: ‘size_t’ {aka ‘long unsigned int’} and ‘R_xlen_t’ {aka ‘long int’} [-Wsign-compare]
72 | if (nelements != vectors[p].size()) {
| ~~~~~~~~~~^~~~~~~~~~~~~~~~~~~~
utils.h: In instantiation of ‘parallel_vectors<V>::parallel_vectors(Rcpp::List) [with V = Rcpp::Vector<10, Rcpp::PreserveStorage>; Rcpp::List = Rcpp::Vector<19>]’:
summarize_direction.cpp:11:66: required from here
utils.h:72:31: warning: comparison of integer expressions of different signedness: ‘size_t’ {aka ‘long unsigned int’} and ‘R_xlen_t’ {aka ‘long int’} [-Wsign-compare]
g++ -std=gnu++11 -shared -L/home/hpages/bbs-3.18-bioc-R41/R/lib -L/usr/local/lib -o metapod.so RcppExports.o combine_group.o combine_parallel.o count_direction.o summarize_direction.o -L/home/hpages/bbs-3.18-bioc-R41/R/lib -lR
installing to /home/hpages/bbs-3.18-bioc-R41/R/site-library/00LOCK-metapod/00new/metapod/libs
** R
** inst
** byte-compile and prepare package for lazy loading
** help
*** installing help indices
** building package indices
** installing vignettes
** testing if installed package can be loaded from temporary location
** checking absolute paths in shared objects and dynamic libraries
** testing if installed package can be loaded from final location
** testing if installed package keeps a record of temporary installation path
* DONE (metapod)
metapod.Rcheck/tests/testthat.Rout
R version 4.1.3 (2022-03-10) -- "One Push-Up"
Copyright (C) 2022 The R Foundation for Statistical Computing
Platform: x86_64-pc-linux-gnu (64-bit)
R is free software and comes with ABSOLUTELY NO WARRANTY.
You are welcome to redistribute it under certain conditions.
Type 'license()' or 'licence()' for distribution details.
R is a collaborative project with many contributors.
Type 'contributors()' for more information and
'citation()' on how to cite R or R packages in publications.
Type 'demo()' for some demos, 'help()' for on-line help, or
'help.start()' for an HTML browser interface to help.
Type 'q()' to quit R.
> library(testthat)
> library(metapod)
> test_check("metapod")
[ FAIL 0 | WARN 0 | SKIP 0 | PASS 552 ]
>
> proc.time()
user system elapsed
6.801 0.124 6.915
metapod.Rcheck/metapod-Ex.timings
| name | user | system | elapsed | |
| averageGroupedStats | 0.002 | 0.000 | 0.002 | |
| averageParallelStats | 0.001 | 0.000 | 0.001 | |
| combineGroupedPValues | 0.026 | 0.000 | 0.026 | |
| combineParallelPValues | 0.014 | 0.000 | 0.014 | |
| countGroupedDirection | 0.001 | 0.000 | 0.000 | |
| countParallelDirection | 0.001 | 0.000 | 0.001 | |
| groupedBerger | 0.009 | 0.000 | 0.009 | |
| groupedFisher | 0.005 | 0.000 | 0.006 | |
| groupedHolmMin | 0.009 | 0.000 | 0.009 | |
| groupedPearson | 0.009 | 0.000 | 0.008 | |
| groupedSimes | 0.009 | 0.000 | 0.008 | |
| groupedStouffer | 0.009 | 0.000 | 0.008 | |
| groupedWilkinson | 0.003 | 0.003 | 0.006 | |
| parallelBerger | 0.006 | 0.000 | 0.007 | |
| parallelFisher | 0.005 | 0.004 | 0.009 | |
| parallelHolmMin | 0.009 | 0.000 | 0.010 | |
| parallelPearson | 0.007 | 0.000 | 0.007 | |
| parallelSimes | 0.009 | 0.000 | 0.010 | |
| parallelStouffer | 0.012 | 0.000 | 0.012 | |
| parallelWilkinson | 0.006 | 0.000 | 0.007 | |
| summarizeGroupedDirection | 0.000 | 0.000 | 0.001 | |
| summarizeParallelDirection | 0 | 0 | 0 | |