| Back to Using R 4.1.3 to BUILD/CHECK a small subset of 3.18 packages |
This page was generated on 2024-03-08 16:41:48 -0500 (Fri, 08 Mar 2024).
| Hostname | OS | Arch (*) | R version | Installed pkgs |
|---|---|---|---|---|
| nebbiolo2 | Linux (Ubuntu 22.04.3 LTS) | x86_64 | 4.1.3 (2022-03-10) -- "One Push-Up" | 655 |
| Click on any hostname to see more info about the system (e.g. compilers) (*) as reported by 'uname -p', except on Windows and Mac OS X | ||||
| Package 46/118 | Hostname | OS / Arch | INSTALL | BUILD | CHECK | BUILD BIN | |||||||
| fgsea 1.28.0 (landing page) Alexey Sergushichev
| nebbiolo2 | Linux (Ubuntu 22.04.3 LTS) / x86_64 | OK | OK | OK | ||||||||
|
To the developers/maintainers of the fgsea package: - Use the following Renviron settings to reproduce errors and warnings. - If 'R CMD check' started to fail recently on the Linux builder(s) over a missing dependency, add the missing dependency to 'Suggests:' in your DESCRIPTION file. See Renviron.bioc for more information. |
| Package: fgsea |
| Version: 1.28.0 |
| Command: /home/hpages/bbs-3.18-bioc-R41/R/bin/R CMD check --install=check:fgsea.install-out.txt --library=/home/hpages/bbs-3.18-bioc-R41/R/site-library --timings fgsea_1.28.0.tar.gz |
| StartedAt: 2024-03-08 16:05:40 -0500 (Fri, 08 Mar 2024) |
| EndedAt: 2024-03-08 16:26:12 -0500 (Fri, 08 Mar 2024) |
| EllapsedTime: 1231.5 seconds |
| RetCode: 0 |
| Status: OK |
| CheckDir: fgsea.Rcheck |
| Warnings: 0 |
##############################################################################
##############################################################################
###
### Running command:
###
### /home/hpages/bbs-3.18-bioc-R41/R/bin/R CMD check --install=check:fgsea.install-out.txt --library=/home/hpages/bbs-3.18-bioc-R41/R/site-library --timings fgsea_1.28.0.tar.gz
###
##############################################################################
##############################################################################
* using log directory ‘/home/hpages/bbs-3.18-bioc-R41/meat/fgsea.Rcheck’
* using R version 4.1.3 (2022-03-10)
* using platform: x86_64-pc-linux-gnu (64-bit)
* using session charset: UTF-8
* checking for file ‘fgsea/DESCRIPTION’ ... OK
* this is package ‘fgsea’ version ‘1.28.0’
* package encoding: UTF-8
* checking package namespace information ... OK
* checking package dependencies ... OK
* checking if this is a source package ... OK
* checking if there is a namespace ... OK
* checking for hidden files and directories ... OK
* checking for portable file names ... OK
* checking for sufficient/correct file permissions ... OK
* checking whether package ‘fgsea’ can be installed ... OK
* checking installed package size ... NOTE
installed size is 9.1Mb
sub-directories of 1Mb or more:
data 1.1Mb
extdata 3.9Mb
libs 3.8Mb
* checking package directory ... OK
* checking ‘build’ directory ... OK
* checking DESCRIPTION meta-information ... OK
* checking top-level files ... OK
* checking for left-over files ... OK
* checking index information ... OK
* checking package subdirectories ... OK
* checking R files for non-ASCII characters ... OK
* checking R files for syntax errors ... OK
* checking whether the package can be loaded ... OK
* checking whether the package can be loaded with stated dependencies ... OK
* checking whether the package can be unloaded cleanly ... OK
* checking whether the namespace can be loaded with stated dependencies ... OK
* checking whether the namespace can be unloaded cleanly ... OK
* checking loading without being on the library search path ... OK
* checking dependencies in R code ... OK
* checking S3 generic/method consistency ... OK
* checking replacement functions ... OK
* checking foreign function calls ... OK
* checking R code for possible problems ... NOTE
setUpBPPARAM: warning in MulticoreParam(workers = nproc, progress =
TRUE): partial argument match of 'progress' to 'progressbar'
addGesecaScores: no visible global function definition for
‘DefaultAssay’
addGesecaScores: no visible global function definition for ‘GetAssay’
collapsePathways: no visible binding for global variable ‘pathway’
collapsePathways: no visible binding for global variable ‘ES’
collapsePathwaysGeseca: no visible binding for global variable
‘pvalCond’
collapsePathwaysGeseca: no visible binding for global variable
‘pathway’
collapsePathwaysGeseca: no visible binding for global variable
‘reciprocalPvalCond’
collapsePathwaysGeseca: no visible binding for global variable ‘pScore’
collapsePathwaysGeseca: no visible binding for global variable ‘pval’
fgseaMultilevel: no visible binding for global variable ‘modeFraction’
fgseaMultilevel: no visible binding for global variable ‘denomProb’
fora: no visible binding for global variable ‘pval’
geseca: no visible binding for global variable ‘gsScore’
geseca: no visible binding for global variable ‘log2err’
geseca: no visible binding for global variable ‘nGeScore’
geseca: no visible binding for global variable ‘pctVar’
geseca: no visible binding for global variable ‘size’
geseca: no visible binding for global variable ‘pathway’
geseca: no visible global function definition for ‘.’
geseca: no visible binding for global variable ‘pval’
geseca: no visible binding for global variable ‘padj’
gesecaSimple: no visible binding for global variable ‘pctVar’
gesecaSimple: no visible binding for global variable ‘size’
gesecaSimple: no visible binding for global variable ‘pval’
gesecaSimpleImpl: no visible binding for global variable ‘pval’
gesecaSimpleImpl: no visible binding for global variable ‘nGeScore’
gesecaSimpleImpl: no visible binding for global variable ‘padj’
gesecaSimpleImpl: no visible binding for global variable ‘size’
plotCoregulationProfile: no visible binding for global variable ‘id’
plotCoregulationProfile: no visible binding for global variable ‘gene’
plotCoregulationProfile: no visible binding for global variable
‘expressionValue’
plotCoregulationProfile: no visible binding for global variable ‘x’
plotCoregulationProfile: no visible binding for global variable ‘y’
plotCoregulationProfile: no visible binding for global variable
‘condition’
plotCoregulationProfileReduction: no visible global function definition
for ‘DefaultAssay’
plotCoregulationProfileSpatial: no visible global function definition
for ‘DefaultAssay’
plotGesecaTable: no visible global function definition for ‘modifyList’
plotGesecaTable: no visible binding for global variable ‘pathway’
plotGesecaTable: no visible binding for global variable ‘value’
plotGesecaTable : <anonymous>: no visible binding for global variable
‘pathway’
plotGesecaTable : <anonymous>: no visible binding for global variable
‘value’
plotGseaTable: no visible global function definition for ‘modifyList’
Undefined global functions or variables:
. DefaultAssay ES GetAssay condition denomProb expressionValue gene
gsScore id log2err modeFraction modifyList nGeScore pScore padj
pathway pctVar pval pvalCond reciprocalPvalCond size value x y
Consider adding
importFrom("utils", "modifyList")
to your NAMESPACE file.
* checking Rd files ... OK
* checking Rd metadata ... OK
* checking Rd cross-references ... OK
* checking for missing documentation entries ... OK
* checking for code/documentation mismatches ... OK
* checking Rd \usage sections ... OK
* checking Rd contents ... OK
* checking for unstated dependencies in examples ... OK
* checking contents of ‘data’ directory ... OK
* checking data for non-ASCII characters ... OK
* checking LazyData ... OK
* checking data for ASCII and uncompressed saves ... OK
* checking line endings in C/C++/Fortran sources/headers ... OK
* checking compiled code ... NOTE
Note: information on .o files is not available
* checking files in ‘vignettes’ ... OK
* checking examples ... OK
Examples with CPU (user + system) or elapsed time > 5s
user system elapsed
plotGseaTable 19.613 0.672 16.725
collapsePathways 15.161 0.522 11.661
fgseaSimple 9.968 1.759 4.107
mapIdsList 9.590 0.762 7.823
fgsea 8.419 0.344 4.125
fgseaMultilevel 8.040 0.363 4.138
* checking for unstated dependencies in ‘tests’ ... OK
* checking tests ...
Running ‘testthat.R’
OK
* checking for unstated dependencies in vignettes ... OK
* checking package vignettes in ‘inst/doc’ ... OK
* checking running R code from vignettes ...
‘fgsea-tutorial.Rmd’ using ‘UTF-8’... OK
‘geseca-tutorial.Rmd’ using ‘UTF-8’... OK
NONE
* checking re-building of vignette outputs ... OK
* checking PDF version of manual ... OK
* DONE
Status: 3 NOTEs
See
‘/home/hpages/bbs-3.18-bioc-R41/meat/fgsea.Rcheck/00check.log’
for details.
fgsea.Rcheck/00install.out
##############################################################################
##############################################################################
###
### Running command:
###
### /home/hpages/bbs-3.18-bioc-R41/R/bin/R CMD INSTALL fgsea
###
##############################################################################
##############################################################################
* installing to library ‘/home/hpages/bbs-3.18-bioc-R41/R/site-library’
* installing *source* package ‘fgsea’ ...
** using staged installation
** libs
g++ -std=gnu++11 -I"/home/hpages/bbs-3.18-bioc-R41/R/include" -DNDEBUG -I'/home/hpages/bbs-3.18-bioc-R41/R/site-library/Rcpp/include' -I'/home/hpages/bbs-3.18-bioc-R41/R/site-library/BH/include' -I/usr/local/include -fpic -g -O2 -Wall -c RcppExports.cpp -o RcppExports.o
g++ -std=gnu++11 -I"/home/hpages/bbs-3.18-bioc-R41/R/include" -DNDEBUG -I'/home/hpages/bbs-3.18-bioc-R41/R/site-library/Rcpp/include' -I'/home/hpages/bbs-3.18-bioc-R41/R/site-library/BH/include' -I/usr/local/include -fpic -g -O2 -Wall -c ScoreCalculation.cpp -o ScoreCalculation.o
g++ -std=gnu++11 -I"/home/hpages/bbs-3.18-bioc-R41/R/include" -DNDEBUG -I'/home/hpages/bbs-3.18-bioc-R41/R/site-library/Rcpp/include' -I'/home/hpages/bbs-3.18-bioc-R41/R/site-library/BH/include' -I/usr/local/include -fpic -g -O2 -Wall -c ScoreRuler.cpp -o ScoreRuler.o
In file included from /home/hpages/bbs-3.18-bioc-R41/R/site-library/BH/include/boost/math/special_functions/detail/round_fwd.hpp:11,
from /home/hpages/bbs-3.18-bioc-R41/R/site-library/BH/include/boost/math/special_functions/math_fwd.hpp:29,
from /home/hpages/bbs-3.18-bioc-R41/R/site-library/BH/include/boost/math/special_functions/digamma.hpp:15,
from util.h:5,
from ScoreRuler.cpp:2:
/home/hpages/bbs-3.18-bioc-R41/R/site-library/BH/include/boost/math/tools/config.hpp:23:6: warning: #warning "The minimum language standard to use Boost.Math will be C++14 starting in July 2023 (Boost 1.82 release)" [-Wcpp]
23 | # warning "The minimum language standard to use Boost.Math will be C++14 starting in July 2023 (Boost 1.82 release)"
| ^~~~~~~
ScoreRuler.cpp: In member function ‘void ScoreRuler::extend(double, int, double)’:
ScoreRuler.cpp:76:31: warning: comparison of integer expressions of different signedness: ‘int’ and ‘unsigned int’ [-Wsign-compare]
76 | for (moves = 0; moves < sampleSize * genesetSize;) {
| ~~~~~~^~~~~~~~~~~~~~~~~~~~~~~~~~
g++ -std=gnu++11 -I"/home/hpages/bbs-3.18-bioc-R41/R/include" -DNDEBUG -I'/home/hpages/bbs-3.18-bioc-R41/R/site-library/Rcpp/include' -I'/home/hpages/bbs-3.18-bioc-R41/R/site-library/BH/include' -I/usr/local/include -fpic -g -O2 -Wall -c esCalculation.cpp -o esCalculation.o
g++ -std=gnu++11 -I"/home/hpages/bbs-3.18-bioc-R41/R/include" -DNDEBUG -I'/home/hpages/bbs-3.18-bioc-R41/R/site-library/Rcpp/include' -I'/home/hpages/bbs-3.18-bioc-R41/R/site-library/BH/include' -I/usr/local/include -fpic -g -O2 -Wall -c fastGSEA.cpp -o fastGSEA.o
In file included from /home/hpages/bbs-3.18-bioc-R41/R/site-library/BH/include/boost/math/special_functions/detail/round_fwd.hpp:11,
from /home/hpages/bbs-3.18-bioc-R41/R/site-library/BH/include/boost/math/special_functions/math_fwd.hpp:29,
from /home/hpages/bbs-3.18-bioc-R41/R/site-library/BH/include/boost/math/special_functions/digamma.hpp:15,
from util.h:5,
from fastGSEA.cpp:13:
/home/hpages/bbs-3.18-bioc-R41/R/site-library/BH/include/boost/math/tools/config.hpp:23:6: warning: #warning "The minimum language standard to use Boost.Math will be C++14 starting in July 2023 (Boost 1.82 release)" [-Wcpp]
23 | # warning "The minimum language standard to use Boost.Math will be C++14 starting in July 2023 (Boost 1.82 release)"
| ^~~~~~~
fastGSEA.cpp: In function ‘Rcpp::NumericVector calcGseaStatBatchCpp(const NumericVector&, const List&, const IntegerVector&)’:
fastGSEA.cpp:446:27: warning: comparison of integer expressions of different signedness: ‘int’ and ‘std::vector<int>::size_type’ {aka ‘long unsigned int’} [-Wsign-compare]
446 | for (int j = 0; j < S.size(); ++j) {
| ~~^~~~~~~~~~
g++ -std=gnu++11 -I"/home/hpages/bbs-3.18-bioc-R41/R/include" -DNDEBUG -I'/home/hpages/bbs-3.18-bioc-R41/R/site-library/Rcpp/include' -I'/home/hpages/bbs-3.18-bioc-R41/R/site-library/BH/include' -I/usr/local/include -fpic -g -O2 -Wall -c fgseaMultilevel.cpp -o fgseaMultilevel.o
fgseaMultilevel.cpp: In function ‘Rcpp::DataFrame fgseaMultilevelCpp(const NumericVector&, const NumericVector&, int, int, int, double, bool)’:
fgseaMultilevel.cpp:10:23: warning: comparison of integer expressions of different signedness: ‘int’ and ‘std::vector<double>::size_type’ {aka ‘long unsigned int’} [-Wsign-compare]
10 | for (int i = 0; i < posRanks.size(); i++) {
| ~~^~~~~~~~~~~~~~~~~
g++ -std=gnu++11 -I"/home/hpages/bbs-3.18-bioc-R41/R/include" -DNDEBUG -I'/home/hpages/bbs-3.18-bioc-R41/R/site-library/Rcpp/include' -I'/home/hpages/bbs-3.18-bioc-R41/R/site-library/BH/include' -I/usr/local/include -fpic -g -O2 -Wall -c fgseaMultilevelSupplement.cpp -o fgseaMultilevelSupplement.o
In file included from /home/hpages/bbs-3.18-bioc-R41/R/site-library/BH/include/boost/math/special_functions/detail/round_fwd.hpp:11,
from /home/hpages/bbs-3.18-bioc-R41/R/site-library/BH/include/boost/math/special_functions/math_fwd.hpp:29,
from /home/hpages/bbs-3.18-bioc-R41/R/site-library/BH/include/boost/math/special_functions/digamma.hpp:15,
from util.h:5,
from fgseaMultilevelSupplement.cpp:3:
/home/hpages/bbs-3.18-bioc-R41/R/site-library/BH/include/boost/math/tools/config.hpp:23:6: warning: #warning "The minimum language standard to use Boost.Math will be C++14 starting in July 2023 (Boost 1.82 release)" [-Wcpp]
23 | # warning "The minimum language standard to use Boost.Math will be C++14 starting in July 2023 (Boost 1.82 release)"
| ^~~~~~~
fgseaMultilevelSupplement.cpp: In member function ‘void EsRuler::duplicateSamples()’:
fgseaMultilevelSupplement.cpp:40:37: warning: comparison of integer expressions of different signedness: ‘int’ and ‘const unsigned int’ [-Wsign-compare]
40 | for (int sampleId = 0; sampleId < sampleSize; sampleId++) {
| ~~~~~~~~~^~~~~~~~~~~~
fgseaMultilevelSupplement.cpp:50:41: warning: comparison of integer expressions of different signedness: ‘int’ and ‘const unsigned int’ [-Wsign-compare]
50 | for (int sampleId = 0; 2 * sampleId < sampleSize; sampleId++) {
| ~~~~~~~~~~~~~^~~~~~~~~~~~
fgseaMultilevelSupplement.cpp:59:41: warning: comparison of integer expressions of different signedness: ‘int’ and ‘unsigned int’ [-Wsign-compare]
59 | for (int sampleId = 0; 2 * sampleId < sampleSize - 2; sampleId++) {
| ~~~~~~~~~~~~~^~~~~~~~~~~~~~~~
fgseaMultilevelSupplement.cpp: In member function ‘void EsRuler::extend(double, int, double)’:
fgseaMultilevelSupplement.cpp:73:37: warning: comparison of integer expressions of different signedness: ‘int’ and ‘const unsigned int’ [-Wsign-compare]
73 | for (int sampleId = 0; sampleId < sampleSize; sampleId++) {
| ~~~~~~~~~^~~~~~~~~~~~
fgseaMultilevelSupplement.cpp:77:16: warning: unused variable ‘currentES’ [-Wunused-variable]
77 | double currentES = calcES(ranks, currentSamples[sampleId]);
| ^~~~~~~~~
fgseaMultilevelSupplement.cpp:90:31: warning: comparison of integer expressions of different signedness: ‘int’ and ‘const unsigned int’ [-Wsign-compare]
90 | for (int j = 0; j < sampleSize; ++j) {
| ~~^~~~~~~~~~~~
fgseaMultilevelSupplement.cpp:97:27: warning: comparison of integer expressions of different signedness: ‘int’ and ‘const unsigned int’ [-Wsign-compare]
97 | for (int i = 0; i < sampleSize; ++i) {
| ~~^~~~~~~~~~~~
fgseaMultilevelSupplement.cpp:112:35: warning: comparison of integer expressions of different signedness: ‘int’ and ‘unsigned int’ [-Wsign-compare]
112 | for (int moves = 0; moves < sampleSize * pathwaySize;) {
| ~~~~~~^~~~~~~~~~~~~~~~~~~~~~~~~~
fgseaMultilevelSupplement.cpp:113:45: warning: comparison of integer expressions of different signedness: ‘int’ and ‘const unsigned int’ [-Wsign-compare]
113 | for (int sampleId = 0; sampleId < sampleSize; sampleId++) {
| ~~~~~~~~~^~~~~~~~~~~~
fgseaMultilevelSupplement.cpp:118:27: warning: comparison of integer expressions of different signedness: ‘int’ and ‘const unsigned int’ [-Wsign-compare]
118 | for (int i = 0; i < sampleSize; ++i) {
| ~~^~~~~~~~~~~~
fgseaMultilevelSupplement.cpp: In member function ‘int EsRuler::perturbate(const std::vector<double>&, int, EsRuler::SampleChunks&, double, std::mt19937&)’:
fgseaMultilevelSupplement.cpp:260:14: warning: unused variable ‘fl’ [-Wunused-variable]
260 | bool fl = false;
| ^~
g++ -std=gnu++11 -I"/home/hpages/bbs-3.18-bioc-R41/R/include" -DNDEBUG -I'/home/hpages/bbs-3.18-bioc-R41/R/site-library/Rcpp/include' -I'/home/hpages/bbs-3.18-bioc-R41/R/site-library/BH/include' -I/usr/local/include -fpic -g -O2 -Wall -c geseca.cpp -o geseca.o
geseca.cpp: In function ‘Rcpp::List gesecaCpp(const NumericMatrix&, const NumericVector&, unsigned int, unsigned int, int, double)’:
geseca.cpp:9:28: warning: comparison of integer expressions of different signedness: ‘unsigned int’ and ‘int’ [-Wsign-compare]
9 | for (unsigned i = 0; i < E.nrow(); i++){
| ~~^~~~~~~~~~
g++ -std=gnu++11 -I"/home/hpages/bbs-3.18-bioc-R41/R/include" -DNDEBUG -I'/home/hpages/bbs-3.18-bioc-R41/R/site-library/Rcpp/include' -I'/home/hpages/bbs-3.18-bioc-R41/R/site-library/BH/include' -I/usr/local/include -fpic -g -O2 -Wall -c util.cpp -o util.o
In file included from /home/hpages/bbs-3.18-bioc-R41/R/site-library/BH/include/boost/math/special_functions/detail/round_fwd.hpp:11,
from /home/hpages/bbs-3.18-bioc-R41/R/site-library/BH/include/boost/math/special_functions/math_fwd.hpp:29,
from /home/hpages/bbs-3.18-bioc-R41/R/site-library/BH/include/boost/math/special_functions/digamma.hpp:15,
from util.h:5,
from util.cpp:1:
/home/hpages/bbs-3.18-bioc-R41/R/site-library/BH/include/boost/math/tools/config.hpp:23:6: warning: #warning "The minimum language standard to use Boost.Math will be C++14 starting in July 2023 (Boost 1.82 release)" [-Wcpp]
23 | # warning "The minimum language standard to use Boost.Math will be C++14 starting in July 2023 (Boost 1.82 release)"
| ^~~~~~~
g++ -std=gnu++11 -shared -L/home/hpages/bbs-3.18-bioc-R41/R/lib -L/usr/local/lib -o fgsea.so RcppExports.o ScoreCalculation.o ScoreRuler.o esCalculation.o fastGSEA.o fgseaMultilevel.o fgseaMultilevelSupplement.o geseca.o util.o -L/home/hpages/bbs-3.18-bioc-R41/R/lib -lR
installing to /home/hpages/bbs-3.18-bioc-R41/R/site-library/00LOCK-fgsea/00new/fgsea/libs
** R
** data
*** moving datasets to lazyload DB
** inst
** byte-compile and prepare package for lazy loading
** help
*** installing help indices
** building package indices
** installing vignettes
** testing if installed package can be loaded from temporary location
** checking absolute paths in shared objects and dynamic libraries
** testing if installed package can be loaded from final location
** testing if installed package keeps a record of temporary installation path
* DONE (fgsea)
fgsea.Rcheck/tests/testthat.Rout
R version 4.1.3 (2022-03-10) -- "One Push-Up"
Copyright (C) 2022 The R Foundation for Statistical Computing
Platform: x86_64-pc-linux-gnu (64-bit)
R is free software and comes with ABSOLUTELY NO WARRANTY.
You are welcome to redistribute it under certain conditions.
Type 'license()' or 'licence()' for distribution details.
R is a collaborative project with many contributors.
Type 'contributors()' for more information and
'citation()' on how to cite R or R packages in publications.
Type 'demo()' for some demos, 'help()' for on-line help, or
'help.start()' for an HTML browser interface to help.
Type 'q()' to quit R.
> # setting R_TESTS to empty string because of
> # https://github.com/hadley/testthat/issues/144
> # revert this when that issue in R is fixed.
> Sys.setenv("R_TESTS" = "")
>
> library(testthat)
> library(fgsea)
>
> test_check("fgsea")
|
| | 0%
|
|=================================== | 50%
|
|======================================================================| 100%
|
| | 0%
|
|=================================== | 50%
|
|======================================================================| 100%
|
| | 0%
|
|=================================== | 50%
|
|======================================================================| 100%
|
| | 0%
|
|======================================================================| 100%
|
| | 0%
|
|= | 1%
|
|== | 3%
|
|=== | 4%
|
|==== | 5%
|
|===== | 7%
|
|====== | 8%
|
|======= | 10%
|
|======== | 11%
|
|========= | 12%
|
|========== | 14%
|
|=========== | 15%
|
|============ | 16%
|
|============ | 18%
|
|============= | 19%
|
|============== | 21%
|
|=============== | 22%
|
|================ | 23%
|
|================= | 25%
|
|================== | 26%
|
|=================== | 27%
|
|==================== | 29%
|
|===================== | 30%
|
|====================== | 32%
|
|======================= | 33%
|
|======================== | 34%
|
|========================= | 36%
|
|========================== | 37%
|
|=========================== | 38%
|
|============================ | 40%
|
|============================= | 41%
|
|============================== | 42%
|
|=============================== | 44%
|
|================================ | 45%
|
|================================= | 47%
|
|================================== | 48%
|
|=================================== | 49%
|
|=================================== | 51%
|
|==================================== | 52%
|
|===================================== | 53%
|
|====================================== | 55%
|
|======================================= | 56%
|
|======================================== | 58%
|
|========================================= | 59%
|
|========================================== | 60%
|
|=========================================== | 62%
|
|============================================ | 63%
|
|============================================= | 64%
|
|============================================== | 66%
|
|=============================================== | 67%
|
|================================================ | 68%
|
|================================================= | 70%
|
|================================================== | 71%
|
|=================================================== | 73%
|
|==================================================== | 74%
|
|===================================================== | 75%
|
|====================================================== | 77%
|
|======================================================= | 78%
|
|======================================================== | 79%
|
|========================================================= | 81%
|
|========================================================== | 82%
|
|========================================================== | 84%
|
|=========================================================== | 85%
|
|============================================================ | 86%
|
|============================================================= | 88%
|
|============================================================== | 89%
|
|=============================================================== | 90%
|
|================================================================ | 92%
|
|================================================================= | 93%
|
|================================================================== | 95%
|
|=================================================================== | 96%
|
|==================================================================== | 97%
|
|===================================================================== | 99%
|
|======================================================================| 100%
|
| | 0%
|
|== | 3%
|
|==== | 5%
|
|====== | 8%
|
|======== | 11%
|
|========= | 14%
|
|=========== | 16%
|
|============= | 19%
|
|=============== | 22%
|
|================= | 24%
|
|=================== | 27%
|
|===================== | 30%
|
|======================= | 32%
|
|========================= | 35%
|
|========================== | 38%
|
|============================ | 41%
|
|============================== | 43%
|
|================================ | 46%
|
|================================== | 49%
|
|==================================== | 51%
|
|====================================== | 54%
|
|======================================== | 57%
|
|========================================== | 59%
|
|============================================ | 62%
|
|============================================= | 65%
|
|=============================================== | 68%
|
|================================================= | 70%
|
|=================================================== | 73%
|
|===================================================== | 76%
|
|======================================================= | 78%
|
|========================================================= | 81%
|
|=========================================================== | 84%
|
|============================================================= | 86%
|
|============================================================== | 89%
|
|================================================================ | 92%
|
|================================================================== | 95%
|
|==================================================================== | 97%
|
|======================================================================| 100%
[ FAIL 0 | WARN 1 | SKIP 1 | PASS 128 ]
══ Skipped tests (1) ═══════════════════════════════════════════════════════════
• On Bioconductor (1): 'test_gsea_analysis.R:80:5'
[ FAIL 0 | WARN 1 | SKIP 1 | PASS 128 ]
>
> proc.time()
user system elapsed
112.645 18.459 94.378
fgsea.Rcheck/fgsea-Ex.timings
| name | user | system | elapsed | |
| calcGseaStat | 0.038 | 0.000 | 0.037 | |
| collapsePathways | 15.161 | 0.522 | 11.661 | |
| collapsePathwaysORA | 0.171 | 0.000 | 0.161 | |
| fgsea | 8.419 | 0.344 | 4.125 | |
| fgseaLabel | 0 | 0 | 0 | |
| fgseaMultilevel | 8.040 | 0.363 | 4.138 | |
| fgseaSimple | 9.968 | 1.759 | 4.107 | |
| fora | 0.093 | 0.012 | 0.106 | |
| geseca | 3.207 | 0.820 | 3.835 | |
| gesecaSimple | 0.261 | 0.037 | 1.141 | |
| gmtPathways | 0.864 | 0.211 | 0.187 | |
| mapIdsList | 9.590 | 0.762 | 7.823 | |
| multilevelError | 0 | 0 | 0 | |
| plotEnrichment | 0.003 | 0.000 | 0.002 | |
| plotEnrichmentData | 0.783 | 0.012 | 0.796 | |
| plotGseaTable | 19.613 | 0.672 | 16.725 | |
| reactomePathways | 2.609 | 0.156 | 2.765 | |
| writeGmtPathways | 0.036 | 0.000 | 0.037 | |