| Back to First build/check report with an "external build node" |
This page was generated on 2023-06-01 18:17:19 -0400 (Thu, 01 Jun 2023).
| Hostname | OS | Arch (*) | R version | Installed pkgs |
|---|---|---|---|---|
| xps15 | Linux (Ubuntu 23.04) | x86_64 | 4.3.0 Patched (2023-05-23 r84466) -- "Already Tomorrow" | 544 |
| Click on any hostname to see more info about the system (e.g. compilers) (*) as reported by 'uname -p', except on Windows and Mac OS X | ||||
|
To the developers/maintainers of the basilisk.utils package: Use the following Renviron settings to reproduce errors and warnings. Note: If "R CMD check" recently failed on the Linux builder over a missing dependency, add the missing dependency to "Suggests" in your DESCRIPTION file. See the Renviron.bioc for details. |
| Package 11/91 | Hostname | OS / Arch | INSTALL | BUILD | CHECK | BUILD BIN | |||||||
| basilisk.utils 1.13.1 (landing page) Aaron Lun
| xps15 | Linux (Ubuntu 23.04) / x86_64 | ERROR | ERROR | skipped | ||||||||
| Package: basilisk.utils |
| Version: 1.13.1 |
| Command: /home/hpages/bbs-3.18-bioc/R/bin/R CMD INSTALL basilisk.utils |
| StartedAt: 2023-06-01 12:35:32 -0700 (Thu, 01 Jun 2023) |
| EndedAt: 2023-06-01 12:35:32 -0700 (Thu, 01 Jun 2023) |
| EllapsedTime: 0.2 seconds |
| RetCode: 1 |
| Status: ERROR |
############################################################################## ############################################################################## ### ### Running command: ### ### /home/hpages/bbs-3.18-bioc/R/bin/R CMD INSTALL basilisk.utils ### ############################################################################## ############################################################################## * installing to library ‘/home/hpages/bbs-3.18-bioc-testing/Rlibs’ ERROR: dependency ‘dir.expiry’ is not available for package ‘basilisk.utils’ * removing ‘/home/hpages/bbs-3.18-bioc-testing/Rlibs/basilisk.utils’