| Back to Multiple platform build/check report for BioC 3.18: simplified long |
|
This page was generated on 2024-03-04 11:37:22 -0500 (Mon, 04 Mar 2024).
| Hostname | OS | Arch (*) | R version | Installed pkgs |
|---|---|---|---|---|
| nebbiolo2 | Linux (Ubuntu 22.04.3 LTS) | x86_64 | 4.3.2 Patched (2023-11-13 r85521) -- "Eye Holes" | 4692 |
| palomino4 | Windows Server 2022 Datacenter | x64 | 4.3.2 (2023-10-31 ucrt) -- "Eye Holes" | 4445 |
| lconway | macOS 12.7.1 Monterey | x86_64 | 4.3.2 Patched (2023-11-01 r85457) -- "Eye Holes" | 4466 |
| Click on any hostname to see more info about the system (e.g. compilers) (*) as reported by 'uname -p', except on Windows and Mac OS X | ||||
| Package 808/2266 | Hostname | OS / Arch | INSTALL | BUILD | CHECK | BUILD BIN | ||||||||
| geNetClassifier 1.42.0 (landing page) Sara Aibar
| nebbiolo2 | Linux (Ubuntu 22.04.3 LTS) / x86_64 | OK | OK | OK | |||||||||
| palomino4 | Windows Server 2022 Datacenter / x64 | OK | OK | OK | OK | |||||||||
| lconway | macOS 12.7.1 Monterey / x86_64 | OK | OK | OK | OK | |||||||||
| kjohnson1 | macOS 13.6.1 Ventura / arm64 | see weekly results here | ||||||||||||
|
To the developers/maintainers of the geNetClassifier package: - Allow up to 24 hours (and sometimes 48 hours) for your latest push to git@git.bioconductor.org:packages/geNetClassifier.git to reflect on this report. See Troubleshooting Build Report for more information. - Use the following Renviron settings to reproduce errors and warnings. - If 'R CMD check' started to fail recently on the Linux builder(s) over a missing dependency, add the missing dependency to 'Suggests:' in your DESCRIPTION file. See Renviron.bioc for more information. |
| Package: geNetClassifier |
| Version: 1.42.0 |
| Command: /Library/Frameworks/R.framework/Resources/bin/R CMD check --install=check:geNetClassifier.install-out.txt --library=/Library/Frameworks/R.framework/Resources/library --no-vignettes --timings geNetClassifier_1.42.0.tar.gz |
| StartedAt: 2024-03-03 20:47:52 -0500 (Sun, 03 Mar 2024) |
| EndedAt: 2024-03-03 20:49:19 -0500 (Sun, 03 Mar 2024) |
| EllapsedTime: 87.5 seconds |
| RetCode: 0 |
| Status: OK |
| CheckDir: geNetClassifier.Rcheck |
| Warnings: 0 |
##############################################################################
##############################################################################
###
### Running command:
###
### /Library/Frameworks/R.framework/Resources/bin/R CMD check --install=check:geNetClassifier.install-out.txt --library=/Library/Frameworks/R.framework/Resources/library --no-vignettes --timings geNetClassifier_1.42.0.tar.gz
###
##############################################################################
##############################################################################
* using log directory ‘/Users/biocbuild/bbs-3.18-bioc/meat/geNetClassifier.Rcheck’
* using R version 4.3.2 Patched (2023-11-01 r85457)
* using platform: x86_64-apple-darwin20 (64-bit)
* R was compiled by
Apple clang version 14.0.3 (clang-1403.0.22.14.1)
GNU Fortran (GCC) 12.2.0
* running under: macOS Monterey 12.7.1
* using session charset: UTF-8
* using option ‘--no-vignettes’
* checking for file ‘geNetClassifier/DESCRIPTION’ ... OK
* checking extension type ... Package
* this is package ‘geNetClassifier’ version ‘1.42.0’
* checking package namespace information ... OK
* checking package dependencies ... OK
* checking if this is a source package ... OK
* checking if there is a namespace ... OK
* checking for hidden files and directories ... OK
* checking for portable file names ... OK
* checking for sufficient/correct file permissions ... OK
* checking whether package ‘geNetClassifier’ can be installed ... OK
* checking installed package size ... OK
* checking package directory ... OK
* checking ‘build’ directory ... OK
* checking DESCRIPTION meta-information ... OK
* checking top-level files ... OK
* checking for left-over files ... OK
* checking index information ... OK
* checking package subdirectories ... OK
* checking R files for non-ASCII characters ... OK
* checking R files for syntax errors ... OK
* checking whether the package can be loaded ... OK
* checking whether the package can be loaded with stated dependencies ... OK
* checking whether the package can be unloaded cleanly ... OK
* checking whether the namespace can be loaded with stated dependencies ... OK
* checking whether the namespace can be unloaded cleanly ... OK
* checking dependencies in R code ... OK
* checking S3 generic/method consistency ... OK
* checking replacement functions ... OK
* checking foreign function calls ... OK
* checking R code for possible problems ... OK
* checking Rd files ... OK
* checking Rd metadata ... OK
* checking Rd cross-references ... OK
* checking for missing documentation entries ... OK
* checking for code/documentation mismatches ... OK
* checking Rd \usage sections ... OK
* checking Rd contents ... OK
* checking for unstated dependencies in examples ... OK
* checking contents of ‘data’ directory ... OK
* checking data for non-ASCII characters ... OK
* checking data for ASCII and uncompressed saves ... OK
* checking sizes of PDF files under ‘inst/doc’ ... OK
* checking files in ‘vignettes’ ... OK
* checking examples ... OK
* checking for unstated dependencies in ‘tests’ ... OK
* checking tests ...
Running ‘runTests.R’
OK
* checking for unstated dependencies in vignettes ... OK
* checking package vignettes in ‘inst/doc’ ... OK
* checking running R code from vignettes ... SKIPPED
* checking re-building of vignette outputs ... SKIPPED
* checking PDF version of manual ... OK
* DONE
Status: OK
geNetClassifier.Rcheck/00install.out
############################################################################## ############################################################################## ### ### Running command: ### ### /Library/Frameworks/R.framework/Resources/bin/R CMD INSTALL geNetClassifier ### ############################################################################## ############################################################################## * installing to library ‘/Library/Frameworks/R.framework/Versions/4.3-x86_64/Resources/library’ * installing *source* package ‘geNetClassifier’ ... ** using staged installation ** R ** data ** inst ** byte-compile and prepare package for lazy loading ** help *** installing help indices ** building package indices ** installing vignettes ** testing if installed package can be loaded from temporary location ** testing if installed package can be loaded from final location ** testing if installed package keeps a record of temporary installation path * DONE (geNetClassifier)
geNetClassifier.Rcheck/tests/runTests.Rout
R version 4.3.2 Patched (2023-11-01 r85457) -- "Eye Holes"
Copyright (C) 2023 The R Foundation for Statistical Computing
Platform: x86_64-apple-darwin20 (64-bit)
R is free software and comes with ABSOLUTELY NO WARRANTY.
You are welcome to redistribute it under certain conditions.
Type 'license()' or 'licence()' for distribution details.
R is a collaborative project with many contributors.
Type 'contributors()' for more information and
'citation()' on how to cite R or R packages in publications.
Type 'demo()' for some demos, 'help()' for on-line help, or
'help.start()' for an HTML browser interface to help.
Type 'q()' to quit R.
> BiocGenerics:::testPackage("geNetClassifier")
Attaching package: 'BiocGenerics'
The following objects are masked from 'package:stats':
IQR, mad, sd, var, xtabs
The following objects are masked from 'package:base':
Filter, Find, Map, Position, Reduce, anyDuplicated, aperm, append,
as.data.frame, basename, cbind, colnames, dirname, do.call,
duplicated, eval, evalq, get, grep, grepl, intersect, is.unsorted,
lapply, mapply, match, mget, order, paste, pmax, pmax.int, pmin,
pmin.int, rank, rbind, rownames, sapply, setdiff, sort, table,
tapply, union, unique, unsplit, which.max, which.min
Welcome to Bioconductor
Vignettes contain introductory material; view with
'browseVignettes()'. To cite Bioconductor, see
'citation("Biobase")', and for packages 'citation("pkgname")'.
20:49:05 - Filtering data and calculating the genes ranking...
Warning in plotExpressionProfiles(eset = myEset, genes = rownames(myEset), :
The argument 'sampleLabels' had to be converted into a factor.
Warning in plotExpressionProfiles(eset = myEset, genes = rownames(myEset), :
The data labels vector is not named, it will be assumed the labels are in order: the first label applies to the first sample...
RUNIT TEST PROTOCOL -- Sun Mar 3 20:49:05 2024
***********************************************
Number of test functions: 3
Number of errors: 0
Number of failures: 0
1 Test Suite :
geNetClassifier RUnit Tests - 3 test functions, 0 errors, 0 failures
Number of test functions: 3
Number of errors: 0
Number of failures: 0
Warning messages:
1: In geNetClassifier(matrix(sample(50000, 5 * 2), 5, 2), c(rep("one", :
The argument 'classification sampleLabels' had to be converted into a factor.
2: In geNetClassifier(matrix(sample(50000, 5 * 3), 5, 3), c(rep("one", :
The argument 'classification sampleLabels' had to be converted into a factor.
3: In geNetClassifier(matrix(sample(50000, 5 * 3), 5, 3), c(rep("one", :
The data labels vector is not named, it is assumed the labels are in order: the first label applies to the first sample...
4: In geNetClassifier(matrix(sample(50000, 5 * 3), 5, 3), c(rep("one", :
It is recommended to have the *same* number of samples in each class in order to obtain balanced external validation stats.
>
> proc.time()
user system elapsed
1.212 0.170 1.399
geNetClassifier.Rcheck/geNetClassifier-Ex.timings
| name | user | system | elapsed | |
| GeNetClassifierReturn-class | 0.675 | 0.083 | 0.772 | |
| GeneralizationError-class | 0.438 | 0.029 | 0.477 | |
| GenesNetwork-class | 2.985 | 1.138 | 4.267 | |
| GenesRanking-class | 0.600 | 0.057 | 0.664 | |
| calculateGenesRanking | 0.647 | 0.030 | 0.686 | |
| externalValidation.probMatrix | 0.698 | 0.037 | 0.743 | |
| externalValidation.stats | 0.713 | 0.032 | 0.751 | |
| gClasses-methods | 0.263 | 0.006 | 0.271 | |
| geNetClassifier | 0.132 | 0.016 | 0.159 | |
| geneSymbols | 0.078 | 0.004 | 0.082 | |
| genesDetails-methods | 0.373 | 0.016 | 0.393 | |
| getEdges-methods | 0.261 | 0.008 | 0.273 | |
| getNodes-methods | 0.273 | 0.008 | 0.285 | |
| getNumEdges-methods | 0.282 | 0.007 | 0.292 | |
| getNumNodes-methods | 0.273 | 0.008 | 0.285 | |
| getRanking-methods | 0.303 | 0.010 | 0.316 | |
| getSubNetwork-methods | 0.312 | 0.025 | 0.351 | |
| getTopRanking-methods | 0.275 | 0.012 | 0.299 | |
| leukemiasClassifier | 0.281 | 0.020 | 0.314 | |
| network2txt | 0.325 | 0.026 | 0.355 | |
| numGenes-methods | 0.263 | 0.008 | 0.274 | |
| numSignificantGenes-methods | 0.260 | 0.007 | 0.267 | |
| overview-methods | 0.287 | 0.012 | 0.301 | |
| plot.GeNetClassifierReturn | 3.076 | 0.264 | 3.439 | |
| plot.GenesRanking | 0.390 | 0.014 | 0.413 | |
| plotAssignments | 0.675 | 0.032 | 0.722 | |
| plotDiscriminantPower | 0.661 | 0.063 | 0.762 | |
| plotExpressionProfiles | 1.005 | 0.091 | 1.150 | |
| plotNetwork | 2.193 | 0.163 | 2.473 | |
| queryGeNetClassifier | 0.859 | 0.038 | 0.909 | |
| querySummary | 0.773 | 0.030 | 0.814 | |