| Back to Multiple platform build/check report for BioC 3.17 | 
  | 
This page was generated on 2023-04-12 10:55:43 -0400 (Wed, 12 Apr 2023).
| Hostname | OS | Arch (*) | R version | Installed pkgs | 
|---|---|---|---|---|
| nebbiolo1 | Linux (Ubuntu 22.04.1 LTS) | x86_64 | 4.3.0 alpha (2023-04-03 r84154) | 4547 | 
| nebbiolo2 | Linux (Ubuntu 20.04.5 LTS) | x86_64 | R Under development (unstable) (2023-02-14 r83833) -- "Unsuffered Consequences" | 4333 | 
| Click on any hostname to see more info about the system (e.g. compilers) (*) as reported by 'uname -p', except on Windows and Mac OS X | ||||
| 
To the developers/maintainers of the trio package: - Allow up to 24 hours (and sometimes 48 hours) for your latest push to git@git.bioconductor.org:packages/trio.git to reflect on this report. See Troubleshooting Build Report for more information. - Use the following Renviron settings to reproduce errors and warnings. Note: If "R CMD check" recently failed on the Linux builder over a missing dependency, add the missing dependency to "Suggests" in your DESCRIPTION file. See the Renviron.bioc for details.  | 
| Package 2122/2207 | Hostname | OS / Arch | INSTALL | BUILD | CHECK | BUILD BIN | ||||||||
| trio 3.37.0  (landing page) Holger Schwender 
  | nebbiolo1 | Linux (Ubuntu 22.04.1 LTS) / x86_64 | OK | OK | OK | |||||||||
| nebbiolo2 | Linux (Ubuntu 20.04.5 LTS) / x86_64 | OK | OK | OK | ||||||||||
| Package: trio | 
| Version: 3.37.0 | 
| Command: /home/biocbuild/bbs-3.17-bioc/R/bin/R CMD check --install=check:trio.install-out.txt --library=/home/biocbuild/bbs-3.17-bioc/R/site-library --timings trio_3.37.0.tar.gz | 
| StartedAt: 2023-04-12 10:01:15 -0400 (Wed, 12 Apr 2023) | 
| EndedAt: 2023-04-12 10:04:56 -0400 (Wed, 12 Apr 2023) | 
| EllapsedTime: 220.6 seconds | 
| RetCode: 0 | 
| Status: OK | 
| CheckDir: trio.Rcheck | 
| Warnings: 0 | 
##############################################################################
##############################################################################
###
### Running command:
###
###   /home/biocbuild/bbs-3.17-bioc/R/bin/R CMD check --install=check:trio.install-out.txt --library=/home/biocbuild/bbs-3.17-bioc/R/site-library --timings trio_3.37.0.tar.gz
###
##############################################################################
##############################################################################
* using log directory ‘/home/biocbuild/bbs-3.17-bioc/meat/trio.Rcheck’
* using R Under development (unstable) (2023-02-14 r83833)
* using platform: x86_64-pc-linux-gnu (64-bit)
* R was compiled by
    gcc (Ubuntu 9.4.0-1ubuntu1~20.04.1) 9.4.0
    GNU Fortran (Ubuntu 9.4.0-1ubuntu1~20.04.1) 9.4.0
* running under: Ubuntu 20.04.6 LTS
* using session charset: UTF-8
* checking for file ‘trio/DESCRIPTION’ ... OK
* checking extension type ... Package
* this is package ‘trio’ version ‘3.37.0’
* checking package namespace information ... OK
* checking package dependencies ... OK
* checking if this is a source package ... OK
* checking if there is a namespace ... OK
* checking for hidden files and directories ... OK
* checking for portable file names ... OK
* checking for sufficient/correct file permissions ... OK
* checking whether package ‘trio’ can be installed ... OK
* checking installed package size ... OK
* checking package directory ... OK
* checking ‘build’ directory ... OK
* checking DESCRIPTION meta-information ... OK
* checking top-level files ... OK
* checking for left-over files ... OK
* checking index information ... OK
* checking package subdirectories ... OK
* checking R files for non-ASCII characters ... OK
* checking R files for syntax errors ... OK
* checking whether the package can be loaded ... OK
* checking whether the package can be loaded with stated dependencies ... OK
* checking whether the package can be unloaded cleanly ... OK
* checking whether the namespace can be loaded with stated dependencies ... OK
* checking whether the namespace can be unloaded cleanly ... OK
* checking loading without being on the library search path ... OK
* checking dependencies in R code ... OK
* checking S3 generic/method consistency ... OK
* checking replacement functions ... OK
* checking foreign function calls ... NOTE
Foreign function call to a different package:
  .C("clogreg", ..., PACKAGE = "LogicReg")
See chapter ‘System and foreign language interfaces’ in the ‘Writing R
Extensions’ manual.
* checking R code for possible problems ... OK
* checking Rd files ... OK
* checking Rd metadata ... OK
* checking Rd cross-references ... OK
* checking for missing documentation entries ... OK
* checking for code/documentation mismatches ... OK
* checking Rd \usage sections ... OK
* checking Rd contents ... OK
* checking for unstated dependencies in examples ... OK
* checking contents of ‘data’ directory ... OK
* checking data for non-ASCII characters ... OK
* checking data for ASCII and uncompressed saves ... OK
* checking installed files from ‘inst/doc’ ... OK
* checking files in ‘vignettes’ ... OK
* checking examples ... OK
* checking for unstated dependencies in vignettes ... OK
* checking package vignettes in ‘inst/doc’ ... OK
* checking running R code from vignettes ...
  ‘trio.Rnw’... OK
 OK
* checking re-building of vignette outputs ... OK
* checking PDF version of manual ... OK
* DONE
Status: 1 NOTE
See
  ‘/home/biocbuild/bbs-3.17-bioc/meat/trio.Rcheck/00check.log’
for details.
trio.Rcheck/00install.out
############################################################################## ############################################################################## ### ### Running command: ### ### /home/biocbuild/bbs-3.17-bioc/R/bin/R CMD INSTALL trio ### ############################################################################## ############################################################################## * installing to library ‘/home/biocbuild/bbs-3.17-bioc/R/site-library’ * installing *source* package ‘trio’ ... ** using staged installation ** R ** data ** inst ** byte-compile and prepare package for lazy loading ** help *** installing help indices ** building package indices ** installing vignettes ** testing if installed package can be loaded from temporary location ** testing if installed package can be loaded from final location ** testing if installed package keeps a record of temporary installation path * DONE (trio)
trio.Rcheck/trio-Ex.timings
| name | user | system | elapsed | |
| allelicTDT | 0.021 | 0.004 | 0.024 | |
| colEMlrt | 0.096 | 0.000 | 0.097 | |
| colGxE | 0.008 | 0.000 | 0.008 | |
| colGxGPerms | 4.156 | 0.016 | 4.172 | |
| colPOlrt | 0.020 | 0.000 | 0.021 | |
| colTDTmaxTest | 0.040 | 0.000 | 0.041 | |
| colTDTsam | 0.037 | 0.004 | 0.042 | |
| findLDblocks | 0.021 | 0.000 | 0.021 | |
| getLD | 0.016 | 0.000 | 0.015 | |
| getMatPseudo | 0.014 | 0.000 | 0.014 | |
| lrControl | 0 | 0 | 0 | |
| ped2geno | 0.000 | 0.000 | 0.001 | |
| plot.LDblocks | 0.049 | 0.000 | 0.050 | |
| plot.getLD | 0.037 | 0.000 | 0.037 | |
| plot.trioLR | 3.703 | 0.116 | 3.823 | |
| poly4root | 0.001 | 0.000 | 0.001 | |
| print.colGxE | 0.042 | 0.000 | 0.042 | |
| print.trioFS | 4.767 | 0.124 | 4.892 | |
| print.trioLR | 2.225 | 0.047 | 2.273 | |
| probTDT | 0.034 | 0.000 | 0.034 | |
| read.pedfile | 0 | 0 | 0 | |
| removeSNPs | 0.006 | 0.000 | 0.007 | |
| scoreTDT | 0.279 | 0.036 | 0.315 | |
| tdt | 0.018 | 0.000 | 0.018 | |
| tdtGxG | 1.063 | 0.000 | 1.063 | |
| trio.check | 0.555 | 0.028 | 0.583 | |
| trio.data | 0.006 | 0.000 | 0.006 | |
| trio.permTest | 4.122 | 0.140 | 4.262 | |
| trio.power | 0.008 | 0.004 | 0.013 | |
| trio.prepare | 2.021 | 0.040 | 2.061 | |
| trio.sim | 0.395 | 0.036 | 0.431 | |
| trioFS | 4.302 | 0.116 | 4.418 | |
| trioLR | 1.994 | 0.040 | 2.035 | |