| Back to Multiple platform build/check report for BioC 3.17 |
|
This page was generated on 2023-04-12 10:55:23 -0400 (Wed, 12 Apr 2023).
| Hostname | OS | Arch (*) | R version | Installed pkgs |
|---|---|---|---|---|
| nebbiolo1 | Linux (Ubuntu 22.04.1 LTS) | x86_64 | 4.3.0 alpha (2023-04-03 r84154) | 4547 |
| nebbiolo2 | Linux (Ubuntu 20.04.5 LTS) | x86_64 | R Under development (unstable) (2023-02-14 r83833) -- "Unsuffered Consequences" | 4333 |
| Click on any hostname to see more info about the system (e.g. compilers) (*) as reported by 'uname -p', except on Windows and Mac OS X | ||||
|
To the developers/maintainers of the cyanoFilter package: - Allow up to 24 hours (and sometimes 48 hours) for your latest push to git@git.bioconductor.org:packages/cyanoFilter.git to reflect on this report. See Troubleshooting Build Report for more information. - Use the following Renviron settings to reproduce errors and warnings. Note: If "R CMD check" recently failed on the Linux builder over a missing dependency, add the missing dependency to "Suggests" in your DESCRIPTION file. See the Renviron.bioc for details. |
| Package 470/2207 | Hostname | OS / Arch | INSTALL | BUILD | CHECK | BUILD BIN | ||||||||
| cyanoFilter 1.7.0 (landing page) Oluwafemi Olusoji
| nebbiolo1 | Linux (Ubuntu 22.04.1 LTS) / x86_64 | OK | OK | OK | |||||||||
| nebbiolo2 | Linux (Ubuntu 20.04.5 LTS) / x86_64 | OK | OK | OK | ||||||||||
| Package: cyanoFilter |
| Version: 1.7.0 |
| Command: /home/biocbuild/bbs-3.17-bioc/R/bin/R CMD check --install=check:cyanoFilter.install-out.txt --library=/home/biocbuild/bbs-3.17-bioc/R/site-library --timings cyanoFilter_1.7.0.tar.gz |
| StartedAt: 2023-04-11 19:40:17 -0400 (Tue, 11 Apr 2023) |
| EndedAt: 2023-04-11 19:42:34 -0400 (Tue, 11 Apr 2023) |
| EllapsedTime: 137.0 seconds |
| RetCode: 0 |
| Status: OK |
| CheckDir: cyanoFilter.Rcheck |
| Warnings: 0 |
##############################################################################
##############################################################################
###
### Running command:
###
### /home/biocbuild/bbs-3.17-bioc/R/bin/R CMD check --install=check:cyanoFilter.install-out.txt --library=/home/biocbuild/bbs-3.17-bioc/R/site-library --timings cyanoFilter_1.7.0.tar.gz
###
##############################################################################
##############################################################################
* using log directory ‘/home/biocbuild/bbs-3.17-bioc/meat/cyanoFilter.Rcheck’
* using R version 4.3.0 alpha (2023-04-03 r84154)
* using platform: x86_64-pc-linux-gnu (64-bit)
* R was compiled by
gcc (Ubuntu 11.3.0-1ubuntu1~22.04) 11.3.0
GNU Fortran (Ubuntu 11.3.0-1ubuntu1~22.04) 11.3.0
* running under: Ubuntu 22.04.2 LTS
* using session charset: UTF-8
* checking for file ‘cyanoFilter/DESCRIPTION’ ... OK
* checking extension type ... Package
* this is package ‘cyanoFilter’ version ‘1.7.0’
* package encoding: UTF-8
* checking package namespace information ... OK
* checking package dependencies ... OK
* checking if this is a source package ... OK
* checking if there is a namespace ... OK
* checking for hidden files and directories ... OK
* checking for portable file names ... OK
* checking for sufficient/correct file permissions ... OK
* checking whether package ‘cyanoFilter’ can be installed ... OK
* checking installed package size ... OK
* checking package directory ... OK
* checking ‘build’ directory ... OK
* checking DESCRIPTION meta-information ... OK
* checking top-level files ... OK
* checking for left-over files ... OK
* checking index information ... OK
* checking package subdirectories ... OK
* checking R files for non-ASCII characters ... OK
* checking R files for syntax errors ... OK
* checking whether the package can be loaded ... OK
* checking whether the package can be loaded with stated dependencies ... OK
* checking whether the package can be unloaded cleanly ... OK
* checking whether the namespace can be loaded with stated dependencies ... OK
* checking whether the namespace can be unloaded cleanly ... OK
* checking loading without being on the library search path ... OK
* checking dependencies in R code ... OK
* checking S3 generic/method consistency ... OK
* checking replacement functions ... OK
* checking foreign function calls ... OK
* checking R code for possible problems ... OK
* checking Rd files ... OK
* checking Rd metadata ... OK
* checking Rd cross-references ... OK
* checking for missing documentation entries ... OK
* checking for code/documentation mismatches ... OK
* checking Rd \usage sections ... OK
* checking Rd contents ... OK
* checking for unstated dependencies in examples ... OK
* checking files in ‘vignettes’ ... OK
* checking examples ... OK
Examples with CPU (user + system) or elapsed time > 5s
user system elapsed
gateFunc 8.163 0.403 6.795
* checking for unstated dependencies in vignettes ... OK
* checking package vignettes in ‘inst/doc’ ... OK
* checking running R code from vignettes ...
‘cyanoFilter.Rmd’ using ‘UTF-8’... OK
NONE
* checking re-building of vignette outputs ... OK
* checking PDF version of manual ... OK
* DONE
Status: OK
cyanoFilter.Rcheck/00install.out
############################################################################## ############################################################################## ### ### Running command: ### ### /home/biocbuild/bbs-3.17-bioc/R/bin/R CMD INSTALL cyanoFilter ### ############################################################################## ############################################################################## * installing to library ‘/home/biocbuild/bbs-3.17-bioc/R/site-library’ * installing *source* package ‘cyanoFilter’ ... ** using staged installation ** R ** inst ** byte-compile and prepare package for lazy loading ** help *** installing help indices ** building package indices ** installing vignettes ** testing if installed package can be loaded from temporary location ** testing if installed package can be loaded from final location ** testing if installed package keeps a record of temporary installation path * DONE (cyanoFilter)
cyanoFilter.Rcheck/cyanoFilter-Ex.timings
| name | user | system | elapsed | |
| MarginEvents | 2.631 | 0.124 | 2.757 | |
| PhytoFilter | 1.049 | 0.104 | 1.154 | |
| PhytopFilter | 0.643 | 0.067 | 0.711 | |
| accTest | 0.377 | 0.020 | 0.397 | |
| accuracy | 0.381 | 0.052 | 0.433 | |
| cellmargin | 0.287 | 0.028 | 0.316 | |
| clusterExtract | 0.733 | 0.056 | 0.790 | |
| clusterExtractp | 0.832 | 0.016 | 0.849 | |
| debrisNc | 0.417 | 0.032 | 0.449 | |
| fullFlowframe-MarginEvents-method | 0.277 | 0.008 | 0.286 | |
| fullFlowframe-PhytopFilter-method | 0.541 | 0.032 | 0.574 | |
| fullFlowframe | 0.257 | 0.000 | 0.258 | |
| gateFunc | 8.163 | 0.403 | 6.795 | |
| ggpairsDens | 2.994 | 0.248 | 3.242 | |
| ggplotDens | 0.522 | 0.012 | 0.534 | |
| ggplotDens2 | 1.091 | 0.060 | 1.151 | |
| goodfcs | 0.051 | 0.004 | 0.056 | |
| is.DebrisFilter | 0 | 0 | 0 | |
| is.MarginEvents | 0.001 | 0.000 | 0.000 | |
| is.PhytopFilter | 0.000 | 0.000 | 0.001 | |
| is.flowFrame | 0 | 0 | 0 | |
| is.flowSet | 0.001 | 0.000 | 0.000 | |
| lnTrans | 0.170 | 0.004 | 0.174 | |
| newFlowframe | 0.178 | 0.048 | 0.225 | |
| nona | 0.082 | 0.000 | 0.082 | |
| noneg | 0.140 | 0.000 | 0.141 | |
| oneDgate | 0.175 | 0.040 | 0.216 | |
| pairsPlot | 1.725 | 0.088 | 1.813 | |
| pigmentGate | 0.242 | 0.040 | 0.282 | |
| reducedFlowframe-MarginEvents-method | 0.255 | 0.000 | 0.255 | |
| reducedFlowframe | 0.254 | 0.000 | 0.254 | |
| retain | 0.014 | 0.003 | 0.016 | |
| rowNumbers | 0.175 | 0.052 | 0.228 | |
| summaries-DebrisFilter-method | 0.245 | 0.004 | 0.249 | |
| summaries-MarginEvents-method | 0.247 | 0.012 | 0.258 | |
| summaries-PhytopFilter-method | 0.511 | 0.011 | 0.523 | |
| summaries | 0.249 | 0.016 | 0.265 | |