| Back to Build/check report for BioC 3.16 experimental data |
|
This page was generated on 2023-04-11 14:50:27 -0400 (Tue, 11 Apr 2023).
| Hostname | OS | Arch (*) | R version | Installed pkgs |
|---|---|---|---|---|
| nebbiolo2 | Linux (Ubuntu 20.04.5 LTS) | x86_64 | 4.2.3 (2023-03-15) -- "Shortstop Beagle" | 4502 |
| Click on any hostname to see more info about the system (e.g. compilers) (*) as reported by 'uname -p', except on Windows and Mac OS X | ||||
|
To the developers/maintainers of the systemPipeRdata package: Make sure to use the following settings in order to reproduce any error or warning you see on this page. |
| Package 376/416 | Hostname | OS / Arch | INSTALL | BUILD | CHECK | ||||||||
| systemPipeRdata 2.2.0 (landing page) Thomas Girke
| nebbiolo2 | Linux (Ubuntu 20.04.5 LTS) / x86_64 | OK | OK | OK | ||||||||
| Package: systemPipeRdata |
| Version: 2.2.0 |
| Command: /home/biocbuild/bbs-3.16-bioc/R/bin/R CMD check --install=check:systemPipeRdata.install-out.txt --library=/home/biocbuild/bbs-3.16-bioc/R/site-library --timings systemPipeRdata_2.2.0.tar.gz |
| StartedAt: 2023-04-11 12:21:24 -0400 (Tue, 11 Apr 2023) |
| EndedAt: 2023-04-11 12:23:25 -0400 (Tue, 11 Apr 2023) |
| EllapsedTime: 121.5 seconds |
| RetCode: 0 |
| Status: OK |
| CheckDir: systemPipeRdata.Rcheck |
| Warnings: 0 |
##############################################################################
##############################################################################
###
### Running command:
###
### /home/biocbuild/bbs-3.16-bioc/R/bin/R CMD check --install=check:systemPipeRdata.install-out.txt --library=/home/biocbuild/bbs-3.16-bioc/R/site-library --timings systemPipeRdata_2.2.0.tar.gz
###
##############################################################################
##############################################################################
* using log directory ‘/home/biocbuild/bbs-3.16-data-experiment/meat/systemPipeRdata.Rcheck’
* using R version 4.2.3 (2023-03-15)
* using platform: x86_64-pc-linux-gnu (64-bit)
* using session charset: UTF-8
* checking for file ‘systemPipeRdata/DESCRIPTION’ ... OK
* this is package ‘systemPipeRdata’ version ‘2.2.0’
* checking package namespace information ... OK
* checking package dependencies ... OK
* checking if this is a source package ... OK
* checking if there is a namespace ... OK
* checking for hidden files and directories ... NOTE
Found the following hidden files and directories:
inst/extdata/param/.batchtools.conf.R
inst/extdata/param/.batchtools.conf.R.sge
inst/extdata/param/.batchtools.conf.R.torque
inst/extdata/workflows/new/.batchtools.conf.R
inst/rmarkdown/templates/systemPipeR_new/skeleton/.batchtools.conf.R
These were most likely included in error. See section ‘Package
structure’ in the ‘Writing R Extensions’ manual.
* checking for portable file names ... OK
* checking for sufficient/correct file permissions ... OK
* checking whether package ‘systemPipeRdata’ can be installed ... OK
* checking installed package size ... NOTE
installed size is 293.3Mb
sub-directories of 1Mb or more:
extdata 293.1Mb
* checking package directory ... OK
* checking ‘build’ directory ... OK
* checking DESCRIPTION meta-information ... OK
* checking top-level files ... OK
* checking for left-over files ... OK
* checking index information ... OK
* checking package subdirectories ... OK
* checking R files for non-ASCII characters ... OK
* checking R files for syntax errors ... OK
* checking whether the package can be loaded ... OK
* checking whether the package can be loaded with stated dependencies ... OK
* checking whether the package can be unloaded cleanly ... OK
* checking whether the namespace can be loaded with stated dependencies ... OK
* checking whether the namespace can be unloaded cleanly ... OK
* checking loading without being on the library search path ... OK
* checking dependencies in R code ... OK
* checking S3 generic/method consistency ... OK
* checking replacement functions ... OK
* checking foreign function calls ... OK
* checking R code for possible problems ... NOTE
.subsetAnno: no visible global function definition for ‘%within%’
.subsetAnno: no visible global function definition for ‘relist’
.subsetAnno: no visible global function definition for ‘shift’
getSubsetReads: no visible binding for global variable ‘anno’
Undefined global functions or variables:
%within% anno relist shift
Consider adding
importFrom("utils", "relist")
to your NAMESPACE file.
* checking Rd files ... OK
* checking Rd metadata ... OK
* checking Rd cross-references ... OK
* checking for missing documentation entries ... OK
* checking for code/documentation mismatches ... OK
* checking Rd \usage sections ... OK
* checking Rd contents ... OK
* checking for unstated dependencies in examples ... OK
* checking files in ‘vignettes’ ... OK
* checking examples ... OK
* checking for unstated dependencies in ‘tests’ ... OK
* checking tests ...
Running ‘runTests.R’
OK
* checking for unstated dependencies in vignettes ... OK
* checking package vignettes in ‘inst/doc’ ... OK
* checking running R code from vignettes ...
‘systemPipeChIPseq.Rmd’ using ‘UTF-8’... OK
‘systemPipeRIBOseq.Rmd’ using ‘UTF-8’... OK
‘systemPipeRNAseq.Rmd’ using ‘UTF-8’... OK
‘systemPipeRdata.Rmd’ using ‘UTF-8’... OK
‘systemPipeVARseq.Rmd’ using ‘UTF-8’... OK
NONE
* checking re-building of vignette outputs ... OK
* checking PDF version of manual ... OK
* DONE
Status: 3 NOTEs
See
‘/home/biocbuild/bbs-3.16-data-experiment/meat/systemPipeRdata.Rcheck/00check.log’
for details.
systemPipeRdata.Rcheck/00install.out
############################################################################## ############################################################################## ### ### Running command: ### ### /home/biocbuild/bbs-3.16-bioc/R/bin/R CMD INSTALL systemPipeRdata ### ############################################################################## ############################################################################## * installing to library ‘/home/biocbuild/bbs-3.16-bioc/R/site-library’ * installing *source* package ‘systemPipeRdata’ ... ** using staged installation ** R ** inst ** byte-compile and prepare package for lazy loading ** help *** installing help indices ** building package indices ** installing vignettes ** testing if installed package can be loaded from temporary location ** testing if installed package can be loaded from final location ** testing if installed package keeps a record of temporary installation path * DONE (systemPipeRdata)
systemPipeRdata.Rcheck/tests/runTests.Rout
R version 4.2.3 (2023-03-15) -- "Shortstop Beagle"
Copyright (C) 2023 The R Foundation for Statistical Computing
Platform: x86_64-pc-linux-gnu (64-bit)
R is free software and comes with ABSOLUTELY NO WARRANTY.
You are welcome to redistribute it under certain conditions.
Type 'license()' or 'licence()' for distribution details.
R is a collaborative project with many contributors.
Type 'contributors()' for more information and
'citation()' on how to cite R or R packages in publications.
Type 'demo()' for some demos, 'help()' for on-line help, or
'help.start()' for an HTML browser interface to help.
Type 'q()' to quit R.
> BiocGenerics:::testPackage("systemPipeRdata")
RUNIT TEST PROTOCOL -- Tue Apr 11 12:22:32 2023
***********************************************
Number of test functions: 1
Number of errors: 0
Number of failures: 0
1 Test Suite :
systemPipeRdata RUnit Tests - 1 test function, 0 errors, 0 failures
Number of test functions: 1
Number of errors: 0
Number of failures: 0
>
> proc.time()
user system elapsed
2.171 0.152 2.304
systemPipeRdata.Rcheck/systemPipeRdata-Ex.timings
| name | user | system | elapsed | |
| availableWF | 0.001 | 0.000 | 0.001 | |
| genWorkenvir | 0.003 | 0.000 | 0.003 | |
| getSubsetReads | 0 | 0 | 0 | |
| pathList | 0.003 | 0.001 | 0.002 | |