| Back to Build/check report for BioC 3.16 experimental data |
|
This page was generated on 2023-04-11 14:50:27 -0400 (Tue, 11 Apr 2023).
| Hostname | OS | Arch (*) | R version | Installed pkgs |
|---|---|---|---|---|
| nebbiolo2 | Linux (Ubuntu 20.04.5 LTS) | x86_64 | 4.2.3 (2023-03-15) -- "Shortstop Beagle" | 4502 |
| Click on any hostname to see more info about the system (e.g. compilers) (*) as reported by 'uname -p', except on Windows and Mac OS X | ||||
|
To the developers/maintainers of the prostateCancerCamcap package: Make sure to use the following settings in order to reproduce any error or warning you see on this page. |
| Package 289/416 | Hostname | OS / Arch | INSTALL | BUILD | CHECK | ||||||||
| prostateCancerCamcap 1.26.0 (landing page) Mark Dunning
| nebbiolo2 | Linux (Ubuntu 20.04.5 LTS) / x86_64 | OK | OK | WARNINGS | ||||||||
| Package: prostateCancerCamcap |
| Version: 1.26.0 |
| Command: /home/biocbuild/bbs-3.16-bioc/R/bin/R CMD build --keep-empty-dirs --no-resave-data prostateCancerCamcap |
| StartedAt: 2023-04-11 10:48:57 -0400 (Tue, 11 Apr 2023) |
| EndedAt: 2023-04-11 10:49:18 -0400 (Tue, 11 Apr 2023) |
| EllapsedTime: 21.6 seconds |
| RetCode: 0 |
| Status: OK |
| PackageFile: prostateCancerCamcap_1.26.0.tar.gz |
| PackageFileSize: 46.82 MiB |
############################################################################## ############################################################################## ### ### Running command: ### ### /home/biocbuild/bbs-3.16-bioc/R/bin/R CMD build --keep-empty-dirs --no-resave-data prostateCancerCamcap ### ############################################################################## ############################################################################## * checking for file ‘prostateCancerCamcap/DESCRIPTION’ ... OK * preparing ‘prostateCancerCamcap’: * checking DESCRIPTION meta-information ... OK * installing the package to build vignettes * creating vignettes ... OK * checking for LF line-endings in source and make files and shell scripts * checking for empty or unneeded directories * building ‘prostateCancerCamcap_1.26.0.tar.gz’