| Back to Build/check report for BioC 3.16 experimental data |
|
This page was generated on 2023-04-11 14:50:27 -0400 (Tue, 11 Apr 2023).
| Hostname | OS | Arch (*) | R version | Installed pkgs |
|---|---|---|---|---|
| nebbiolo2 | Linux (Ubuntu 20.04.5 LTS) | x86_64 | 4.2.3 (2023-03-15) -- "Shortstop Beagle" | 4502 |
| Click on any hostname to see more info about the system (e.g. compilers) (*) as reported by 'uname -p', except on Windows and Mac OS X | ||||
|
To the developers/maintainers of the pRolocdata package: Make sure to use the following settings in order to reproduce any error or warning you see on this page. |
| Package 288/416 | Hostname | OS / Arch | INSTALL | BUILD | CHECK | ||||||||
| pRolocdata 1.36.0 (landing page) Laurent Gatto
| nebbiolo2 | Linux (Ubuntu 20.04.5 LTS) / x86_64 | OK | OK | OK | ||||||||
| Package: pRolocdata |
| Version: 1.36.0 |
| Command: /home/biocbuild/bbs-3.16-bioc/R/bin/R CMD check --install=check:pRolocdata.install-out.txt --library=/home/biocbuild/bbs-3.16-bioc/R/site-library --timings pRolocdata_1.36.0.tar.gz |
| StartedAt: 2023-04-11 12:09:34 -0400 (Tue, 11 Apr 2023) |
| EndedAt: 2023-04-11 12:14:25 -0400 (Tue, 11 Apr 2023) |
| EllapsedTime: 291.1 seconds |
| RetCode: 0 |
| Status: OK |
| CheckDir: pRolocdata.Rcheck |
| Warnings: 0 |
##############################################################################
##############################################################################
###
### Running command:
###
### /home/biocbuild/bbs-3.16-bioc/R/bin/R CMD check --install=check:pRolocdata.install-out.txt --library=/home/biocbuild/bbs-3.16-bioc/R/site-library --timings pRolocdata_1.36.0.tar.gz
###
##############################################################################
##############################################################################
* using log directory ‘/home/biocbuild/bbs-3.16-data-experiment/meat/pRolocdata.Rcheck’
* using R version 4.2.3 (2023-03-15)
* using platform: x86_64-pc-linux-gnu (64-bit)
* using session charset: UTF-8
* checking for file ‘pRolocdata/DESCRIPTION’ ... OK
* checking extension type ... Package
* this is package ‘pRolocdata’ version ‘1.36.0’
* package encoding: UTF-8
* checking package namespace information ... OK
* checking package dependencies ... OK
* checking if this is a source package ... OK
* checking if there is a namespace ... OK
* checking for hidden files and directories ... OK
* checking for portable file names ... OK
* checking for sufficient/correct file permissions ... OK
* checking whether package ‘pRolocdata’ can be installed ... OK
* checking installed package size ... NOTE
installed size is 587.1Mb
sub-directories of 1Mb or more:
data 180.9Mb
extdata 405.6Mb
* checking package directory ... OK
* checking DESCRIPTION meta-information ... OK
* checking top-level files ... OK
* checking for left-over files ... OK
* checking index information ... OK
* checking package subdirectories ... OK
* checking R files for non-ASCII characters ... OK
* checking R files for syntax errors ... OK
* checking whether the package can be loaded ... OK
* checking whether the package can be loaded with stated dependencies ... OK
* checking whether the package can be unloaded cleanly ... OK
* checking whether the namespace can be loaded with stated dependencies ... OK
* checking whether the namespace can be unloaded cleanly ... OK
* checking loading without being on the library search path ... OK
* checking dependencies in R code ... OK
* checking S3 generic/method consistency ... OK
* checking replacement functions ... OK
* checking foreign function calls ... OK
* checking R code for possible problems ... OK
* checking Rd files ... OK
* checking Rd metadata ... OK
* checking Rd cross-references ... OK
* checking for missing documentation entries ... OK
* checking for code/documentation mismatches ... OK
* checking Rd \usage sections ... OK
* checking Rd contents ... OK
* checking for unstated dependencies in examples ... OK
* checking contents of ‘data’ directory ... OK
* checking data for non-ASCII characters ... NOTE
Note: found 22 marked UTF-8 strings
* checking data for ASCII and uncompressed saves ... OK
* checking examples ... OK
Examples with CPU (user + system) or elapsed time > 5s
user system elapsed
thpLOPIT2021 9.814 0.228 10.043
krahmer2018pcp 7.993 0.376 8.369
Shin2020 6.688 0.430 7.219
* checking for unstated dependencies in ‘tests’ ... OK
* checking tests ...
Running ‘testthat.R’
OK
* checking PDF version of manual ... OK
* DONE
Status: 2 NOTEs
See
‘/home/biocbuild/bbs-3.16-data-experiment/meat/pRolocdata.Rcheck/00check.log’
for details.
pRolocdata.Rcheck/00install.out
############################################################################## ############################################################################## ### ### Running command: ### ### /home/biocbuild/bbs-3.16-bioc/R/bin/R CMD INSTALL pRolocdata ### ############################################################################## ############################################################################## * installing to library ‘/home/biocbuild/bbs-3.16-bioc/R/site-library’ * installing *source* package ‘pRolocdata’ ... ** using staged installation ** R ** data ** inst ** byte-compile and prepare package for lazy loading ** help *** installing help indices ** building package indices ** testing if installed package can be loaded from temporary location ** testing if installed package can be loaded from final location ** testing if installed package keeps a record of temporary installation path * DONE (pRolocdata)
pRolocdata.Rcheck/tests/testthat.Rout
R version 4.2.3 (2023-03-15) -- "Shortstop Beagle"
Copyright (C) 2023 The R Foundation for Statistical Computing
Platform: x86_64-pc-linux-gnu (64-bit)
R is free software and comes with ABSOLUTELY NO WARRANTY.
You are welcome to redistribute it under certain conditions.
Type 'license()' or 'licence()' for distribution details.
R is a collaborative project with many contributors.
Type 'contributors()' for more information and
'citation()' on how to cite R or R packages in publications.
Type 'demo()' for some demos, 'help()' for on-line help, or
'help.start()' for an HTML browser interface to help.
Type 'q()' to quit R.
> # setting R_TESTS to empty string because of
> # https://github.com/hadley/testthat/issues/144
> # revert this when that issue in R is fixed.
> Sys.setenv("R_TESTS" = "")
> library(testthat)
> library(MSnbase)
Loading required package: BiocGenerics
Attaching package: 'BiocGenerics'
The following objects are masked from 'package:stats':
IQR, mad, sd, var, xtabs
The following objects are masked from 'package:base':
Filter, Find, Map, Position, Reduce, anyDuplicated, aperm, append,
as.data.frame, basename, cbind, colnames, dirname, do.call,
duplicated, eval, evalq, get, grep, grepl, intersect, is.unsorted,
lapply, mapply, match, mget, order, paste, pmax, pmax.int, pmin,
pmin.int, rank, rbind, rownames, sapply, setdiff, sort, table,
tapply, union, unique, unsplit, which.max, which.min
Loading required package: Biobase
Welcome to Bioconductor
Vignettes contain introductory material; view with
'browseVignettes()'. To cite Bioconductor, see
'citation("Biobase")', and for packages 'citation("pkgname")'.
Loading required package: mzR
Loading required package: Rcpp
Loading required package: S4Vectors
Loading required package: stats4
Attaching package: 'S4Vectors'
The following objects are masked from 'package:base':
I, expand.grid, unname
Loading required package: ProtGenerics
Attaching package: 'ProtGenerics'
The following object is masked from 'package:stats':
smooth
This is MSnbase version 2.24.2
Visit https://lgatto.github.io/MSnbase/ to get started.
Attaching package: 'MSnbase'
The following object is masked from 'package:base':
trimws
> library(pRolocdata)
This is pRolocdata version 1.36.0.
Use 'pRolocdata()' to list available data sets.
>
> test_check("pRolocdata")
[ FAIL 0 | WARN 0 | SKIP 0 | PASS 140 ]
>
> proc.time()
user system elapsed
31.316 1.304 32.604
pRolocdata.Rcheck/pRolocdata-Ex.timings
| name | user | system | elapsed | |
| E14TG2a | 0.029 | 0.004 | 0.033 | |
| Shin2020 | 6.688 | 0.430 | 7.219 | |
| ToxoLopit | 0.444 | 0.024 | 0.468 | |
| andreyev2010 | 1.145 | 0.132 | 1.277 | |
| andy2011 | 0.040 | 0.012 | 0.051 | |
| at_chloro | 0.080 | 0.000 | 0.079 | |
| baers2018 | 0.307 | 0.004 | 0.310 | |
| beltran2016 | 0.464 | 0.020 | 0.484 | |
| courtland2020 | 0.480 | 0.024 | 0.504 | |
| davies2018 | 0.275 | 0.000 | 0.276 | |
| dunkley2006 | 0.005 | 0.004 | 0.009 | |
| fabre2015 | 0.235 | 0.008 | 0.243 | |
| foster2006 | 0.025 | 0.000 | 0.024 | |
| groen2014 | 0.749 | 0.084 | 0.833 | |
| hall2009 | 0.143 | 0.004 | 0.148 | |
| havugimana2012 | 0.104 | 0.012 | 0.116 | |
| hirst2018 | 1.086 | 0.128 | 1.215 | |
| hyperLOPIT2015 | 2.549 | 0.104 | 2.653 | |
| hyperLOPITU2OS2017 | 1.080 | 0.024 | 1.104 | |
| itzhak2016 | 0.517 | 0.004 | 0.521 | |
| itzhak2017 | 1.453 | 0.024 | 1.476 | |
| itzhak2017dynamic | 1.011 | 0.024 | 1.035 | |
| kirkwood2013 | 0.035 | 0.000 | 0.036 | |
| kozik2020 | 0.187 | 0.012 | 0.199 | |
| krahmer2018pcp | 7.993 | 0.376 | 8.369 | |
| kristensen2012 | 0.014 | 0.004 | 0.018 | |
| lopimsSyn2 | 0.511 | 0.012 | 0.539 | |
| mulvey2015 | 2.378 | 0.092 | 2.470 | |
| nikolovski2012 | 0.240 | 0.004 | 0.244 | |
| nikolovski2014 | 0.287 | 0.000 | 0.287 | |
| orre2019 | 0.329 | 0.004 | 0.332 | |
| pRolocdata | 0.007 | 0.009 | 0.016 | |
| pRolocmetadata | 0.014 | 0.000 | 0.013 | |
| rodriguez2012r1 | 0.512 | 0.000 | 0.513 | |
| stekhoven2014 | 0.165 | 0.008 | 0.173 | |
| tan2009 | 0.011 | 0.000 | 0.011 | |
| thpLOPIT2021 | 9.814 | 0.228 | 10.043 | |
| thpTimecourse2021 | 0.106 | 0.007 | 0.113 | |
| trotter2010 | 0.281 | 0.009 | 0.289 | |
| yeast | 0.294 | 0.000 | 0.294 | |