| Back to Build/check report for BioC 3.16 experimental data |
|
This page was generated on 2023-04-11 14:50:26 -0400 (Tue, 11 Apr 2023).
| Hostname | OS | Arch (*) | R version | Installed pkgs |
|---|---|---|---|---|
| nebbiolo2 | Linux (Ubuntu 20.04.5 LTS) | x86_64 | 4.2.3 (2023-03-15) -- "Shortstop Beagle" | 4502 |
| Click on any hostname to see more info about the system (e.g. compilers) (*) as reported by 'uname -p', except on Windows and Mac OS X | ||||
|
To the developers/maintainers of the dressCheck package: Make sure to use the following settings in order to reproduce any error or warning you see on this page. |
| Package 100/416 | Hostname | OS / Arch | INSTALL | BUILD | CHECK | ||||||||
| dressCheck 0.36.0 (landing page) Vincent Carey
| nebbiolo2 | Linux (Ubuntu 20.04.5 LTS) / x86_64 | OK | OK | OK | ||||||||
| Package: dressCheck |
| Version: 0.36.0 |
| Command: /home/biocbuild/bbs-3.16-bioc/R/bin/R CMD check --install=check:dressCheck.install-out.txt --library=/home/biocbuild/bbs-3.16-bioc/R/site-library --timings dressCheck_0.36.0.tar.gz |
| StartedAt: 2023-04-11 11:41:13 -0400 (Tue, 11 Apr 2023) |
| EndedAt: 2023-04-11 11:41:55 -0400 (Tue, 11 Apr 2023) |
| EllapsedTime: 42.4 seconds |
| RetCode: 0 |
| Status: OK |
| CheckDir: dressCheck.Rcheck |
| Warnings: 0 |
##############################################################################
##############################################################################
###
### Running command:
###
### /home/biocbuild/bbs-3.16-bioc/R/bin/R CMD check --install=check:dressCheck.install-out.txt --library=/home/biocbuild/bbs-3.16-bioc/R/site-library --timings dressCheck_0.36.0.tar.gz
###
##############################################################################
##############################################################################
* using log directory ‘/home/biocbuild/bbs-3.16-data-experiment/meat/dressCheck.Rcheck’
* using R version 4.2.3 (2023-03-15)
* using platform: x86_64-pc-linux-gnu (64-bit)
* using session charset: UTF-8
* checking for file ‘dressCheck/DESCRIPTION’ ... OK
* this is package ‘dressCheck’ version ‘0.36.0’
* checking package namespace information ... OK
* checking package dependencies ... OK
* checking if this is a source package ... OK
* checking if there is a namespace ... OK
* checking for hidden files and directories ... OK
* checking for portable file names ... OK
* checking for sufficient/correct file permissions ... OK
* checking whether package ‘dressCheck’ can be installed ... OK
* checking installed package size ... NOTE
installed size is 65.8Mb
sub-directories of 1Mb or more:
data 54.4Mb
sampleRemap 11.2Mb
* checking package directory ... OK
* checking ‘build’ directory ... OK
* checking DESCRIPTION meta-information ... NOTE
Malformed Description field: should contain one or more complete sentences.
* checking top-level files ... OK
* checking for left-over files ... OK
* checking index information ... OK
* checking package subdirectories ... OK
* checking whether the package can be loaded ... OK
* checking whether the package can be loaded with stated dependencies ... OK
* checking whether the package can be unloaded cleanly ... OK
* checking whether the namespace can be loaded with stated dependencies ... OK
* checking whether the namespace can be unloaded cleanly ... OK
* checking loading without being on the library search path ... OK
* checking Rd files ... NOTE
prepare_Rd: DrAsGiven.Rd:69-71: Dropping empty section \details
prepare_Rd: DrAsGiven.Rd:72-74: Dropping empty section \source
prepare_Rd: DrAsGiven.Rd:75-77: Dropping empty section \references
prepare_Rd: E2F3sig.probes.Rd:16-18: Dropping empty section \details
prepare_Rd: E2F3sig.probes.Rd:19-21: Dropping empty section \source
prepare_Rd: E2F3sig.probes.Rd:22-24: Dropping empty section \references
prepare_Rd: Src.probes.Rd:17-19: Dropping empty section \details
prepare_Rd: Src.probes.Rd:20-22: Dropping empty section \source
prepare_Rd: Src.probes.Rd:23-25: Dropping empty section \references
prepare_Rd: c119.Rd:97-99: Dropping empty section \source
prepare_Rd: c119.Rd:100-102: Dropping empty section \references
prepare_Rd: corrp116.Rd:71-73: Dropping empty section \details
prepare_Rd: corrp116.Rd:74-76: Dropping empty section \source
prepare_Rd: corrp116.Rd:77-79: Dropping empty section \references
prepare_Rd: e2f3Wts.Rd:19-21: Dropping empty section \details
prepare_Rd: e2f3Wts.Rd:22-24: Dropping empty section \source
prepare_Rd: e2f3Wts.Rd:25-27: Dropping empty section \references
prepare_Rd: platsigprobes.Rd:17-19: Dropping empty section \details
prepare_Rd: platsigprobes.Rd:20-22: Dropping empty section \source
prepare_Rd: platsigprobes.Rd:23-25: Dropping empty section \references
prepare_Rd: pwLines.Rd:127-129: Dropping empty section \details
prepare_Rd: pwLines.Rd:130-132: Dropping empty section \source
prepare_Rd: pwLines.Rd:133-135: Dropping empty section \references
prepare_Rd: srcWts.Rd:19-21: Dropping empty section \details
prepare_Rd: srcWts.Rd:22-24: Dropping empty section \source
prepare_Rd: srcWts.Rd:25-27: Dropping empty section \references
* checking Rd metadata ... OK
* checking Rd cross-references ... OK
* checking for missing documentation entries ... OK
* checking for code/documentation mismatches ... OK
* checking Rd \usage sections ... OK
* checking Rd contents ... OK
* checking for unstated dependencies in examples ... OK
* checking contents of ‘data’ directory ... OK
* checking data for non-ASCII characters ... OK
* checking data for ASCII and uncompressed saves ... OK
* checking files in ‘vignettes’ ... OK
* checking examples ... OK
* checking for unstated dependencies in vignettes ... OK
* checking package vignettes in ‘inst/doc’ ... OK
* checking running R code from vignettes ...
‘short.Rnw’... OK
OK
* checking re-building of vignette outputs ... OK
* checking PDF version of manual ... OK
* DONE
Status: 3 NOTEs
See
‘/home/biocbuild/bbs-3.16-data-experiment/meat/dressCheck.Rcheck/00check.log’
for details.
dressCheck.Rcheck/00install.out
############################################################################## ############################################################################## ### ### Running command: ### ### /home/biocbuild/bbs-3.16-bioc/R/bin/R CMD INSTALL dressCheck ### ############################################################################## ############################################################################## * installing to library ‘/home/biocbuild/bbs-3.16-bioc/R/site-library’ * installing *source* package ‘dressCheck’ ... ** using staged installation ** data ** inst ** help *** installing help indices ** building package indices ** installing vignettes ** testing if installed package can be loaded from temporary location ** testing if installed package can be loaded from final location ** testing if installed package keeps a record of temporary installation path * DONE (dressCheck)
dressCheck.Rcheck/dressCheck-Ex.timings
| name | user | system | elapsed | |
| DrAsGiven | 0.718 | 0.024 | 0.742 | |
| E2F3sig.probes | 0.000 | 0.000 | 0.001 | |
| Src.probes | 0.001 | 0.000 | 0.001 | |
| c119 | 1.483 | 0.044 | 1.527 | |
| corrp116 | 0.723 | 0.027 | 0.750 | |
| e2f3Wts | 0.001 | 0.001 | 0.001 | |
| platsigprobes | 0.001 | 0.000 | 0.001 | |
| pwLines | 1.219 | 0.036 | 1.254 | |
| srcWts | 0.001 | 0.000 | 0.001 | |