| Back to Build/check report for BioC 3.16 experimental data |
|
This page was generated on 2023-04-11 14:50:26 -0400 (Tue, 11 Apr 2023).
| Hostname | OS | Arch (*) | R version | Installed pkgs |
|---|---|---|---|---|
| nebbiolo2 | Linux (Ubuntu 20.04.5 LTS) | x86_64 | 4.2.3 (2023-03-15) -- "Shortstop Beagle" | 4502 |
| Click on any hostname to see more info about the system (e.g. compilers) (*) as reported by 'uname -p', except on Windows and Mac OS X | ||||
|
To the developers/maintainers of the derfinderData package: Make sure to use the following settings in order to reproduce any error or warning you see on this page. |
| Package 90/416 | Hostname | OS / Arch | INSTALL | BUILD | CHECK | ||||||||
| derfinderData 2.16.0 (landing page) Leonardo Collado-Torres
| nebbiolo2 | Linux (Ubuntu 20.04.5 LTS) / x86_64 | OK | OK | OK | ||||||||
| Package: derfinderData |
| Version: 2.16.0 |
| Command: /home/biocbuild/bbs-3.16-bioc/R/bin/R CMD build --keep-empty-dirs --no-resave-data derfinderData |
| StartedAt: 2023-04-11 10:30:49 -0400 (Tue, 11 Apr 2023) |
| EndedAt: 2023-04-11 10:30:56 -0400 (Tue, 11 Apr 2023) |
| EllapsedTime: 7.0 seconds |
| RetCode: 0 |
| Status: OK |
| PackageFile: derfinderData_2.16.0.tar.gz |
| PackageFileSize: 25.55 MiB |
##############################################################################
##############################################################################
###
### Running command:
###
### /home/biocbuild/bbs-3.16-bioc/R/bin/R CMD build --keep-empty-dirs --no-resave-data derfinderData
###
##############################################################################
##############################################################################
* checking for file ‘derfinderData/DESCRIPTION’ ... OK
* preparing ‘derfinderData’:
* checking DESCRIPTION meta-information ... OK
* installing the package to build vignettes
* creating vignettes ... OK
* checking for LF line-endings in source and make files and shell scripts
* checking for empty or unneeded directories
NB: this package now depends on R (>= 3.5.0)
WARNING: Added dependency on R >= 3.5.0 because serialized objects in
serialize/load version 3 cannot be read in older versions of R.
File(s) containing such objects:
‘derfinderData/inst/extdata/fullCov/fullCovA1C.RData’
‘derfinderData/inst/extdata/fullCov/fullCovAMY.RData’
* building ‘derfinderData_2.16.0.tar.gz’