| Back to Build/check report for BioC 3.16 experimental data |
|
This page was generated on 2023-04-11 14:50:26 -0400 (Tue, 11 Apr 2023).
| Hostname | OS | Arch (*) | R version | Installed pkgs |
|---|---|---|---|---|
| nebbiolo2 | Linux (Ubuntu 20.04.5 LTS) | x86_64 | 4.2.3 (2023-03-15) -- "Shortstop Beagle" | 4502 |
| Click on any hostname to see more info about the system (e.g. compilers) (*) as reported by 'uname -p', except on Windows and Mac OS X | ||||
|
To the developers/maintainers of the curatedBladderData package: Make sure to use the following settings in order to reproduce any error or warning you see on this page. |
| Package 80/416 | Hostname | OS / Arch | INSTALL | BUILD | CHECK | ||||||||
| curatedBladderData 1.34.0 (landing page) Markus Riester
| nebbiolo2 | Linux (Ubuntu 20.04.5 LTS) / x86_64 | OK | OK | OK | ||||||||
| Package: curatedBladderData |
| Version: 1.34.0 |
| Command: /home/biocbuild/bbs-3.16-bioc/R/bin/R CMD build --keep-empty-dirs --no-resave-data curatedBladderData |
| StartedAt: 2023-04-11 10:28:01 -0400 (Tue, 11 Apr 2023) |
| EndedAt: 2023-04-11 10:28:42 -0400 (Tue, 11 Apr 2023) |
| EllapsedTime: 40.5 seconds |
| RetCode: 0 |
| Status: OK |
| PackageFile: curatedBladderData_1.34.0.tar.gz |
| PackageFileSize: 74.92 MiB |
############################################################################## ############################################################################## ### ### Running command: ### ### /home/biocbuild/bbs-3.16-bioc/R/bin/R CMD build --keep-empty-dirs --no-resave-data curatedBladderData ### ############################################################################## ############################################################################## * checking for file ‘curatedBladderData/DESCRIPTION’ ... OK * preparing ‘curatedBladderData’: * checking DESCRIPTION meta-information ... OK * installing the package to process help pages * building the PDF package manual * creating vignettes ... OK * checking for LF line-endings in source and make files and shell scripts * checking for empty or unneeded directories * looking to see if a ‘data/datalist’ file should be added * building ‘curatedBladderData_1.34.0.tar.gz’